BEGIN:VCALENDAR
VERSION:2.0
PRODID:-//Winston Downs Community Association - ECPv6.15.20//NONSGML v1.0//EN
CALSCALE:GREGORIAN
METHOD:PUBLISH
X-ORIGINAL-URL:https://winstondowns.org
X-WR-CALDESC:Events for Winston Downs Community Association
REFRESH-INTERVAL;VALUE=DURATION:PT1H
X-Robots-Tag:noindex
X-PUBLISHED-TTL:PT1H
BEGIN:VTIMEZONE
TZID:America/Denver
BEGIN:DAYLIGHT
TZOFFSETFROM:-0700
TZOFFSETTO:-0600
TZNAME:MDT
DTSTART:20250309T090000
END:DAYLIGHT
BEGIN:STANDARD
TZOFFSETFROM:-0600
TZOFFSETTO:-0700
TZNAME:MST
DTSTART:20251102T080000
END:STANDARD
BEGIN:DAYLIGHT
TZOFFSETFROM:-0700
TZOFFSETTO:-0600
TZNAME:MDT
DTSTART:20260308T090000
END:DAYLIGHT
BEGIN:STANDARD
TZOFFSETFROM:-0600
TZOFFSETTO:-0700
TZNAME:MST
DTSTART:20261101T080000
END:STANDARD
BEGIN:DAYLIGHT
TZOFFSETFROM:-0700
TZOFFSETTO:-0600
TZNAME:MDT
DTSTART:20270314T090000
END:DAYLIGHT
BEGIN:STANDARD
TZOFFSETFROM:-0600
TZOFFSETTO:-0700
TZNAME:MST
DTSTART:20271107T080000
END:STANDARD
END:VTIMEZONE
BEGIN:VEVENT
DTSTART;TZID=America/Denver:20260509T100000
DTEND;TZID=America/Denver:20260509T153000
DTSTAMP:20260423T115650
CREATED:20260404T221830Z
LAST-MODIFIED:20260404T221830Z
UID:8194-1778320800-1778340600@winstondowns.org
SUMMARY:Announcing  Denver DA Community Academy Spring 2026
DESCRIPTION:Join Us for Our Next Denver DA Community Academy\nOur next Community Academy is scheduled for Saturday\, May 9th\, 10:00 a.m. – 3:30 p.m. and will be held at the Blair Caldwell Branch Library\, 2401 Welton Street in Denver. \nPlease join us as DA Walsh shares his vision and priorities for the Denver District Attorney’s Office. Additionally\, you’ll hear from several other key members of the DA’s Office\, who will explain what they do and why they do it\, and provide a detailed look at some major cases that we have recently prosecuted. There will also be plenty of time throughout the day for questions from audience members. It is our hope that\, at the end of the day\, you’ll leave with a greater understanding of the criminal justice system and the many dedicated people who make it work. \nPlease join us. Register online here\n\n\n\n\n\n\n\n\n\n\n\n\n\n\n\n\n\n\n\n\n\n\n\n\n\n\n\n\n\n\n\n\n\n\n\n\n\n\nHere is what our attendees from previous sessions had to say: \n“Topics\, their times\, and the speakers were very good. These academies just keep getting better & better!”\n“Denver is extremely fortunate to have such a qualified DA staff. The day of presentations was one of the best trainings I’ve attended.”\n“Thank you for hosting a terrific community academy to educate the public about the important work and detailed processes conducted on a daily basis.”\n“Great space for the meeting — welcoming team — John met every attendee.”\n\n\n\n\n\n\n\n\n\n\n\n\n\n\n\nOur attendees are always attentive and engaged \n\n\n\n\n\n\n\n\n\n\n\n\n\n\n\n\n\n\n\n\n\n\n\n\n\nAssistant DA Darryl Shockley gives an overview of the DA’s office \n\n\n\n\n\n\n\n\n\n\n\n\n\n\n\n\n\n\n\n\n\n\n\n\n\nAnthony Santos & Kelsey Tipps shared the insights into prosecuting the Ma Kaing case.
URL:https://winstondowns.org/event/announcing-denver-da-community-academy-spring-2026/
LOCATION:Blair Caldwell Branch Library\, 2401 Welton Street\, Denver\, CO
CATEGORIES:Community Action Day,Safety & Traffic
END:VEVENT
END:VCALENDAR