BEGIN:VCALENDAR
VERSION:2.0
PRODID:-//Winston Downs Community Association - ECPv6.15.20//NONSGML v1.0//EN
CALSCALE:GREGORIAN
METHOD:PUBLISH
X-ORIGINAL-URL:https://winstondowns.org
X-WR-CALDESC:Events for Winston Downs Community Association
REFRESH-INTERVAL;VALUE=DURATION:PT1H
X-Robots-Tag:noindex
X-PUBLISHED-TTL:PT1H
BEGIN:VTIMEZONE
TZID:America/Denver
BEGIN:DAYLIGHT
TZOFFSETFROM:-0700
TZOFFSETTO:-0600
TZNAME:MDT
DTSTART:20220313T090000
END:DAYLIGHT
BEGIN:STANDARD
TZOFFSETFROM:-0600
TZOFFSETTO:-0700
TZNAME:MST
DTSTART:20221106T080000
END:STANDARD
BEGIN:DAYLIGHT
TZOFFSETFROM:-0700
TZOFFSETTO:-0600
TZNAME:MDT
DTSTART:20230312T090000
END:DAYLIGHT
BEGIN:STANDARD
TZOFFSETFROM:-0600
TZOFFSETTO:-0700
TZNAME:MST
DTSTART:20231105T080000
END:STANDARD
BEGIN:DAYLIGHT
TZOFFSETFROM:-0700
TZOFFSETTO:-0600
TZNAME:MDT
DTSTART:20240310T090000
END:DAYLIGHT
BEGIN:STANDARD
TZOFFSETFROM:-0600
TZOFFSETTO:-0700
TZNAME:MST
DTSTART:20241103T080000
END:STANDARD
END:VTIMEZONE
BEGIN:VEVENT
DTSTART;TZID=America/Denver:20230512T080000
DTEND;TZID=America/Denver:20230512T160000
DTSTAMP:20260425T122424
CREATED:20230417T230844Z
LAST-MODIFIED:20230417T230844Z
UID:3999-1683878400-1683907200@winstondowns.org
SUMMARY:Botanic Gardens Spring Plant Sale
DESCRIPTION:Spring Plant Sale\n\nKick off your gardening season at our annual Spring Plant Sale! \n\n\n\nMake Reservations for Spring Plant Sale\n\n\n\n\n\nFriday & Saturday\, May 12 & 13\, 8 a.m. – 4 p.m.\n\n\n\n\nYork Street Location\n\n\n1007 York Street\n\nDenver\, CO 80206 Map\n\n\n720-865-3500\n\n\n\n\n\n\n\n\n\n\n\n\n\nWhether it’s your first ever houseplant or you’re planting a whole garden\, there’s something for every gardener at our annual Spring Plant Sale! Get advice and inspiration from our expert horticulturalists while you browse 15 different plant divisions. \n  \nImportant details: \n\nLast entry is 4 p.m. The event ends at 5 p.m.\nArrive early for the best selection. Admission is free\, but reservations are required.\nMember-only shopping is available from 8-9 a.m. Reservations are required.\n\nPlan your visit: \n\nTicket reservations subject to availability; membership does not guarantee ticket to event.\nMembers receive 10 percent off all purchases (must present proof of active membership).\nMap of Spring Plant Sale (también en español)\nBring your own wagon\, cart or wheelbarrow to transport plants.\nCredit/debit cards and checks are the only accepted forms of payment.\nThe Boettcher Memorial Tropical Conservatory and the Science Pyramid are closed during Spring Plant Sale.\n\nHere is the shopping guide and sale information\, including a list of plants for sale.
URL:https://winstondowns.org/event/botanic-gardens-spring-plant-sale/
CATEGORIES:Area Exhibitions-Public
END:VEVENT
END:VCALENDAR