BEGIN:VCALENDAR
VERSION:2.0
PRODID:-//Winston Downs Community Association - ECPv6.15.20//NONSGML v1.0//EN
CALSCALE:GREGORIAN
METHOD:PUBLISH
X-ORIGINAL-URL:https://winstondowns.org
X-WR-CALDESC:Events for Winston Downs Community Association
REFRESH-INTERVAL;VALUE=DURATION:PT1H
X-Robots-Tag:noindex
X-PUBLISHED-TTL:PT1H
BEGIN:VTIMEZONE
TZID:America/Denver
BEGIN:DAYLIGHT
TZOFFSETFROM:-0700
TZOFFSETTO:-0600
TZNAME:MDT
DTSTART:20240310T090000
END:DAYLIGHT
BEGIN:STANDARD
TZOFFSETFROM:-0600
TZOFFSETTO:-0700
TZNAME:MST
DTSTART:20241103T080000
END:STANDARD
BEGIN:DAYLIGHT
TZOFFSETFROM:-0700
TZOFFSETTO:-0600
TZNAME:MDT
DTSTART:20250309T090000
END:DAYLIGHT
BEGIN:STANDARD
TZOFFSETFROM:-0600
TZOFFSETTO:-0700
TZNAME:MST
DTSTART:20251102T080000
END:STANDARD
BEGIN:DAYLIGHT
TZOFFSETFROM:-0700
TZOFFSETTO:-0600
TZNAME:MDT
DTSTART:20260308T090000
END:DAYLIGHT
BEGIN:STANDARD
TZOFFSETFROM:-0600
TZOFFSETTO:-0700
TZNAME:MST
DTSTART:20261101T080000
END:STANDARD
END:VTIMEZONE
BEGIN:VEVENT
DTSTART;TZID=America/Denver:20250311T100000
DTEND;TZID=America/Denver:20250311T200000
DTSTAMP:20260424T075541
CREATED:20250307T004205Z
LAST-MODIFIED:20250307T004205Z
UID:6692-1741687200-1741723200@winstondowns.org
SUMMARY:Free Day at Denver Art Museum
DESCRIPTION:Free Day at the DAM \nTuesday\, March 11\, 10am – 8pm \n\n\n\n\n\n\n\n\n\n\n\n\n\n\n\n\n\n\n\n\n\n\n\n\nExplore the Denver Art Museum for free on Tuesday\, March 11\, from 10 a.m. to 8 p.m. Visit dozens of exhibitions and galleries\, including the brand-new Lunar Phases: Korean Moon Jars\, Sustained! The Persistent Genius of Indigenous Art\, Dawoud Bey: Street Portraits\, and The Life and Art of Tokio Ueyama. And unleash your own creativity in the Wild Studio\, Creative Hub and other hands-on spaces throughout the museum. \n  \nFree Days at the DAM are made possible by Your 6 Front Range Toyota Stores and the voters who support the Scientific and Cultural Facilities District (SCFD). What else can you experience on a Free Day?  Learn more about what’s included with a general admission ticket here!
URL:https://winstondowns.org/event/free-day-at-denver-art-museum/
LOCATION:Denver Art Museum / DAM\, 100 W. 14th Avenue Parkway\,\, Denver\, CO
CATEGORIES:Area Exhibitions-Public
END:VEVENT
END:VCALENDAR