BEGIN:VCALENDAR
VERSION:2.0
PRODID:-//Winston Downs Community Association - ECPv6.15.20//NONSGML v1.0//EN
CALSCALE:GREGORIAN
METHOD:PUBLISH
X-WR-CALNAME:Winston Downs Community Association
X-ORIGINAL-URL:https://winstondowns.org
X-WR-CALDESC:Events for Winston Downs Community Association
REFRESH-INTERVAL;VALUE=DURATION:PT1H
X-Robots-Tag:noindex
X-PUBLISHED-TTL:PT1H
BEGIN:VTIMEZONE
TZID:America/Denver
BEGIN:DAYLIGHT
TZOFFSETFROM:-0700
TZOFFSETTO:-0600
TZNAME:MDT
DTSTART:20230312T090000
END:DAYLIGHT
BEGIN:STANDARD
TZOFFSETFROM:-0600
TZOFFSETTO:-0700
TZNAME:MST
DTSTART:20231105T080000
END:STANDARD
BEGIN:DAYLIGHT
TZOFFSETFROM:-0700
TZOFFSETTO:-0600
TZNAME:MDT
DTSTART:20240310T090000
END:DAYLIGHT
BEGIN:STANDARD
TZOFFSETFROM:-0600
TZOFFSETTO:-0700
TZNAME:MST
DTSTART:20241103T080000
END:STANDARD
BEGIN:DAYLIGHT
TZOFFSETFROM:-0700
TZOFFSETTO:-0600
TZNAME:MDT
DTSTART:20250309T090000
END:DAYLIGHT
BEGIN:STANDARD
TZOFFSETFROM:-0600
TZOFFSETTO:-0700
TZNAME:MST
DTSTART:20251102T080000
END:STANDARD
END:VTIMEZONE
BEGIN:VEVENT
DTSTART;TZID=America/Denver:20241123T080000
DTEND;TZID=America/Denver:20241222T170000
DTSTAMP:20260424T142608
CREATED:20241113T200031Z
LAST-MODIFIED:20241113T200031Z
UID:6225-1732348800-1734886800@winstondowns.org
SUMMARY:Firehouse Theater Company presents Little Women play
DESCRIPTION:  Firehouse Theater Company\nFirehouse Theater Company presents Little Women starting Nov. 23 – Dec. 22. Purchase tickets here. \n7653 E  First Place (Lowry) at John Hand Theater
URL:https://winstondowns.org/event/firehouse-theater-company-presents-little-women-play/
LOCATION:Firehouse Theater Company\, 7653 E 1st Pl\, Denver\, CO 80230
CATEGORIES:Area Exhibitions-Public
END:VEVENT
BEGIN:VEVENT
DTSTART;TZID=America/Denver:20241130T080000
DTEND;TZID=America/Denver:20241130T170000
DTSTAMP:20260424T142608
CREATED:20241113T202042Z
LAST-MODIFIED:20241113T202042Z
UID:6234-1732953600-1732986000@winstondowns.org
SUMMARY:Small Business Saturday
DESCRIPTION:Small Business Saturday is November 30! \nAs you begin your holiday shopping\, remember to ‘Shop Local and Shop Small!  Great places to start include the City’s Denver Legacy Business Registry\, Visit Denver’s guide of local boutique retail\, and the Denver Black Pages among so many other local resources. Try something new or support your favorite local business this season. Learn more about Small Business Saturday.
URL:https://winstondowns.org/event/small-business-saturday/
CATEGORIES:Area Exhibitions-Public
END:VEVENT
END:VCALENDAR