BEGIN:VCALENDAR
VERSION:2.0
PRODID:-//Winston Downs Community Association - ECPv6.15.20//NONSGML v1.0//EN
CALSCALE:GREGORIAN
METHOD:PUBLISH
X-ORIGINAL-URL:https://winstondowns.org
X-WR-CALDESC:Events for Winston Downs Community Association
REFRESH-INTERVAL;VALUE=DURATION:PT1H
X-Robots-Tag:noindex
X-PUBLISHED-TTL:PT1H
BEGIN:VTIMEZONE
TZID:America/Denver
BEGIN:DAYLIGHT
TZOFFSETFROM:-0700
TZOFFSETTO:-0600
TZNAME:MDT
DTSTART:20240310T090000
END:DAYLIGHT
BEGIN:STANDARD
TZOFFSETFROM:-0600
TZOFFSETTO:-0700
TZNAME:MST
DTSTART:20241103T080000
END:STANDARD
BEGIN:DAYLIGHT
TZOFFSETFROM:-0700
TZOFFSETTO:-0600
TZNAME:MDT
DTSTART:20250309T090000
END:DAYLIGHT
BEGIN:STANDARD
TZOFFSETFROM:-0600
TZOFFSETTO:-0700
TZNAME:MST
DTSTART:20251102T080000
END:STANDARD
BEGIN:DAYLIGHT
TZOFFSETFROM:-0700
TZOFFSETTO:-0600
TZNAME:MDT
DTSTART:20260308T090000
END:DAYLIGHT
BEGIN:STANDARD
TZOFFSETFROM:-0600
TZOFFSETTO:-0700
TZNAME:MST
DTSTART:20261101T080000
END:STANDARD
BEGIN:DAYLIGHT
TZOFFSETFROM:-0700
TZOFFSETTO:-0600
TZNAME:MDT
DTSTART:20270314T090000
END:DAYLIGHT
BEGIN:STANDARD
TZOFFSETFROM:-0600
TZOFFSETTO:-0700
TZNAME:MST
DTSTART:20271107T080000
END:STANDARD
END:VTIMEZONE
BEGIN:VEVENT
DTSTART;TZID=America/Denver:20251120T160000
DTEND;TZID=America/Denver:20260104T183000
DTSTAMP:20260423T175802
CREATED:20251119T235757Z
LAST-MODIFIED:20251120T000022Z
UID:7688-1763654400-1767551400@winstondowns.org
SUMMARY:Denver Museum of Nature & Science- Winter Night Lights
DESCRIPTION:Step into a magical winter night\n\nStep into a whimsical winter wonderland where a dazzling holiday adventure comes alive. This is the Museum like you’ve never seen it before as a piece of the familiar turns into the fantastical through an immersive journey of light\, sound and surprise. \nThursday\, Nov. 20-Sunday\, Jan. 4\, 2026 \nFirst entry time 4:15 p.m. daily \n21+ Nights: Dec. 4\, Dec. 11\, Dec. 18 \n*All Magical Winter Nights ticket sales are final. Tickets are non-refundable and cannot be rescheduled. \n\nhttps://www.dmns.org/exhibitions/temporary-exhibitions/magical/
URL:https://winstondowns.org/event/denver-museum-of-nature-science-winter-night-lights/
LOCATION:Denver Museum of Nature & Science\, 2001 Colorado Blvd.\, Denver\, CO\, 80205
CATEGORIES:Area Exhibitions-Public
END:VEVENT
END:VCALENDAR