BEGIN:VCALENDAR
VERSION:2.0
PRODID:-//Winston Downs Community Association - ECPv6.15.20//NONSGML v1.0//EN
CALSCALE:GREGORIAN
METHOD:PUBLISH
X-ORIGINAL-URL:https://winstondowns.org
X-WR-CALDESC:Events for Winston Downs Community Association
REFRESH-INTERVAL;VALUE=DURATION:PT1H
X-Robots-Tag:noindex
X-PUBLISHED-TTL:PT1H
BEGIN:VTIMEZONE
TZID:America/Denver
BEGIN:DAYLIGHT
TZOFFSETFROM:-0700
TZOFFSETTO:-0600
TZNAME:MDT
DTSTART:20240310T090000
END:DAYLIGHT
BEGIN:STANDARD
TZOFFSETFROM:-0600
TZOFFSETTO:-0700
TZNAME:MST
DTSTART:20241103T080000
END:STANDARD
BEGIN:DAYLIGHT
TZOFFSETFROM:-0700
TZOFFSETTO:-0600
TZNAME:MDT
DTSTART:20250309T090000
END:DAYLIGHT
BEGIN:STANDARD
TZOFFSETFROM:-0600
TZOFFSETTO:-0700
TZNAME:MST
DTSTART:20251102T080000
END:STANDARD
BEGIN:DAYLIGHT
TZOFFSETFROM:-0700
TZOFFSETTO:-0600
TZNAME:MDT
DTSTART:20260308T090000
END:DAYLIGHT
BEGIN:STANDARD
TZOFFSETFROM:-0600
TZOFFSETTO:-0700
TZNAME:MST
DTSTART:20261101T080000
END:STANDARD
BEGIN:DAYLIGHT
TZOFFSETFROM:-0700
TZOFFSETTO:-0600
TZNAME:MDT
DTSTART:20270314T090000
END:DAYLIGHT
BEGIN:STANDARD
TZOFFSETFROM:-0600
TZOFFSETTO:-0700
TZNAME:MST
DTSTART:20271107T080000
END:STANDARD
END:VTIMEZONE
BEGIN:VEVENT
DTSTART;TZID=America/Denver:20250612T173000
DTEND;TZID=America/Denver:20250612T210000
DTSTAMP:20260425T103302
CREATED:20250309T023742Z
LAST-MODIFIED:20250611T203952Z
UID:6739-1749749400-1749762000@winstondowns.org
SUMMARY:Denver Community Film Fest - WDCA is one of the sponsors! Free - Full  as of 6/11\, but can still RSVP in hopes of no shows
DESCRIPTION:  \nDenver Community Film Screening- WDCA is one of the sponsors! Event is Free\n \n\n\n\n\n\n\n\n\n\n\n\n\n\n\n\n\n\n\n\n\n\n\n\n\n\n\n\n\n\n\n\n\n\nJoin Denver’s Inter Neighborhood Cooperation for Denver Community Film Fest Night!\nAnd\, thank you WDCA for your donation to help support this important event.📅 June 12 | 📍 Historic Holiday Theater\, 2644 W 32nd Ave\, Denver near North HS. Parking at North HS. In June\, INC\, along with a number of community groups\, is hosting a screening of Join or Die\, a thought provoking documentary on the decline of civic engagement in America\, highlighting the decreasing participation in community groups like neighborhood & civic organizations\, churches\, and more. [Watch the trailer here.]The evening includes a pre-film reception at 530pm\, screening at 630p\, and a post-film Q&A with the director and community leaders.The screening is free to Denver residents. Donations are appreciated and accepted at the door.\nWDCA is a co-sponsor of this film being shown as part of the June 12th Denver Community Film Festival. Your participation is what will make this event truly special\, and we can’t wait to bring our communities together for an incredible night centered around civic and personal connections
URL:https://winstondowns.org/event/6739/
LOCATION:Holiday Theater\, 2644 W 32nd Ave\, Denver\, CO
CATEGORIES:Area Exhibitions-Public,Denver Area Events,HOT TOPICS,Neighborhood Wide Meeting,Special Events
END:VEVENT
BEGIN:VEVENT
DTSTART;TZID=America/Denver:20250620T090000
DTEND;TZID=America/Denver:20250620T180000
DTSTAMP:20260425T103302
CREATED:20250509T001945Z
LAST-MODIFIED:20250605T212749Z
UID:7041-1750410000-1750442400@winstondowns.org
SUMMARY:One Water Day 2025 Agenda is Live!
DESCRIPTION:Just Announced: One Water Day 2025 Agenda is Live!  Tickets are $60 to attend.\n\nWe’re excited to announce the official One Water Day is now live! Join us on Friday\, June 20\, at the Denver Botanic Gardens for a full day of connection\, collaboration and conversations at the intersection of water\, sustainability and community. \nThis year’s One Water Day agenda brings together public and private leaders from across the region to explore stormwater and the urban ecosystem\, highlighting the benefits of integrated stormwater management and collaboration across utilities \nTickets to One Water Day may be purchased as an add-on to the Watershed Summit. Ticket price $60.00 \nRegistration includes access to the Watershed Summit in the afternoon\, happy hour and full access to Denver Botanic Gardens on June 20. Lunch may be purchased as an add-on to registration.\n\n\n\n\n\n\n\n\n\n\n\n\n\n\nRegister Today
URL:https://winstondowns.org/event/just-announced-one-water-day-2025-agenda-is-live/
LOCATION:Denver Botanic Gardens\, 1007 York St\, Denver\, Colorado
CATEGORIES:Area Exhibitions-Public,Community Action Day,Denver Area Events
END:VEVENT
BEGIN:VEVENT
DTSTART;TZID=America/Denver:20250710T173000
DTEND;TZID=America/Denver:20250710T203000
DTSTAMP:20260425T103302
CREATED:20250622T004613Z
LAST-MODIFIED:20250622T004613Z
UID:7244-1752168600-1752179400@winstondowns.org
SUMMARY:Movie Night at JCC - Crip Camp: A Disability Revolution
DESCRIPTION:Movie Night\n\nCelebrate 35 years of the American with Disabilities Act featuring Crip Camp: A Disability Revolution\, a powerful documentary that celebrates the #disabilityrights movement. \n Thursday\, July 10\, 2025 \n 5:30 p.m. \n Jewish Community Center\, 350 South Dahlia St.\, Denver\, CO 80246
URL:https://winstondowns.org/event/movie-night-at-jcc-crip-camp-a-disability-revolution/
LOCATION:Jewish Community Center\, 350 South Dahlia St\, Denver\, CO\, 80246
CATEGORIES:Area Exhibitions-Public,Denver Area Events
END:VEVENT
BEGIN:VEVENT
DTSTART;TZID=America/Denver:20251004T110000
DTEND;TZID=America/Denver:20251004T150000
DTSTAMP:20260425T103302
CREATED:20250925T202640Z
LAST-MODIFIED:20250925T202922Z
UID:7519-1759575600-1759590000@winstondowns.org
SUMMARY:16th Street Grand Opening October 4. 11am
DESCRIPTION:The Downtown Denver Partnership\, the City and County of Denver and RTD are thrilled to invite you to the 16th Street Grand Opening on October 4\, 2025\, to celebrate the completion of the 16th Street revitalization project\, exactly 43 years after its inaugural opening in 1982.  We’d love to invite you to join us for a momentous day of community celebration beginning at 11 a.m. as we usher in a new era for 16th Street. Highlights include: \n\n\n\nREI Scavenger Hunt throughout 16th Street\nRibbon Cutting Ceremony with a Guerrilla Fanfare Brass Band Parade & Remarks\n“Local Heroes” Music Lineup on the Main Stage with beloved Denver bands and DJs\n16th Street Deals of the Day\n16th Street Birthday Party with special treats and exclusive 16th Street merch
URL:https://winstondowns.org/event/7519/
CATEGORIES:Area Exhibitions-Public,Special Events
END:VEVENT
BEGIN:VEVENT
DTSTART;TZID=America/Denver:20251028T153000
DTEND;TZID=America/Denver:20251028T180000
DTSTAMP:20260425T103302
CREATED:20251024T015650Z
LAST-MODIFIED:20251024T015900Z
UID:7611-1761665400-1761674400@winstondowns.org
SUMMARY:Park Hill Park Opening - Open to Public
DESCRIPTION:
URL:https://winstondowns.org/event/7611/
LOCATION:Park Hill Park\, 4141 E. 35th Ave\, Denver\, CO
CATEGORIES:Area Exhibitions-Public,Community Action Day
END:VEVENT
BEGIN:VEVENT
DTSTART;TZID=America/Denver:20251120T160000
DTEND;TZID=America/Denver:20260104T183000
DTSTAMP:20260425T103302
CREATED:20251119T235757Z
LAST-MODIFIED:20251120T000022Z
UID:7688-1763654400-1767551400@winstondowns.org
SUMMARY:Denver Museum of Nature & Science- Winter Night Lights
DESCRIPTION:Step into a magical winter night\n\nStep into a whimsical winter wonderland where a dazzling holiday adventure comes alive. This is the Museum like you’ve never seen it before as a piece of the familiar turns into the fantastical through an immersive journey of light\, sound and surprise. \nThursday\, Nov. 20-Sunday\, Jan. 4\, 2026 \nFirst entry time 4:15 p.m. daily \n21+ Nights: Dec. 4\, Dec. 11\, Dec. 18 \n*All Magical Winter Nights ticket sales are final. Tickets are non-refundable and cannot be rescheduled. \n\nhttps://www.dmns.org/exhibitions/temporary-exhibitions/magical/
URL:https://winstondowns.org/event/denver-museum-of-nature-science-winter-night-lights/
LOCATION:Denver Museum of Nature & Science\, 2001 Colorado Blvd.\, Denver\, CO\, 80205
CATEGORIES:Area Exhibitions-Public
END:VEVENT
BEGIN:VEVENT
DTSTART;TZID=America/Denver:20260122T173000
DTEND;TZID=America/Denver:20260122T193000
DTSTAMP:20260425T103302
CREATED:20260112T220543Z
LAST-MODIFIED:20260112T220715Z
UID:7821-1769103000-1769110200@winstondowns.org
SUMMARY:View Final Vision for Park Hill Park (former Golf Course)
DESCRIPTION:View the Final Vision for the Park: January 22\nJoin us for an Open House at Smith Elementary School! Stop by anytime between 5:30 and 7:30 p.m. to get updates on the Park Hill Park Framework process\, including the final framework vision plan and next steps. All ages are welcome to join the discussion! \n  \n\nThursday\, January 22\, 2026\n5:30 – 7:30 PM stop by anytime\n3590 Jasmine St. Denver\, CO 80207\n\n\n\n\n\n\n\n\n\nDo you have a memorial tree at the park? \nIf you were involved in planting a memorial tree at the park before the land was owned by the City\, or know someone who was\, please reach out to Denver Parks and Recreation to learn the latest on the status of the trees and ensure we can work together as the park is built out. Please email laura.morales@denvergov.org or add your information here.\n\n\n\n\n\n\n\n\n\n\n\n\n\n\n\n\n\n\n\n\n\n\n\n\n\n\n\nLearn more about the Park Plan\n\n\n\n\n\n\n\n\n\n\n\n\n\n\n\n\nGet Updates & Join the Email List
URL:https://winstondowns.org/event/view-final-vision-for-park-hill-park-former-golf-course/
CATEGORIES:Area Exhibitions-Public,HOT TOPICS,Parks & Rec City Plan,Special Events
END:VEVENT
BEGIN:VEVENT
DTSTART;TZID=America/Denver:20260204T100000
DTEND;TZID=America/Denver:20260204T170000
DTSTAMP:20260425T103302
CREATED:20260117T212441Z
LAST-MODIFIED:20260117T212441Z
UID:7895-1770199200-1770224400@winstondowns.org
SUMMARY:Free Admission Buffalo Bill Museum
DESCRIPTION:Free admission First  Wednesday from now through April.  Feb 4\, Mar 4\, Apr 1 Open 10a to 5pm \nFind us here:  987 1/2 Lookout Mountain Road\, Golden\, CO 80401 \nThe Buffalo Bill Museum and Grave is one of the most popular cultural and historic attractions in the Denver and Golden metro areas. Over 80\,000 guests tour the museum annually and half a million people visit the gravesite and enjoy the breath-taking views from the museum’s observation deck. \nCome learn about William F. “Buffalo Bill” Cody\, one of the most famous people of his time\, and his Wild West show. See for yourself why he wanted to be buried on top of Lookout Mountain.
URL:https://winstondowns.org/event/free-admission-buffalo-bill-museum/
CATEGORIES:Area Exhibitions-Public
END:VEVENT
BEGIN:VEVENT
DTSTART;TZID=America/Denver:20260219T103000
DTEND;TZID=America/Denver:20260219T120000
DTSTAMP:20260425T103302
CREATED:20260214T002753Z
LAST-MODIFIED:20260214T002753Z
UID:7999-1771497000-1771502400@winstondowns.org
SUMMARY:Please join First Gentleman Marlon Reis in the upcoming Speaker Series focusing on wildlife rehabilitation. 
DESCRIPTION:First Gentleman Marlon Reis is hosting regular educational events at the Governor’s Mansion.  Experts on wildlife rehabilitation will share their insights\, with plenty of time for audience Q&A afterwards. \nPlease join the upcoming Speaker Series focusing on wildlife rehabilitation.  \n\nWHEN: Thursday\, February 19th\, 10:30am-12:00pm\nWHERE: The Governor’s Residence at the Boettcher Mansion\, 400 E 8th Ave\, Denver\, CO\, 80203\nABOUT: Join us to learn more about wildlife rehabilitation.\nPlease submit the RSVP form if you plan to attend.
URL:https://winstondowns.org/event/please-join-first-gentleman-marlon-reis-in-the-upcoming-speaker-series-focusing-on-wildlife-rehabilitation/
LOCATION:Governors Residence\, 400 E 8th Ave\,\, Denver\, CO
CATEGORIES:Area Exhibitions-Public,Denver Area Events
END:VEVENT
BEGIN:VEVENT
DTSTART;TZID=America/Denver:20260227T170000
DTEND;TZID=America/Denver:20260227T193000
DTSTAMP:20260425T103302
CREATED:20260203T003019Z
LAST-MODIFIED:20260203T003019Z
UID:7978-1772211600-1772220600@winstondowns.org
SUMMARY:Denver Mayor's Office Invitation to Celebrate Black History Month
DESCRIPTION:
URL:https://winstondowns.org/event/denver-mayors-office-invitation-to-celebrate-black-history-month/
LOCATION:Montbello Flex Property\, 12005 E. 45th Ave\, Denver\, CO
CATEGORIES:Area Exhibitions-Public
END:VEVENT
BEGIN:VEVENT
DTSTART;TZID=America/Denver:20260304T100000
DTEND;TZID=America/Denver:20260304T170000
DTSTAMP:20260425T103302
CREATED:20260117T212527Z
LAST-MODIFIED:20260117T212527Z
UID:7897-1772618400-1772643600@winstondowns.org
SUMMARY:Free Admission -Buffalo Bill Museum
DESCRIPTION:Free admission First  Wednesday from now through April.  Mar 4\, Apr 1 Open 10a to 5pm \nFind us here:  987 1/2 Lookout Mountain Road\, Golden\, CO 80401 \nThe Buffalo Bill Museum and Grave is one of the most popular cultural and historic attractions in the Denver and Golden metro areas. Over 80\,000 guests tour the museum annually and half a million people visit the gravesite and enjoy the breath-taking views from the museum’s observation deck. \nCome learn about William F. “Buffalo Bill” Cody\, one of the most famous people of his time\, and his Wild West show. See for yourself why he wanted to be buried on top of Lookout Mountain.
URL:https://winstondowns.org/event/free-admission-buffalo-bill-museum-2/
CATEGORIES:Area Exhibitions-Public
END:VEVENT
BEGIN:VEVENT
DTSTART;TZID=America/Denver:20260310T103000
DTEND;TZID=America/Denver:20260310T120000
DTSTAMP:20260425T103302
CREATED:20260226T230907Z
LAST-MODIFIED:20260226T232436Z
UID:8070-1773138600-1773144000@winstondowns.org
SUMMARY:Governor's Speaker Series focusing on Animal Consciousness and Human Flourishing. 
DESCRIPTION:First Gentleman Marlon Reis is hosting regular educational events at the Governor’s Mansion.  Experts on animal consciousness and human flourishing will share their insights\, with plenty of time for audience Q&A afterwards. \nPlease join the upcoming Speaker Series focusing on Animal Consciousness and Human Flourishing.  \n\nWHEN: Tuesday\, March 10th\, 10:30am-12:00pm\nWHERE: The Governor’s Residence at the Boettcher Mansion\, 400 E 8th Ave\, Denver\, CO\, 80203\nABOUT: Join us to learn more about Animal Consciousness and Human Flourishing with honorary host\, Matthew Halteman\, Professor of Philosophy\, Calvin University and Fellow\, Oxford Centre for Animal Ethics.\nPlease submit the RSVP form if you plan to attend.
URL:https://winstondowns.org/event/governors-speaker-series-focusing-on-animal-consciousness-and-human-flourishing/
LOCATION:Governors Residence\, 400 E 8th Ave\,\, Denver\, CO
CATEGORIES:Area Exhibitions-Public,Special Events,Special notices and events
END:VEVENT
BEGIN:VEVENT
DTSTART;TZID=America/Denver:20260321T100000
DTEND;TZID=America/Denver:20260321T130000
DTSTAMP:20260425T103302
CREATED:20260307T005330Z
LAST-MODIFIED:20260307T010730Z
UID:8094-1774087200-1774098000@winstondowns.org
SUMMARY:Honoring Women's History (March is Women's History Month)
DESCRIPTION:Sponsored by Denver’s Mayor \n Fireside Chat: Women Leading with Purpose\nModerated by Girls Inc. Teen Students\nFeaturing: \n\nKayla Garcia\, CEO\, Girls Inc. of Metro Denver\nFirst Lady of Denver – Courtney Johnston\nJen Millet\, President\, Denver Summit FC
URL:https://winstondowns.org/event/honoring-womens-history-march-is-womens-history-month/
CATEGORIES:Area Exhibitions-Public
END:VEVENT
BEGIN:VEVENT
DTSTART;TZID=America/Denver:20260426T080000
DTEND;TZID=America/Denver:20260503T170000
DTSTAMP:20260425T103302
CREATED:20260413T232430Z
LAST-MODIFIED:20260413T234737Z
UID:8254-1777190400-1777827600@winstondowns.org
SUMMARY:Mile High Asian Food Week
DESCRIPTION:🍜 Mile High Asian Food Week: April 26 – May 3\nMile High Asian Food Week is returning for its fourth year. Join the celebration of AANHPI chefs and owners from April 26 – May 3 by visiting the 2026 vendors.
URL:https://winstondowns.org/event/mile-high-asian-food-week/
CATEGORIES:Area Exhibitions-Public
END:VEVENT
BEGIN:VEVENT
DTSTART;TZID=America/Denver:20260528T080000
DTEND;TZID=America/Denver:20260614T170000
DTSTAMP:20260425T103302
CREATED:20260214T003108Z
LAST-MODIFIED:20260214T003306Z
UID:8001-1779955200-1781456400@winstondowns.org
SUMMARY:Freedom Plane is Taking Flight May 28 through June 14\, 2026
DESCRIPTION: Freedom Plane is Taking Flight May 28 through June 14\, 2026 \nFor the first time ever\, a collection of extraordinary documents from America’s founding will travel together as part of the Freedom Plane National Tour \, now officially designated as the 13th Signature Initiative of the America 250 – Colorado 150 Commission. From an original engraved copy of the Declaration of Independence to a rare draft printing of the U.S. Constitution\, this traveling exhibition offers a once-in-a-lifetime opportunity to experience the nation’s most foundational documents up close.\nThe exhibition will be free and open to the public at all eight venues. To secure tickets\, visit the individual museum websites or contact the museums directly.  
URL:https://winstondowns.org/event/freedom-plane-is-taking-flight-may-28-through-june-14-2026/
LOCATION:Colorado History Museum\, 1200 N. Broadway\, Denver\, CO\, 80203
CATEGORIES:Area Exhibitions-Public,Denver Area Events,Special Events,USA 250 Anniversary
ATTACH;FMTTYPE=image/jpeg:https://winstondowns.org/wp-content/uploads/2026/02/Freedom-plane-2026.jpg
END:VEVENT
END:VCALENDAR