BEGIN:VCALENDAR
VERSION:2.0
PRODID:-//Winston Downs Community Association - ECPv6.15.20//NONSGML v1.0//EN
CALSCALE:GREGORIAN
METHOD:PUBLISH
X-ORIGINAL-URL:https://winstondowns.org
X-WR-CALDESC:Events for Winston Downs Community Association
REFRESH-INTERVAL;VALUE=DURATION:PT1H
X-Robots-Tag:noindex
X-PUBLISHED-TTL:PT1H
BEGIN:VTIMEZONE
TZID:America/Denver
BEGIN:DAYLIGHT
TZOFFSETFROM:-0700
TZOFFSETTO:-0600
TZNAME:MDT
DTSTART:20240310T090000
END:DAYLIGHT
BEGIN:STANDARD
TZOFFSETFROM:-0600
TZOFFSETTO:-0700
TZNAME:MST
DTSTART:20241103T080000
END:STANDARD
BEGIN:DAYLIGHT
TZOFFSETFROM:-0700
TZOFFSETTO:-0600
TZNAME:MDT
DTSTART:20250309T090000
END:DAYLIGHT
BEGIN:STANDARD
TZOFFSETFROM:-0600
TZOFFSETTO:-0700
TZNAME:MST
DTSTART:20251102T080000
END:STANDARD
BEGIN:DAYLIGHT
TZOFFSETFROM:-0700
TZOFFSETTO:-0600
TZNAME:MDT
DTSTART:20260308T090000
END:DAYLIGHT
BEGIN:STANDARD
TZOFFSETFROM:-0600
TZOFFSETTO:-0700
TZNAME:MST
DTSTART:20261101T080000
END:STANDARD
END:VTIMEZONE
BEGIN:VEVENT
DTSTART;TZID=America/Denver:20250821T093000
DTEND;TZID=America/Denver:20250821T123000
DTSTAMP:20260423T223940
CREATED:20250814T213120Z
LAST-MODIFIED:20250814T213205Z
UID:7417-1755768600-1755779400@winstondowns.org
SUMMARY:Small Business Certification: From Application to Opportunity
DESCRIPTION:In Person: Small Business Certification: From Application to Opportunity \nThursday\, August 21 | 9:30 a.m.-12:30 p.m. | Blair-Caldwell African American Research Library \nRegister today and learn more. \nSponsored by Denver Economic Development & Opportunity
URL:https://winstondowns.org/event/small-business-certification-from-application-to-opportunity/
LOCATION:Blair Caldwell Branch Library\, 2401 Welton Street\, Denver\, CO
CATEGORIES:Business & Development
END:VEVENT
END:VCALENDAR