BEGIN:VCALENDAR
VERSION:2.0
PRODID:-//Winston Downs Community Association - ECPv6.15.20//NONSGML v1.0//EN
CALSCALE:GREGORIAN
METHOD:PUBLISH
X-ORIGINAL-URL:https://winstondowns.org
X-WR-CALDESC:Events for Winston Downs Community Association
REFRESH-INTERVAL;VALUE=DURATION:PT1H
X-Robots-Tag:noindex
X-PUBLISHED-TTL:PT1H
BEGIN:VTIMEZONE
TZID:America/Denver
BEGIN:DAYLIGHT
TZOFFSETFROM:-0700
TZOFFSETTO:-0600
TZNAME:MDT
DTSTART:20250309T090000
END:DAYLIGHT
BEGIN:STANDARD
TZOFFSETFROM:-0600
TZOFFSETTO:-0700
TZNAME:MST
DTSTART:20251102T080000
END:STANDARD
BEGIN:DAYLIGHT
TZOFFSETFROM:-0700
TZOFFSETTO:-0600
TZNAME:MDT
DTSTART:20260308T090000
END:DAYLIGHT
BEGIN:STANDARD
TZOFFSETFROM:-0600
TZOFFSETTO:-0700
TZNAME:MST
DTSTART:20261101T080000
END:STANDARD
BEGIN:DAYLIGHT
TZOFFSETFROM:-0700
TZOFFSETTO:-0600
TZNAME:MDT
DTSTART:20270314T090000
END:DAYLIGHT
BEGIN:STANDARD
TZOFFSETFROM:-0600
TZOFFSETTO:-0700
TZNAME:MST
DTSTART:20271107T080000
END:STANDARD
END:VTIMEZONE
BEGIN:VEVENT
DTSTART;TZID=America/Denver:20260128T123000
DTEND;TZID=America/Denver:20260128T140000
DTSTAMP:20260423T153348
CREATED:20260112T215747Z
LAST-MODIFIED:20260112T215747Z
UID:7819-1769603400-1769608800@winstondowns.org
SUMMARY:Open to all: Disparity Town Hall
DESCRIPTION:The City and County of Denver has completed its latest Disparity Study\, which reviews equity in City contracting and helps guide the work of the Division of Small Business Opportunity (DSBO). \nKeen Independent Research conducted the study on behalf of the City and County of Denver\, and will present and discuss the study’s findings and recommendations for DSBO’s programs that support small\, minority-owned\, disadvantaged\, and women-owned businesses. \nWhat to Expect \n\nOverview of the Disparity Study\nKey findings on progress and remaining gaps\nKeen Independent Research’s recommendations for DSBO programs\nQ&A: Participants will have an opportunity to submit questions and comments\n\nTownhall Details \nDate: Wednesday\, January 28\nTime: 12:30 – 2 PM\nLocation: Virtual\, Zoom (once registered\, you’ll receive the Zoom link 24 hours before the meeting) \n\n\n\n\n\n\n\n\n\n\n\n\n\n\n\n\n\n\nRegister Today
URL:https://winstondowns.org/event/open-to-all-disparity-town-hall/
LOCATION:Via Zoom\, Denver
CATEGORIES:Business & Development
END:VEVENT
END:VCALENDAR