BEGIN:VCALENDAR
VERSION:2.0
PRODID:-//Winston Downs Community Association - ECPv6.15.20//NONSGML v1.0//EN
CALSCALE:GREGORIAN
METHOD:PUBLISH
X-WR-CALNAME:Winston Downs Community Association
X-ORIGINAL-URL:https://winstondowns.org
X-WR-CALDESC:Events for Winston Downs Community Association
REFRESH-INTERVAL;VALUE=DURATION:PT1H
X-Robots-Tag:noindex
X-PUBLISHED-TTL:PT1H
BEGIN:VTIMEZONE
TZID:America/Denver
BEGIN:DAYLIGHT
TZOFFSETFROM:-0700
TZOFFSETTO:-0600
TZNAME:MDT
DTSTART:20220313T090000
END:DAYLIGHT
BEGIN:STANDARD
TZOFFSETFROM:-0600
TZOFFSETTO:-0700
TZNAME:MST
DTSTART:20221106T080000
END:STANDARD
BEGIN:DAYLIGHT
TZOFFSETFROM:-0700
TZOFFSETTO:-0600
TZNAME:MDT
DTSTART:20230312T090000
END:DAYLIGHT
BEGIN:STANDARD
TZOFFSETFROM:-0600
TZOFFSETTO:-0700
TZNAME:MST
DTSTART:20231105T080000
END:STANDARD
BEGIN:DAYLIGHT
TZOFFSETFROM:-0700
TZOFFSETTO:-0600
TZNAME:MDT
DTSTART:20240310T090000
END:DAYLIGHT
BEGIN:STANDARD
TZOFFSETFROM:-0600
TZOFFSETTO:-0700
TZNAME:MST
DTSTART:20241103T080000
END:STANDARD
END:VTIMEZONE
BEGIN:VEVENT
DTSTART;TZID=America/Denver:20230423T100000
DTEND;TZID=America/Denver:20230423T120000
DTSTAMP:20260425T132502
CREATED:20230419T235732Z
LAST-MODIFIED:20230421T205107Z
UID:4028-1682244000-1682251200@winstondowns.org
SUMMARY:Winston Downs Quebec St Clean Up April 23-Volunteers Wanted
DESCRIPTION:Winston Downs needs volunteers to help clean up trash along Quebec St between Alameda and 833 S Quebec \nWe will provide trash bags. Please bring your own gloves. \nMeet up at 10am at E. Exposition/S Quebec St  Sunday April 23 \n 
URL:https://winstondowns.org/event/winston-downs-quebec-st-clean-up-april-23/
LOCATION:CO
CATEGORIES:Community Action Day,Special Events
END:VEVENT
END:VCALENDAR