BEGIN:VCALENDAR
VERSION:2.0
PRODID:-//Winston Downs Community Association - ECPv6.15.20//NONSGML v1.0//EN
CALSCALE:GREGORIAN
METHOD:PUBLISH
X-WR-CALNAME:Winston Downs Community Association
X-ORIGINAL-URL:https://winstondowns.org
X-WR-CALDESC:Events for Winston Downs Community Association
REFRESH-INTERVAL;VALUE=DURATION:PT1H
X-Robots-Tag:noindex
X-PUBLISHED-TTL:PT1H
BEGIN:VTIMEZONE
TZID:America/Denver
BEGIN:DAYLIGHT
TZOFFSETFROM:-0700
TZOFFSETTO:-0600
TZNAME:MDT
DTSTART:20230312T090000
END:DAYLIGHT
BEGIN:STANDARD
TZOFFSETFROM:-0600
TZOFFSETTO:-0700
TZNAME:MST
DTSTART:20231105T080000
END:STANDARD
BEGIN:DAYLIGHT
TZOFFSETFROM:-0700
TZOFFSETTO:-0600
TZNAME:MDT
DTSTART:20240310T090000
END:DAYLIGHT
BEGIN:STANDARD
TZOFFSETFROM:-0600
TZOFFSETTO:-0700
TZNAME:MST
DTSTART:20241103T080000
END:STANDARD
BEGIN:DAYLIGHT
TZOFFSETFROM:-0700
TZOFFSETTO:-0600
TZNAME:MDT
DTSTART:20250309T090000
END:DAYLIGHT
BEGIN:STANDARD
TZOFFSETFROM:-0600
TZOFFSETTO:-0700
TZNAME:MST
DTSTART:20251102T080000
END:STANDARD
END:VTIMEZONE
BEGIN:VEVENT
DTSTART;TZID=America/Denver:20240621T100000
DTEND;TZID=America/Denver:20240621T120000
DTSTAMP:20260424T172334
CREATED:20240619T215044Z
LAST-MODIFIED:20240619T215550Z
UID:5603-1718964000-1718971200@winstondowns.org
SUMMARY:One Water Day at Botanic Gardens
DESCRIPTION:WDCA apologizes for the multiple spacing. It’s how it is received and then entered to our website.\n\n\n\n\n\n\n\n\n\n\n\n\n\n\n\nJune 21: Dive into the future of water management!\nJoin us from 10 a.m. to noon on Friday\, June 21 for the inaugural One Water Day at Denver Botanic Gardens! – FEE to attend \nThis event will bring together representatives from communities along the Front Range and across Colorado for an engaging discussion of one water planning\, management\, and collaboration strategies. Attendees will learn about the benefits of holistic “one water” management and inter-organizational collaboration from separate utilities implementing a one water philosophy. \nThis program is part of the Watershed (Shed) Summit ’24 at the Denver Botanic Gardens.\n\n\n\n\n\n\n\n\n\n\n\n\n\n\nRegister Today\n\n\n\n\n\n\n\n\n\n\n\n\n\n\n\nOur dynamic keynote speakers will include…\n\n\n\n\n\n\n\n\n\n\n\n\n\n\n\n\n\n\n\nRebecca Mitchell (Becky)\nCommissioner to the Upper Colorado River Commission\n\n\n\n\n\n\n\n\n\n\nSen. Cleave Simpson\nColorado State Senator\n\n\n\n\n\n\n\n\n\n\n\n\n\n\nView the Agenda\n\n\n\n\n\n\n\n\n\n\n\n\n\n\n\n\n\n\n\n\n\n\n\n\n\n\n\n\n\n\nOne Water Day details\n\n\n\n\n\n\n\n\n\n\n\n\n\n\n\n\n\n\n\n\n\n\n\n\n\n\n Date: Friday\, June 21\n Time: 10 a.m. – 12 p.m.\n Location: Denver Botanic GardensTickets to One Water Day may be purchased as an add-on to the Watershed Summit.Registration includes access to the Watershed Summit\, happy hour\, refreshments and entrance to Denver Botanic Gardens on June 21. Lunch is included for One Water Day registrants. Secure your spot now! Only 100 spots available for this exclusive event. Don’t miss out!\n\n\n\n\n\n\n\n\n\n\n\n\n\n\n\n\n\n\n\nLet’s come together to shape a sustainable water future for our communities!\n\n\n\n\n\n\n\n\n\n\n\n\n\n\n\nRegistration
URL:https://winstondowns.org/event/one-water-day-at-botanic-gardens/
LOCATION:CO
CATEGORIES:Community Action Day
END:VEVENT
BEGIN:VEVENT
DTSTART;TZID=America/Denver:20240626T063000
DTEND;TZID=America/Denver:20240626T090000
DTSTAMP:20260424T172334
CREATED:20240607T010909Z
LAST-MODIFIED:20240607T010909Z
UID:5514-1719383400-1719392400@winstondowns.org
SUMMARY:Bike to Work Event (Denver Police Event)
DESCRIPTION:
URL:https://winstondowns.org/event/bike-to-work-event-denver-police-event/
LOCATION:CO
CATEGORIES:Community Action Day,Community Police Meeting
END:VEVENT
BEGIN:VEVENT
DTSTART;TZID=America/Denver:20240629T100000
DTEND;TZID=America/Denver:20240629T130000
DTSTAMP:20260424T172334
CREATED:20240628T215155Z
LAST-MODIFIED:20240628T215155Z
UID:5633-1719655200-1719666000@winstondowns.org
SUMMARY:Independence Day Celebration
DESCRIPTION:For all the fun details on this event\, click here.\n \nThis event is brought to you by the Lowry United Neighborhoods\, our presenting sponsor The Lowry Foundation\, our Gold Level Sponsors – LCMA\, Vitalant and our city councilwoman – Amanda Sawyer\, District 5.
URL:https://winstondowns.org/event/independence-day-celebration/
LOCATION:Tailwind Park\, 433 Golfers Way\,\, Denver\, CO\, 80230
CATEGORIES:Community Action Day,Special Events
END:VEVENT
END:VCALENDAR