BEGIN:VCALENDAR
VERSION:2.0
PRODID:-//Winston Downs Community Association - ECPv6.15.20//NONSGML v1.0//EN
CALSCALE:GREGORIAN
METHOD:PUBLISH
X-WR-CALNAME:Winston Downs Community Association
X-ORIGINAL-URL:https://winstondowns.org
X-WR-CALDESC:Events for Winston Downs Community Association
REFRESH-INTERVAL;VALUE=DURATION:PT1H
X-Robots-Tag:noindex
X-PUBLISHED-TTL:PT1H
BEGIN:VTIMEZONE
TZID:America/Denver
BEGIN:DAYLIGHT
TZOFFSETFROM:-0700
TZOFFSETTO:-0600
TZNAME:MDT
DTSTART:20230312T090000
END:DAYLIGHT
BEGIN:STANDARD
TZOFFSETFROM:-0600
TZOFFSETTO:-0700
TZNAME:MST
DTSTART:20231105T080000
END:STANDARD
BEGIN:DAYLIGHT
TZOFFSETFROM:-0700
TZOFFSETTO:-0600
TZNAME:MDT
DTSTART:20240310T090000
END:DAYLIGHT
BEGIN:STANDARD
TZOFFSETFROM:-0600
TZOFFSETTO:-0700
TZNAME:MST
DTSTART:20241103T080000
END:STANDARD
BEGIN:DAYLIGHT
TZOFFSETFROM:-0700
TZOFFSETTO:-0600
TZNAME:MDT
DTSTART:20250309T090000
END:DAYLIGHT
BEGIN:STANDARD
TZOFFSETFROM:-0600
TZOFFSETTO:-0700
TZNAME:MST
DTSTART:20251102T080000
END:STANDARD
END:VTIMEZONE
BEGIN:VEVENT
DTSTART;TZID=America/Denver:20240807T100000
DTEND;TZID=America/Denver:20240807T200000
DTSTAMP:20260424T143744
CREATED:20240805T200142Z
LAST-MODIFIED:20240805T200717Z
UID:5788-1723024800-1723060800@winstondowns.org
SUMMARY:Wash Park Jubilee 125 years
DESCRIPTION:Celebrate Washington Park with a day full of free activities! Learn more. \nWhen: August 7 | 10:00 AM – 8:00 PM \nWhere: Washington Park \n701 S Franklin St\, 80209
URL:https://winstondowns.org/event/wash-park-jubilee-125-years/
LOCATION:Washington Park\, S Downing St at E Louisiana Ave\, Denver\, CO
CATEGORIES:Community Action Day,Denver Area Events
END:VEVENT
END:VCALENDAR