BEGIN:VCALENDAR
VERSION:2.0
PRODID:-//Winston Downs Community Association - ECPv6.15.20//NONSGML v1.0//EN
CALSCALE:GREGORIAN
METHOD:PUBLISH
X-ORIGINAL-URL:https://winstondowns.org
X-WR-CALDESC:Events for Winston Downs Community Association
REFRESH-INTERVAL;VALUE=DURATION:PT1H
X-Robots-Tag:noindex
X-PUBLISHED-TTL:PT1H
BEGIN:VTIMEZONE
TZID:America/Denver
BEGIN:DAYLIGHT
TZOFFSETFROM:-0700
TZOFFSETTO:-0600
TZNAME:MDT
DTSTART:20240310T090000
END:DAYLIGHT
BEGIN:STANDARD
TZOFFSETFROM:-0600
TZOFFSETTO:-0700
TZNAME:MST
DTSTART:20241103T080000
END:STANDARD
BEGIN:DAYLIGHT
TZOFFSETFROM:-0700
TZOFFSETTO:-0600
TZNAME:MDT
DTSTART:20250309T090000
END:DAYLIGHT
BEGIN:STANDARD
TZOFFSETFROM:-0600
TZOFFSETTO:-0700
TZNAME:MST
DTSTART:20251102T080000
END:STANDARD
BEGIN:DAYLIGHT
TZOFFSETFROM:-0700
TZOFFSETTO:-0600
TZNAME:MDT
DTSTART:20260308T090000
END:DAYLIGHT
BEGIN:STANDARD
TZOFFSETFROM:-0600
TZOFFSETTO:-0700
TZNAME:MST
DTSTART:20261101T080000
END:STANDARD
END:VTIMEZONE
BEGIN:VEVENT
DTSTART;TZID=America/Denver:20250402T180000
DTEND;TZID=America/Denver:20250402T193000
DTSTAMP:20260424T013440
CREATED:20250329T003549Z
LAST-MODIFIED:20250329T003608Z
UID:6786-1743616800-1743622200@winstondowns.org
SUMMARY:Public events for Modernizing Parking Requirements project coming in April
DESCRIPTION:Denver Community Planning and Development announced the Modernizing Parking Requirements project in December in an effort to: \n\nReduce city time reviewing development applications\,\nPromote the development of more housing\, and\nGive building projects the flexibility to build the number of parking spaces they deem necessary\, based on market conditions.\n\nNext month\, the project team will begin public outreach to share more information on the zoning rules and regulations that may change and collect feedback from community members. We encourage you to join the in-person events listed below to hear from city planners and share your voice. \nWednesday\, April 2: Broadway Corridor Parking Minimums Townhall \n6:00 to 7:30 p.m. at Ratio Beerworks\, 2030 S. Cherokee St.\, Denver \nTuesday\, April 15: Virtual Townhall Time and login information will be shared soon on the project webpage. \nWednesday\, April 16: Council District 6 “Academy in the Community”\n5:30-7:30 p.m.\, Cook Park Recreation Center\, 7100 Cherry Creek S. Dr.\, Denver \nAdditionally\, city planners have completed a project background report that includes information on peer cities\, state law\, and Denver’s current regulations. Click here for more info.
URL:https://winstondowns.org/event/public-events-for-modernizing-parking-requirements-project-coming-in-april/
LOCATION:Ratio Beerworks\, 2020 S Cherokee\, Denver\, CO
CATEGORIES:Community Action Day,District 5 Initiative Meeting
END:VEVENT
BEGIN:VEVENT
DTSTART;TZID=America/Denver:20250408T163000
DTEND;TZID=America/Denver:20250408T183000
DTSTAMP:20260424T013440
CREATED:20250329T003311Z
LAST-MODIFIED:20250329T003311Z
UID:6783-1744129800-1744137000@winstondowns.org
SUMMARY:City Discussion re Vibrant Denver GO Bond
DESCRIPTION:The City and County of Denver is excited to invite you\, your friends and neighbors to a Citywide community conversation with Denver Mayor Mike Johnston in partnership with At-Large Denver City Councilmembers Sarah Parady and Serena Gonzales-Gutierrez to discuss the 2025 Vibrant Denver GO Bond\, a proposed bond initiative that aims to make transformative investments in our city! Attached and below is the community conversation flyer(s) for this meeting. This is a great opportunity for you to learn more about the bond proposal\, ask questions\, and share your thoughts on potential bond projects in your district with representatives from the Mayor’s Office\, City Council\, and City Agency Officials. \nPlease Share: \n\nDate: Tuesday\, April 8th from 4:30PM – 6:30 PM; doors open at 4:00PM\nLocation: Rude Recreation Center: 2855 W Holden Pl\, Denver\, CO 80204 – Parking onsite HC accessible (Near 13th & Decatur)\nAt-Large Councilmembers Sarah Parady and Serena Gonzales-Gutierrez: Citywide\nLive Stream on Zoom: Denvergov-org.zoom.us/my/vibrantdenver (Meeting ID: 619 207 4556 Passcode: 12345)
URL:https://winstondowns.org/event/city-discussion-re-vibrant-denver-go-bond/
LOCATION:Rude Rec Center\, 2855 W Holden Pl\, Denver\, CO
CATEGORIES:Community Action Day,Denver Area Events,District 5 Initiative Meeting
END:VEVENT
BEGIN:VEVENT
DTSTART;TZID=America/Denver:20250415T080000
DTEND;TZID=America/Denver:20250415T170000
DTSTAMP:20260424T013440
CREATED:20250329T003703Z
LAST-MODIFIED:20250329T003703Z
UID:6789-1744704000-1744736400@winstondowns.org
SUMMARY:Public events for Modernizing Parking Requirements project coming in April
DESCRIPTION:Denver Community Planning and Development announced the Modernizing Parking Requirements project in December in an effort to: \n\nReduce city time reviewing development applications\,\nPromote the development of more housing\, and\nGive building projects the flexibility to build the number of parking spaces they deem necessary\, based on market conditions.\n\nNext month\, the project team will begin public outreach to share more information on the zoning rules and regulations that may change and collect feedback from community members. We encourage you to join the in-person events listed below to hear from city planners and share your voice. \nTuesday\, April 15: Virtual Townhall Time and login information will be shared soon on the project webpage. \nWednesday\, April 16: Council District 6 “Academy in the Community”\n5:30-7:30 p.m.\, Cook Park Recreation Center\, 7100 Cherry Creek S. Dr.\, Denver \nAdditionally\, city planners have completed a project background report that includes information on peer cities\, state law\, and Denver’s current regulations. Click here for more info.
URL:https://winstondowns.org/event/public-events-for-modernizing-parking-requirements-project-coming-in-april-2/
LOCATION:CO
CATEGORIES:Community Action Day,Denver Area Events
END:VEVENT
BEGIN:VEVENT
DTSTART;TZID=America/Denver:20250416T173000
DTEND;TZID=America/Denver:20250416T193000
DTSTAMP:20260424T013440
CREATED:20250329T003835Z
LAST-MODIFIED:20250329T003835Z
UID:6791-1744824600-1744831800@winstondowns.org
SUMMARY:Public events for Modernizing Parking Requirements project coming in April
DESCRIPTION:Denver Community Planning and Development announced the Modernizing Parking Requirements project in December in an effort to: \n\nReduce city time reviewing development applications\,\nPromote the development of more housing\, and\nGive building projects the flexibility to build the number of parking spaces they deem necessary\, based on market conditions.\n\nNext month\, the project team will begin public outreach to share more information on the zoning rules and regulations that may change and collect feedback from community members. We encourage you to join the in-person events listed below to hear from city planners and share your voice. \nWednesday\, April 16: Council District 6 “Academy in the Community”\n5:30-7:30 p.m.\, Cook Park Recreation Center\, 7100 Cherry Creek S. Dr.\, Denver \nAdditionally\, city planners have completed a project background report that includes information on peer cities\, state law\, and Denver’s current regulations. Click here for more info.
URL:https://winstondowns.org/event/public-events-for-modernizing-parking-requirements-project-coming-in-april-3/
LOCATION:Cook Park\, 7100 Cherry Creek S Dr\, Denver\, CO\, United States
CATEGORIES:Community Action Day,Denver Area Events
END:VEVENT
BEGIN:VEVENT
DTSTART;TZID=America/Denver:20250426T090000
DTEND;TZID=America/Denver:20250426T120000
DTSTAMP:20260424T013440
CREATED:20250424T215503Z
LAST-MODIFIED:20250424T215847Z
UID:6954-1745658000-1745668800@winstondowns.org
SUMMARY:WDCA Clean Up Day  Saturday April 26
DESCRIPTION:WDCA Clean Up Day Saturday April 26\n  \n \nLooking for volunteers to help with trash pick up starting on Quebec.\nWhen- Saturday April 26th-9AM-12Noon\nMeet at the corner of Quebec & E.Exposition.\nGarbage bags will be provided.\nBring water & Garden/work gloves with you.\nThe weather should be Awesome!
URL:https://winstondowns.org/event/wdca-clean-up-day-reminder-saturday-april-26/
LOCATION:CO
CATEGORIES:Community Action Day
END:VEVENT
BEGIN:VEVENT
DTSTART;TZID=America/Denver:20250427T083000
DTEND;TZID=America/Denver:20250427T170000
DTSTAMP:20260424T013440
CREATED:20250415T211012Z
LAST-MODIFIED:20250415T211012Z
UID:6901-1745742600-1745773200@winstondowns.org
SUMMARY:District 5 Spring Community Clean-Up Day
DESCRIPTION:Sign-up for Spring Community Clean-up Day \nApril 27\, 2025 @ 8:30 AM at the Montclair Recreation Center (729 Ulster Way) \nOur neighborhoods are cherished places\, and we want to keep them beautiful! That’s why Councilwoman Sawyer has created District 5 Community Clean-up Day\, which is a unique opportunity for community members to come together and contribute to the beautification of our city. Below is a list of parks\, open spaces\, and RTD bus stop benches that we need your help sprucing up. \nParks and Open Spaces \n\n6th Ave Parkway (Monaco to Quebec)\nBayaud Park\nCherry Creek Trail and City of Karmiel Park (University Blvd to Alameda Ave)\nDenison Park\nGreat Lawn Park\nJohn W. Barnes Park\nKittredge Park\nLindsley Park\nMayfair Park\nMontclair Park and Richthofen Parkway\nRobinson Park\n\nBus Stop Benches \n\nE Bound – Alameda Ave & Miami Ct\nW Bound – Alameda Ave & S Dayton St\nW Bound – Alameda Ave & S Monaco Pkwy\nE Bound – Alameda Ave & Quebec St\nS Bound – Quebec St & 13th Ave\nW Bound – Alameda Ave & Clinton St\nE Bound – Alameda Ave & S Niagara St\n\nI hope you’ll join us for my annual Spring Parks Clean-up Day on April 27\, 2025 at 8:30 AM at the Montclair Recreation Center (729 Ulster Way)! Sign-up at: Bit.ly/2025SpringCleanup\n\n\n\n\n\n\n\n\n\n\n\n\n\n\n\n\n\n\nSign up
URL:https://winstondowns.org/event/district-5-spring-community-clean-up-day/
LOCATION:Montclair Rec Center\, 729 Ulster Way\, Denver\, CO\, 80230\, United States
CATEGORIES:Community Action Day,Special Events,Special notices and events
END:VEVENT
END:VCALENDAR