BEGIN:VCALENDAR
VERSION:2.0
PRODID:-//Winston Downs Community Association - ECPv6.15.20//NONSGML v1.0//EN
CALSCALE:GREGORIAN
METHOD:PUBLISH
X-WR-CALNAME:Winston Downs Community Association
X-ORIGINAL-URL:https://winstondowns.org
X-WR-CALDESC:Events for Winston Downs Community Association
REFRESH-INTERVAL;VALUE=DURATION:PT1H
X-Robots-Tag:noindex
X-PUBLISHED-TTL:PT1H
BEGIN:VTIMEZONE
TZID:America/Denver
BEGIN:DAYLIGHT
TZOFFSETFROM:-0700
TZOFFSETTO:-0600
TZNAME:MDT
DTSTART:20240310T090000
END:DAYLIGHT
BEGIN:STANDARD
TZOFFSETFROM:-0600
TZOFFSETTO:-0700
TZNAME:MST
DTSTART:20241103T080000
END:STANDARD
BEGIN:DAYLIGHT
TZOFFSETFROM:-0700
TZOFFSETTO:-0600
TZNAME:MDT
DTSTART:20250309T090000
END:DAYLIGHT
BEGIN:STANDARD
TZOFFSETFROM:-0600
TZOFFSETTO:-0700
TZNAME:MST
DTSTART:20251102T080000
END:STANDARD
BEGIN:DAYLIGHT
TZOFFSETFROM:-0700
TZOFFSETTO:-0600
TZNAME:MDT
DTSTART:20260308T090000
END:DAYLIGHT
BEGIN:STANDARD
TZOFFSETFROM:-0600
TZOFFSETTO:-0700
TZNAME:MST
DTSTART:20261101T080000
END:STANDARD
END:VTIMEZONE
BEGIN:VEVENT
DTSTART;TZID=America/Denver:20250312T080000
DTEND;TZID=America/Denver:20250315T170000
DTSTAMP:20260424T053442
CREATED:20250307T003903Z
LAST-MODIFIED:20250307T003903Z
UID:6688-1741766400-1742058000@winstondowns.org
SUMMARY:Denver Animal Shelter Invites Community to Celebrate St. Pittie's Day
DESCRIPTION:  \n\n\n\n\n\n\n\n\n\n\n\n\n\n\n\n\n\n\n\n\nIt’s nearly time to raise the woof and join the tail-wagging fun at Denver Animal Shelter’s (DAS) St. Pittie’s Day Pub Crawl! Head to the shelter at 1241 W. Bayaud Ave. to fetch a $25 St. Pittie’s Day 2025 T-shirt. Then\, wear it on Saturday\, March 15 to more than a dozen participating bars and restaurants for access to exclusive food and drink discounts! \nLearn more about which businesses have partnered with the shelter to help us paw-ty like sham-rock stars! And the fun doesn’t end there. During all of March\, enjoy $17 adoption fees on pit bulls and pit bull mixes over 6 months old. How lucky ! Find your next best friend on the DAS website.
URL:https://winstondowns.org/event/denver-animal-shelter-invites-community-to-celebrate-st-pitties-day/
LOCATION:Denver Animal Shelter\, 1241 W. Bayaud Ave.\, Denver\, CO
CATEGORIES:Community Action Day
END:VEVENT
END:VCALENDAR