BEGIN:VCALENDAR
VERSION:2.0
PRODID:-//Winston Downs Community Association - ECPv6.15.20//NONSGML v1.0//EN
CALSCALE:GREGORIAN
METHOD:PUBLISH
X-ORIGINAL-URL:https://winstondowns.org
X-WR-CALDESC:Events for Winston Downs Community Association
REFRESH-INTERVAL;VALUE=DURATION:PT1H
X-Robots-Tag:noindex
X-PUBLISHED-TTL:PT1H
BEGIN:VTIMEZONE
TZID:America/Denver
BEGIN:DAYLIGHT
TZOFFSETFROM:-0700
TZOFFSETTO:-0600
TZNAME:MDT
DTSTART:20240310T090000
END:DAYLIGHT
BEGIN:STANDARD
TZOFFSETFROM:-0600
TZOFFSETTO:-0700
TZNAME:MST
DTSTART:20241103T080000
END:STANDARD
BEGIN:DAYLIGHT
TZOFFSETFROM:-0700
TZOFFSETTO:-0600
TZNAME:MDT
DTSTART:20250309T090000
END:DAYLIGHT
BEGIN:STANDARD
TZOFFSETFROM:-0600
TZOFFSETTO:-0700
TZNAME:MST
DTSTART:20251102T080000
END:STANDARD
BEGIN:DAYLIGHT
TZOFFSETFROM:-0700
TZOFFSETTO:-0600
TZNAME:MDT
DTSTART:20260308T090000
END:DAYLIGHT
BEGIN:STANDARD
TZOFFSETFROM:-0600
TZOFFSETTO:-0700
TZNAME:MST
DTSTART:20261101T080000
END:STANDARD
END:VTIMEZONE
BEGIN:VEVENT
DTSTART;TZID=America/Denver:20250416T173000
DTEND;TZID=America/Denver:20250416T193000
DTSTAMP:20260424T053518
CREATED:20250329T003835Z
LAST-MODIFIED:20250329T003835Z
UID:6791-1744824600-1744831800@winstondowns.org
SUMMARY:Public events for Modernizing Parking Requirements project coming in April
DESCRIPTION:Denver Community Planning and Development announced the Modernizing Parking Requirements project in December in an effort to: \n\nReduce city time reviewing development applications\,\nPromote the development of more housing\, and\nGive building projects the flexibility to build the number of parking spaces they deem necessary\, based on market conditions.\n\nNext month\, the project team will begin public outreach to share more information on the zoning rules and regulations that may change and collect feedback from community members. We encourage you to join the in-person events listed below to hear from city planners and share your voice. \nWednesday\, April 16: Council District 6 “Academy in the Community”\n5:30-7:30 p.m.\, Cook Park Recreation Center\, 7100 Cherry Creek S. Dr.\, Denver \nAdditionally\, city planners have completed a project background report that includes information on peer cities\, state law\, and Denver’s current regulations. Click here for more info.
URL:https://winstondowns.org/event/public-events-for-modernizing-parking-requirements-project-coming-in-april-3/
LOCATION:Cook Park\, 7100 Cherry Creek S Dr\, Denver\, CO\, United States
CATEGORIES:Community Action Day,Denver Area Events
END:VEVENT
END:VCALENDAR