BEGIN:VCALENDAR
VERSION:2.0
PRODID:-//Winston Downs Community Association - ECPv6.15.20//NONSGML v1.0//EN
CALSCALE:GREGORIAN
METHOD:PUBLISH
X-WR-CALNAME:Winston Downs Community Association
X-ORIGINAL-URL:https://winstondowns.org
X-WR-CALDESC:Events for Winston Downs Community Association
REFRESH-INTERVAL;VALUE=DURATION:PT1H
X-Robots-Tag:noindex
X-PUBLISHED-TTL:PT1H
BEGIN:VTIMEZONE
TZID:America/Denver
BEGIN:DAYLIGHT
TZOFFSETFROM:-0700
TZOFFSETTO:-0600
TZNAME:MDT
DTSTART:20240310T090000
END:DAYLIGHT
BEGIN:STANDARD
TZOFFSETFROM:-0600
TZOFFSETTO:-0700
TZNAME:MST
DTSTART:20241103T080000
END:STANDARD
BEGIN:DAYLIGHT
TZOFFSETFROM:-0700
TZOFFSETTO:-0600
TZNAME:MDT
DTSTART:20250309T090000
END:DAYLIGHT
BEGIN:STANDARD
TZOFFSETFROM:-0600
TZOFFSETTO:-0700
TZNAME:MST
DTSTART:20251102T080000
END:STANDARD
BEGIN:DAYLIGHT
TZOFFSETFROM:-0700
TZOFFSETTO:-0600
TZNAME:MDT
DTSTART:20260308T090000
END:DAYLIGHT
BEGIN:STANDARD
TZOFFSETFROM:-0600
TZOFFSETTO:-0700
TZNAME:MST
DTSTART:20261101T080000
END:STANDARD
END:VTIMEZONE
BEGIN:VEVENT
DTSTART;VALUE=DATE:20250503
DTEND;VALUE=DATE:20250504
DTSTAMP:20260424T013452
CREATED:20250424T205305Z
LAST-MODIFIED:20250424T205305Z
UID:6948-1746230400-1746316799@winstondowns.org
SUMMARY:Free Mulch Giveaway May 3
DESCRIPTION:DENVER ­– Denver’s Department of Transportation and Infrastructure (DOTI) is hosting its annual Mulch Giveaway on Saturday\, May 3\, and is also offering Denver residents an opportunity to register for a limited amount of free compost! Get two great products that are good for your garden! \nHoliday trees dropped off during the Treecycle program are mulched and distributed back to Denver residents for free each spring. Compost is created from food scraps and yard waste collected from Denver’s Compost program and donated from WM. \nDig-Your-Own MULCH will be available at THREE locations this year\, while supplies last:  Denver Central Platte Campus\, North Entrance (Enter through the campus gates at 2000 W. 3rd Avenue. Head right at the stop sign and follow signs for Mulch Giveaway) \n\nCherry Creek Transfer Station (7301 E Jewell Ave. Enter on E. Jewell Ave)\nHavana Nursery (10450 Smith Rd)\n\nIn addition to dig-your-own\, free loader service is available at the Havana location for trucks and small\, one axle trailers.  \n\n\n\nPlease bring your own rake or shovel\, as well as bags or containers for loading mulch and a tarp to cover your truck or trailer.\nDenver residents only; commercial vehicles are prohibited from taking or selling the mulch or compost from this event.\nMore information can be found at denvergov.org/mulch\n\n\n\n Dig-Your-Own COMPOST will be available at ONE location (registration required)  \n\nDenver Central Platte Campus\, South Entrance (Enter through the campus gates at 1271 W. Bayaud Ave. and drive past the Denver Animal Shelter)\n\n\n\n\nAdvance registration is required for free compost. Visit denvergov.org/mulch to sign up and receive a coupon confirmation code.  \nResidents should bring their coupon code\, a one 5-gallon bucket\, shovel\, and proof of Denver residency.\nQuantities are limited.\n\n\n\nDid You Know? \nMulch retains soil moisture\, suppresses weeds\, keeps soil and plant roots cool\, prevents frost heaving in winter\, and makes a garden bed and landscape look more attractive. The mulch at our giveaway is made from tree branches and holiday trees residents recycled through Denver’s Treecycle collection program. \nCompost is a nutrient-rich soil amendment made from decomposed organic material. It can be added to soil to help plants thrive\, while reducing water and fertilizer needs! This compost was created from food scraps and yard waste collected by Denver’s Compost Collection Program.
URL:https://winstondowns.org/event/free-mulch-giveaway-may-3/
LOCATION:CO
CATEGORIES:Community Action Day,Denver Area Events
END:VEVENT
END:VCALENDAR