BEGIN:VCALENDAR
VERSION:2.0
PRODID:-//Winston Downs Community Association - ECPv6.15.20//NONSGML v1.0//EN
CALSCALE:GREGORIAN
METHOD:PUBLISH
X-ORIGINAL-URL:https://winstondowns.org
X-WR-CALDESC:Events for Winston Downs Community Association
REFRESH-INTERVAL;VALUE=DURATION:PT1H
X-Robots-Tag:noindex
X-PUBLISHED-TTL:PT1H
BEGIN:VTIMEZONE
TZID:America/Denver
BEGIN:DAYLIGHT
TZOFFSETFROM:-0700
TZOFFSETTO:-0600
TZNAME:MDT
DTSTART:20240310T090000
END:DAYLIGHT
BEGIN:STANDARD
TZOFFSETFROM:-0600
TZOFFSETTO:-0700
TZNAME:MST
DTSTART:20241103T080000
END:STANDARD
BEGIN:DAYLIGHT
TZOFFSETFROM:-0700
TZOFFSETTO:-0600
TZNAME:MDT
DTSTART:20250309T090000
END:DAYLIGHT
BEGIN:STANDARD
TZOFFSETFROM:-0600
TZOFFSETTO:-0700
TZNAME:MST
DTSTART:20251102T080000
END:STANDARD
BEGIN:DAYLIGHT
TZOFFSETFROM:-0700
TZOFFSETTO:-0600
TZNAME:MDT
DTSTART:20260308T090000
END:DAYLIGHT
BEGIN:STANDARD
TZOFFSETFROM:-0600
TZOFFSETTO:-0700
TZNAME:MST
DTSTART:20261101T080000
END:STANDARD
END:VTIMEZONE
BEGIN:VEVENT
DTSTART;TZID=America/Denver:20250607T080000
DTEND;TZID=America/Denver:20250607T100000
DTSTAMP:20260424T001857
CREATED:20250517T001201Z
LAST-MODIFIED:20250517T001201Z
UID:7058-1749283200-1749290400@winstondowns.org
SUMMARY:Citywide Trail Cleanup
DESCRIPTION:Denver Parks and Recreation invites volunteers to join in our summer City-wide trail cleanup effort! Volunteers are needed at one of 11 different locations across Denver to help with general clean up tasks that may include trash and debris removal\, painting\, weed removal and other tasks to keep Denver’s trails looking great and in good condition for all trail users. \nSign up to volunteer: https://godenverparks.denvergov.org/calendar \nWhen: Saturday\, June 7 | 8:00 – 10:00 AM\nWhere: Multiple locations across locations\nDenver Parks & Recreation | City and County of Denver\nEmail: parksandrecreation@denvergov.org\nSign up for our monthly newsletter!
URL:https://winstondowns.org/event/citywide-trail-cleanup/
LOCATION:CO
CATEGORIES:Community Action Day
END:VEVENT
END:VCALENDAR