BEGIN:VCALENDAR
VERSION:2.0
PRODID:-//Winston Downs Community Association - ECPv6.15.20//NONSGML v1.0//EN
CALSCALE:GREGORIAN
METHOD:PUBLISH
X-WR-CALNAME:Winston Downs Community Association
X-ORIGINAL-URL:https://winstondowns.org
X-WR-CALDESC:Events for Winston Downs Community Association
REFRESH-INTERVAL;VALUE=DURATION:PT1H
X-Robots-Tag:noindex
X-PUBLISHED-TTL:PT1H
BEGIN:VTIMEZONE
TZID:America/Denver
BEGIN:DAYLIGHT
TZOFFSETFROM:-0700
TZOFFSETTO:-0600
TZNAME:MDT
DTSTART:20240310T090000
END:DAYLIGHT
BEGIN:STANDARD
TZOFFSETFROM:-0600
TZOFFSETTO:-0700
TZNAME:MST
DTSTART:20241103T080000
END:STANDARD
BEGIN:DAYLIGHT
TZOFFSETFROM:-0700
TZOFFSETTO:-0600
TZNAME:MDT
DTSTART:20250309T090000
END:DAYLIGHT
BEGIN:STANDARD
TZOFFSETFROM:-0600
TZOFFSETTO:-0700
TZNAME:MST
DTSTART:20251102T080000
END:STANDARD
BEGIN:DAYLIGHT
TZOFFSETFROM:-0700
TZOFFSETTO:-0600
TZNAME:MDT
DTSTART:20260308T090000
END:DAYLIGHT
BEGIN:STANDARD
TZOFFSETFROM:-0600
TZOFFSETTO:-0700
TZNAME:MST
DTSTART:20261101T080000
END:STANDARD
END:VTIMEZONE
BEGIN:VEVENT
DTSTART;TZID=America/Denver:20250612T080000
DTEND;TZID=America/Denver:20250612T170000
DTSTAMP:20260424T001735
CREATED:20250521T223305Z
LAST-MODIFIED:20250521T223305Z
UID:7086-1749715200-1749747600@winstondowns.org
SUMMARY:Loving Day - No appointment needed to marry at Denver Court
DESCRIPTION:Denver Clerk & Recorder Announcement \nWe’re excited to announce we are hosting another no appointment needed marriage day on Loving Day\, June 12. The day commemorates the 1967 Supreme Court decision in Loving v. Virginia\, which legalized interracial marriage in the United States. Again\, no appointment is needed\, just make sure to visit our marriage and civil unions page to read marriage license requirements and complete your application.
URL:https://winstondowns.org/event/loving-day-no-appointment-needed-to-marry-at-denver-court/
LOCATION:CO
CATEGORIES:Community Action Day,Special Events
END:VEVENT
END:VCALENDAR