BEGIN:VCALENDAR
VERSION:2.0
PRODID:-//Winston Downs Community Association - ECPv6.15.20//NONSGML v1.0//EN
CALSCALE:GREGORIAN
METHOD:PUBLISH
X-WR-CALNAME:Winston Downs Community Association
X-ORIGINAL-URL:https://winstondowns.org
X-WR-CALDESC:Events for Winston Downs Community Association
REFRESH-INTERVAL;VALUE=DURATION:PT1H
X-Robots-Tag:noindex
X-PUBLISHED-TTL:PT1H
BEGIN:VTIMEZONE
TZID:America/Denver
BEGIN:DAYLIGHT
TZOFFSETFROM:-0700
TZOFFSETTO:-0600
TZNAME:MDT
DTSTART:20240310T090000
END:DAYLIGHT
BEGIN:STANDARD
TZOFFSETFROM:-0600
TZOFFSETTO:-0700
TZNAME:MST
DTSTART:20241103T080000
END:STANDARD
BEGIN:DAYLIGHT
TZOFFSETFROM:-0700
TZOFFSETTO:-0600
TZNAME:MDT
DTSTART:20250309T090000
END:DAYLIGHT
BEGIN:STANDARD
TZOFFSETFROM:-0600
TZOFFSETTO:-0700
TZNAME:MST
DTSTART:20251102T080000
END:STANDARD
BEGIN:DAYLIGHT
TZOFFSETFROM:-0700
TZOFFSETTO:-0600
TZNAME:MDT
DTSTART:20260308T090000
END:DAYLIGHT
BEGIN:STANDARD
TZOFFSETFROM:-0600
TZOFFSETTO:-0700
TZNAME:MST
DTSTART:20261101T080000
END:STANDARD
END:VTIMEZONE
BEGIN:VEVENT
DTSTART;TZID=America/Denver:20250620T090000
DTEND;TZID=America/Denver:20250620T180000
DTSTAMP:20260424T001724
CREATED:20250509T001945Z
LAST-MODIFIED:20250605T212749Z
UID:7041-1750410000-1750442400@winstondowns.org
SUMMARY:One Water Day 2025 Agenda is Live!
DESCRIPTION:Just Announced: One Water Day 2025 Agenda is Live!  Tickets are $60 to attend.\n\nWe’re excited to announce the official One Water Day is now live! Join us on Friday\, June 20\, at the Denver Botanic Gardens for a full day of connection\, collaboration and conversations at the intersection of water\, sustainability and community. \nThis year’s One Water Day agenda brings together public and private leaders from across the region to explore stormwater and the urban ecosystem\, highlighting the benefits of integrated stormwater management and collaboration across utilities \nTickets to One Water Day may be purchased as an add-on to the Watershed Summit. Ticket price $60.00 \nRegistration includes access to the Watershed Summit in the afternoon\, happy hour and full access to Denver Botanic Gardens on June 20. Lunch may be purchased as an add-on to registration.\n\n\n\n\n\n\n\n\n\n\n\n\n\n\nRegister Today
URL:https://winstondowns.org/event/just-announced-one-water-day-2025-agenda-is-live/
LOCATION:Denver Botanic Gardens\, 1007 York St\, Denver\, Colorado
CATEGORIES:Area Exhibitions-Public,Community Action Day,Denver Area Events
END:VEVENT
END:VCALENDAR