BEGIN:VCALENDAR
VERSION:2.0
PRODID:-//Winston Downs Community Association - ECPv6.15.20//NONSGML v1.0//EN
CALSCALE:GREGORIAN
METHOD:PUBLISH
X-ORIGINAL-URL:https://winstondowns.org
X-WR-CALDESC:Events for Winston Downs Community Association
REFRESH-INTERVAL;VALUE=DURATION:PT1H
X-Robots-Tag:noindex
X-PUBLISHED-TTL:PT1H
BEGIN:VTIMEZONE
TZID:America/Denver
BEGIN:DAYLIGHT
TZOFFSETFROM:-0700
TZOFFSETTO:-0600
TZNAME:MDT
DTSTART:20240310T090000
END:DAYLIGHT
BEGIN:STANDARD
TZOFFSETFROM:-0600
TZOFFSETTO:-0700
TZNAME:MST
DTSTART:20241103T080000
END:STANDARD
BEGIN:DAYLIGHT
TZOFFSETFROM:-0700
TZOFFSETTO:-0600
TZNAME:MDT
DTSTART:20250309T090000
END:DAYLIGHT
BEGIN:STANDARD
TZOFFSETFROM:-0600
TZOFFSETTO:-0700
TZNAME:MST
DTSTART:20251102T080000
END:STANDARD
BEGIN:DAYLIGHT
TZOFFSETFROM:-0700
TZOFFSETTO:-0600
TZNAME:MDT
DTSTART:20260308T090000
END:DAYLIGHT
BEGIN:STANDARD
TZOFFSETFROM:-0600
TZOFFSETTO:-0700
TZNAME:MST
DTSTART:20261101T080000
END:STANDARD
END:VTIMEZONE
BEGIN:VEVENT
DTSTART;VALUE=DATE:20251104
DTEND;VALUE=DATE:20251105
DTSTAMP:20260423T181308
CREATED:20251024T022939Z
LAST-MODIFIED:20251024T023021Z
UID:7635-1762214400-1762300799@winstondowns.org
SUMMARY:ELECTION DAY
DESCRIPTION:Key deadlines for the 2025 election \n\nLast recommended day to return ballots by mail: Monday\, October 27\, 2025.\nLast day to register and receive a ballot by mail: Monday\, October 27\, 2025.\nElection Day: Tuesday\, November 4\, 2025.\nFinal deadline for all ballots: All ballots\, whether mailed or dropped off\, must be received by the Denver Elections Division by 7 p.m. on Election Day\, November 4\, 2025. Postmarks do not count.\n\nBallot drop off box located at Cook Park\, 7100 Cherry Creek So. Dr.\, Denver 80224 – Best access due to construction is from S. Quebec and you can exit going north via Monaco or return to Quebec traffic light.
URL:https://winstondowns.org/event/election-day/
LOCATION:CO
CATEGORIES:Community Action Day
ATTACH;FMTTYPE=image/jpeg:https://winstondowns.org/wp-content/uploads/2020/10/vote.jpg
END:VEVENT
END:VCALENDAR