BEGIN:VCALENDAR
VERSION:2.0
PRODID:-//Winston Downs Community Association - ECPv6.15.20//NONSGML v1.0//EN
CALSCALE:GREGORIAN
METHOD:PUBLISH
X-WR-CALNAME:Winston Downs Community Association
X-ORIGINAL-URL:https://winstondowns.org
X-WR-CALDESC:Events for Winston Downs Community Association
REFRESH-INTERVAL;VALUE=DURATION:PT1H
X-Robots-Tag:noindex
X-PUBLISHED-TTL:PT1H
BEGIN:VTIMEZONE
TZID:America/Denver
BEGIN:DAYLIGHT
TZOFFSETFROM:-0700
TZOFFSETTO:-0600
TZNAME:MDT
DTSTART:20250309T090000
END:DAYLIGHT
BEGIN:STANDARD
TZOFFSETFROM:-0600
TZOFFSETTO:-0700
TZNAME:MST
DTSTART:20251102T080000
END:STANDARD
BEGIN:DAYLIGHT
TZOFFSETFROM:-0700
TZOFFSETTO:-0600
TZNAME:MDT
DTSTART:20260308T090000
END:DAYLIGHT
BEGIN:STANDARD
TZOFFSETFROM:-0600
TZOFFSETTO:-0700
TZNAME:MST
DTSTART:20261101T080000
END:STANDARD
BEGIN:DAYLIGHT
TZOFFSETFROM:-0700
TZOFFSETTO:-0600
TZNAME:MDT
DTSTART:20270314T090000
END:DAYLIGHT
BEGIN:STANDARD
TZOFFSETFROM:-0600
TZOFFSETTO:-0700
TZNAME:MST
DTSTART:20271107T080000
END:STANDARD
END:VTIMEZONE
BEGIN:VEVENT
DTSTART;TZID=America/Denver:20260423T090000
DTEND;TZID=America/Denver:20260423T170000
DTSTAMP:20260423T104401
CREATED:20260411T223909Z
LAST-MODIFIED:20260411T224519Z
UID:8241-1776934800-1776963600@winstondowns.org
SUMMARY:Denver Elections Job Fair April 23
DESCRIPTION:Elections Jobs \n\n\n\nIf you feel the call of civic responsibility\, Denver Elections is just the place for you! \nOur 2026 Job Fair is happening at 9 a.m. on April 23 at the Denver Clerk & Recorder Atrium\, 200 W. 14th Ave. \nPositions available include VSPC judges\, ballot processing judges\, customer service positions\, and many others! Most assignments are Monday through Friday\, with some Saturdays required. Assignments pay between $19.50 and $23.50 an hour.
URL:https://winstondowns.org/event/denver-elections-job-fair-coming-april-23/
LOCATION:Denver Clerk & Recorder/Elections\, 200 W. 14th Ave\, Denver\, CO
CATEGORIES:Community Action Day,Denver Area Events
END:VEVENT
END:VCALENDAR