BEGIN:VCALENDAR
VERSION:2.0
PRODID:-//Winston Downs Community Association - ECPv6.15.20//NONSGML v1.0//EN
CALSCALE:GREGORIAN
METHOD:PUBLISH
X-WR-CALNAME:Winston Downs Community Association
X-ORIGINAL-URL:https://winstondowns.org
X-WR-CALDESC:Events for Winston Downs Community Association
REFRESH-INTERVAL;VALUE=DURATION:PT1H
X-Robots-Tag:noindex
X-PUBLISHED-TTL:PT1H
BEGIN:VTIMEZONE
TZID:America/Denver
BEGIN:DAYLIGHT
TZOFFSETFROM:-0700
TZOFFSETTO:-0600
TZNAME:MDT
DTSTART:20220313T090000
END:DAYLIGHT
BEGIN:STANDARD
TZOFFSETFROM:-0600
TZOFFSETTO:-0700
TZNAME:MST
DTSTART:20221106T080000
END:STANDARD
BEGIN:DAYLIGHT
TZOFFSETFROM:-0700
TZOFFSETTO:-0600
TZNAME:MDT
DTSTART:20230312T090000
END:DAYLIGHT
BEGIN:STANDARD
TZOFFSETFROM:-0600
TZOFFSETTO:-0700
TZNAME:MST
DTSTART:20231105T080000
END:STANDARD
BEGIN:DAYLIGHT
TZOFFSETFROM:-0700
TZOFFSETTO:-0600
TZNAME:MDT
DTSTART:20240310T090000
END:DAYLIGHT
BEGIN:STANDARD
TZOFFSETFROM:-0600
TZOFFSETTO:-0700
TZNAME:MST
DTSTART:20241103T080000
END:STANDARD
BEGIN:DAYLIGHT
TZOFFSETFROM:-0700
TZOFFSETTO:-0600
TZNAME:MDT
DTSTART:20250309T090000
END:DAYLIGHT
BEGIN:STANDARD
TZOFFSETFROM:-0600
TZOFFSETTO:-0700
TZNAME:MST
DTSTART:20251102T080000
END:STANDARD
BEGIN:DAYLIGHT
TZOFFSETFROM:-0700
TZOFFSETTO:-0600
TZNAME:MDT
DTSTART:20260308T090000
END:DAYLIGHT
BEGIN:STANDARD
TZOFFSETFROM:-0600
TZOFFSETTO:-0700
TZNAME:MST
DTSTART:20261101T080000
END:STANDARD
BEGIN:DAYLIGHT
TZOFFSETFROM:-0700
TZOFFSETTO:-0600
TZNAME:MDT
DTSTART:20270314T090000
END:DAYLIGHT
BEGIN:STANDARD
TZOFFSETFROM:-0600
TZOFFSETTO:-0700
TZNAME:MST
DTSTART:20271107T080000
END:STANDARD
END:VTIMEZONE
BEGIN:VEVENT
DTSTART;TZID=America/Denver:20260307T100000
DTEND;TZID=America/Denver:20260307T140000
DTSTAMP:20260423T120953
CREATED:20260214T015548Z
LAST-MODIFIED:20260214T015548Z
UID:8038-1772877600-1772892000@winstondowns.org
SUMMARY:Self Defense Class - DPD Free
DESCRIPTION:Denver Police Department Self Defense Class March 7th – Location available when you click to register \nIn light of recent incidents in District 3 (Sector 1)\, the DPD District 3 team and Councilwoman Alvidrez have collaborated to act quickly and assemble a self defense class for local community members. \nOn Saturday\, March 7th from 10 am to 2 pm the Denver Police Department will be hosting a self-defense class\, in partnership with City Council District 7.  This class is open to all community members\, registration is required\, and spaces will fill quickly.  Registration opens Friday\, February 13th at 9 am. Please click on this LINK to register and reserve your spot. \nWhat to expect: \nOur experienced officers will teach you essential self-defense techniques in a safe and supportive environment. Don’t miss this opportunity to empower yourself and enhance your personal safety. Sign up now! \n*If you are between the ages of 12-18\, please have a legal guardian present to sign waiver prior to attending class. \nWe ask that you arrive at least 15 minutes early to park\, complete a waiver\, and get settled-in. \nWe DO NOT break for lunch. Please come in work-out attire and shoes. \nPlease click on this LINK to register and reserve your spot. \nFor questions regarding this class please email christie.mochoruk@denvergov.org
URL:https://winstondowns.org/event/self-defense-class-dpd-free/
LOCATION:CO
CATEGORIES:Community Police Meeting,HOT TOPICS,Safety & Traffic
END:VEVENT
BEGIN:VEVENT
DTSTART;TZID=America/Denver:20260304T180000
DTEND;TZID=America/Denver:20260304T200000
DTSTAMP:20260423T120953
CREATED:20260214T015805Z
LAST-MODIFIED:20260214T015805Z
UID:8040-1772647200-1772654400@winstondowns.org
SUMMARY:Community Meeting with District 3 Police - Open to all
DESCRIPTION:March 4th 2026\, at 6 PM – Community Meeting with Commander Bell (CAB) at District 3 Station 1625 S University Blvd. Everyone is welcome and encouraged to participate!  Hosted by Commander Bell and our DPD District 3 Law Enforcement Leadership (CAB). Special guest speaker will be Denver District Attorney John Walsh. The following CAB dates are tentatively set for 2026*: March 4th\, April 1st\, May 6th June 3rd\, September 2nd\, October 7th November 4th and December 2nd *Occasionally due to circumstances outside our control CAB dates may need to be adjusted throughout the year. Please check back monthly to confirm CAB meeting dates.
URL:https://winstondowns.org/event/community-meeting-with-district-3-police-open-to-all/
LOCATION:District 3 Police\, 1625 S University Blvd\, Denver\, CO\, United States
CATEGORIES:Community Police Meeting
END:VEVENT
BEGIN:VEVENT
DTSTART;TZID=America/Denver:20260218T110000
DTEND;TZID=America/Denver:20260218T120000
DTSTAMP:20260423T120953
CREATED:20260121T042103Z
LAST-MODIFIED:20260121T042250Z
UID:7908-1771412400-1771416000@winstondowns.org
SUMMARY:Coffee with a Cop
DESCRIPTION:Wednesday\, February 18th from 11 AM to Noon – Coffee with the Cops @ Starbucks Hampden and Locust – 6395 E. Hampden Ave \nDistrict 3 Police host coffee hour to visit with residents who attend
URL:https://winstondowns.org/event/coffee-with-a-cop-7/
LOCATION:CO
CATEGORIES:Community Police Meeting
ATTACH;FMTTYPE=image/jpeg:https://winstondowns.org/wp-content/uploads/2023/03/Coffee-with-a-Cop.jpg
END:VEVENT
BEGIN:VEVENT
DTSTART;TZID=America/Denver:20260204T180000
DTEND;TZID=America/Denver:20260204T200000
DTSTAMP:20260423T120953
CREATED:20260121T042406Z
LAST-MODIFIED:20260121T042455Z
UID:7911-1770228000-1770235200@winstondowns.org
SUMMARY:Police Dist 3 Community Meeting
DESCRIPTION:February 4th 2026\, at 6 PM – Community Meeting with Commander Bell (CAB) at District 3 Station 1625 S University Blvd. Everyone is welcome and encouraged to participate!  Hosted by Commander Bell and our DPD District 3 Law Enforcement Leadership (CAB). Parking available on site. \nThe following CAB dates are tentatively set for 2026*: February 4th\, March 4th\, April 1st\, May 6th June 3rd\, September 2nd\, October 7th November 4th and December 2nd *Occasionally due to circumstances outside our control CAB dates may need to be adjusted throughout the year. Please check back monthly to confirm CAB meetings.
URL:https://winstondowns.org/event/police-dist-3-community-meeting/
LOCATION:District 3 Police\, 1625 S University Blvd\, Denver\, CO\, United States
CATEGORIES:Community Police Meeting,District 3 Police
END:VEVENT
BEGIN:VEVENT
DTSTART;TZID=America/Denver:20260106T180000
DTEND;TZID=America/Denver:20260106T193000
DTSTAMP:20260423T120953
CREATED:20251231T010807Z
LAST-MODIFIED:20251231T010807Z
UID:7800-1767722400-1767727800@winstondowns.org
SUMMARY:Community Meeting with Commander Bell (CAB) at District 3 Police-Open to all
DESCRIPTION:January 7 2026\, at 6 PM – Community Meeting with Commander Bell (CAB) at District 3 Station 1625 S University Blvd. Everyone is welcome and encouraged to participate! \nHosted by Commander Bell and our DPD District 3 Law Enforcement Leadership (CAB). \nThe following CAB dates are tentatively set for 2026*: February 4th\, March 4th\, April 1st\, May 5th June 3rd\, September 2nd\, October 2nd November 4th and December 2nd *Occasionally due to circumstances outside our control CAB dates may need to be adjusted throughout the year. Please check back monthly to confirm CAB meetings.
URL:https://winstondowns.org/event/community-meeting-with-commander-bell-cab-at-district-3-police-open-to-all/
LOCATION:CO
CATEGORIES:Community Police Meeting
END:VEVENT
BEGIN:VEVENT
DTSTART;TZID=America/Denver:20251203T180000
DTEND;TZID=America/Denver:20251203T200000
DTSTAMP:20260423T120953
CREATED:20250930T174406Z
LAST-MODIFIED:20250930T174406Z
UID:7559-1764784800-1764792000@winstondowns.org
SUMMARY:Community Meeting with Commander Bell (CAB) at District 3 Station
DESCRIPTION:Wed Dec 3 – Community Meeting with Commander Bell (CAB) at District 3 Station 1625 S University Blvd. Everyone is welcome and encouraged to participate!  Hosted by Commander Bell and our \nEveryone is welcome and encouraged to participate!  Hosted by Commander Bell and our DPD District 3 Law Enforcement Leadership (CAB). Special guest speakers will be from Denver Police Departments Denver Auto Theft Taskforce (DATT).  Remaining CAB dates for 2025 are as follows: Dec 3rd.
URL:https://winstondowns.org/event/community-meeting-with-commander-bell-cab-at-district-3-station-3/
LOCATION:District 3 Police\, 1625 S University Blvd\, Denver\, CO\, United States
CATEGORIES:Community Police Meeting
END:VEVENT
BEGIN:VEVENT
DTSTART;TZID=America/Denver:20251105T180000
DTEND;TZID=America/Denver:20251105T200000
DTSTAMP:20260423T120953
CREATED:20250930T174108Z
LAST-MODIFIED:20250930T174132Z
UID:7555-1762365600-1762372800@winstondowns.org
SUMMARY:Community Meeting with Commander Bell (CAB) at District 3 Station
DESCRIPTION:Nov 5\, 2025 – Community Meeting with Commander Bell (CAB) at District 3 Station 1625 S University Blvd. -6PM \nEveryone is welcome and encouraged to participate!  Hosted by Commander Bell and our DPD District 3 Law Enforcement Leadership (CAB). Special guest speakers will be from Denver Police Departments Denver Auto Theft Taskforce (DATT).  Remaining CAB dates for 2025 are as follows: Dec 3rd.
URL:https://winstondowns.org/event/community-meeting-with-commander-bell-cab-at-district-3-station-2/
LOCATION:District 3 Police\, 1625 S University Blvd\, Denver\, CO\, United States
CATEGORIES:Community Police Meeting
END:VEVENT
BEGIN:VEVENT
DTSTART;TZID=America/Denver:20251105T180000
DTEND;TZID=America/Denver:20251105T193000
DTSTAMP:20260423T120953
CREATED:20250804T233213Z
LAST-MODIFIED:20250804T233213Z
UID:7370-1762365600-1762371000@winstondowns.org
SUMMARY:District 3 Police Community Meeting
DESCRIPTION:Community Meeting with Commander Bell (CAB) at District 3 Station 1625 S University Blvd. Everyone is welcome and encouraged to participate!  Hosted by Commander Bell and our DPD District 3 Law Enforcement Leadership (CAB). Remaining CAB dates for 2025 are as follows:  Nov. 5th\, and Dec 3rd.
URL:https://winstondowns.org/event/district-3-police-community-meeting-2/
LOCATION:District 3 Police\, 1625 S University Blvd\, Denver\, CO\, United States
CATEGORIES:Community Police Meeting
END:VEVENT
BEGIN:VEVENT
DTSTART;TZID=America/Denver:20251015T100000
DTEND;TZID=America/Denver:20251015T120000
DTSTAMP:20260423T120953
CREATED:20250930T174837Z
LAST-MODIFIED:20250930T174901Z
UID:7564-1760522400-1760529600@winstondowns.org
SUMMARY:Coffee with a Cop-District 3
DESCRIPTION:Wednesday\, October 15th from 10 AM to Noon Coffee with the Cops @ Nixon’s Coffee House 695 W Louisiana Ave. \n(Our monthly reoccurring Coffee with the Cops event has been moved to the 3rd Wednesday of every month)
URL:https://winstondowns.org/event/coffee-with-a-cop-district-3/
LOCATION:Nixon’s Cafe\, 695 E Louisiana\, Denver\, CO
CATEGORIES:Community Police Meeting
END:VEVENT
BEGIN:VEVENT
DTSTART;TZID=America/Denver:20251008T180000
DTEND;TZID=America/Denver:20251008T200000
DTSTAMP:20260423T120953
CREATED:20250930T173922Z
LAST-MODIFIED:20250930T173922Z
UID:7553-1759946400-1759953600@winstondowns.org
SUMMARY:Community Meeting with Commander Bell (CAB) at District 3 Station
DESCRIPTION:  \nOctober 8th – Community Meeting with Commander Bell (CAB) at District 3 Station 1625 S University Blvd. -6PM \nEveryone is welcome and encouraged to participate!  Hosted by Commander Bell and our DPD District 3 Law Enforcement Leadership (CAB). Special guest speakers will be from Denver Police Departments Denver Auto Theft Taskforce (DATT).  Remaining CAB dates for 2025 are as follows: Nov. 5th\, and Dec 3rd.
URL:https://winstondowns.org/event/community-meeting-with-commander-bell-cab-at-district-3-station/
LOCATION:District 3 Police\, 1625 S University Blvd\, Denver\, CO\, United States
CATEGORIES:Community Police Meeting
END:VEVENT
BEGIN:VEVENT
DTSTART;TZID=America/Denver:20251008T180000
DTEND;TZID=America/Denver:20251008T193000
DTSTAMP:20260423T120953
CREATED:20250804T233039Z
LAST-MODIFIED:20250804T233039Z
UID:7368-1759946400-1759951800@winstondowns.org
SUMMARY:District 3 Police Community Meeting
DESCRIPTION:Community Meeting with Commander Bell (CAB) at District 3 Station 1625 S University Blvd. Everyone is welcome and encouraged to participate!  Hosted by Commander Bell and our DPD District 3 Law Enforcement Leadership (CAB). Remaining CAB dates for 2025 are as follows: \, Oct 8th\, Nov. 5th\, and Dec 3rd.
URL:https://winstondowns.org/event/district-3-police-community-meeting/
LOCATION:District 3 Police\, 1625 S University Blvd\, Denver\, CO\, United States
CATEGORIES:Community Police Meeting
END:VEVENT
BEGIN:VEVENT
DTSTART;TZID=America/Denver:20251001T100000
DTEND;TZID=America/Denver:20251001T120000
DTSTAMP:20260423T120953
CREATED:20250930T174614Z
LAST-MODIFIED:20250930T174624Z
UID:7561-1759312800-1759320000@winstondowns.org
SUMMARY:National Coffee with Cops Day
DESCRIPTION:October 1st from 10am to Noon National Coffee with Cops Day event at Woodgrain Bagel 7559 E Academy Blvd. – Lowry near Wings over the Rockies \n 
URL:https://winstondowns.org/event/national-coffee-with-cops/
LOCATION:CO
CATEGORIES:Community Police Meeting
END:VEVENT
BEGIN:VEVENT
DTSTART;TZID=America/Denver:20250910T080000
DTEND;TZID=America/Denver:20250910T170000
DTSTAMP:20260423T120953
CREATED:20250804T232844Z
LAST-MODIFIED:20250804T232844Z
UID:7366-1757491200-1757523600@winstondowns.org
SUMMARY:District 3 Community Meeting
DESCRIPTION:September 10th – Community Meeting with Commander Bell (CAB) at District 3 Station 1625 S University Blvd. Everyone is welcome and encouraged to participate!  Hosted by Commander Bell and our DPD District 3 Law Enforcement Leadership (CAB). Remaining CAB dates for 2025 are as follows: \, Sept. 10th\, Oct 8th\, Nov. 5th\, and Dec 3rd.
URL:https://winstondowns.org/event/district-3-community-meeting/
LOCATION:District 3 Police\, 1625 S University Blvd\, Denver\, CO\, United States
CATEGORIES:Community Police Meeting
END:VEVENT
BEGIN:VEVENT
DTSTART;TZID=America/Denver:20250520T190000
DTEND;TZID=America/Denver:20250520T203000
DTSTAMP:20260423T120953
CREATED:20250419T225112Z
LAST-MODIFIED:20250419T225139Z
UID:6929-1747767600-1747773000@winstondowns.org
SUMMARY:WINSTON DOWNS 3rd ANNUAL SAFETY MEETING
DESCRIPTION:Hosted by WDCA \nTuesday\, May 20\, 2025\n7:00pm – 8:30pm \nLocation:\nBMH-BJ Synagogue-Fisher Hall\n560 S. Monaco Pkwy.\n(Use back entry. Free parking & HC access is also in back.) \nTopic: All about the latest Scams & Frauds\nSpeakers will update us & include time for Q/A \n 
URL:https://winstondowns.org/event/winston-downs-3rd-annual-safety-meeting/
LOCATION:CO
CATEGORIES:Community Police Meeting,Safety & Traffic
ORGANIZER;CN="WDCA":MAILTO:info@winstondowns.org
END:VEVENT
BEGIN:VEVENT
DTSTART;TZID=America/Denver:20250410T110000
DTEND;TZID=America/Denver:20250410T120000
DTSTAMP:20260423T120953
CREATED:20250311T223213Z
LAST-MODIFIED:20250311T223324Z
UID:6749-1744282800-1744286400@winstondowns.org
SUMMARY:Coffee with the Cops (District 3 Police) in Lowry
DESCRIPTION:Thursday April 10 from 11am to noon at Lowry’s Woodgrain Bagels located at 7559 E Academy Blvd.  Same area as Wings over the Rockies. \n 
URL:https://winstondowns.org/event/coffee-with-the-cops-district-3-police/
LOCATION:CO
CATEGORIES:Community Police Meeting
END:VEVENT
BEGIN:VEVENT
DTSTART;TZID=America/Denver:20250219T100000
DTEND;TZID=America/Denver:20250219T120000
DTSTAMP:20260423T120953
CREATED:20250131T000417Z
LAST-MODIFIED:20250131T001930Z
UID:6571-1739959200-1739966400@winstondowns.org
SUMMARY:Coffee with the Cops
DESCRIPTION:Wednesday\, February 19th from 10 AM to Noon Coffee with the Cops @ Nixon’s Coffee House 695 W Louisiana Ave. (Our monthly reoccurring Coffee with the Cops event has been moved to the 3rd Wednesday of every month)
URL:https://winstondowns.org/event/coffee-with-the-cops-3/
LOCATION:Nixon’s Cafe\, 695 E Louisiana\, Denver\, CO
CATEGORIES:Community Police Meeting,District 3 Police
END:VEVENT
BEGIN:VEVENT
DTSTART;TZID=America/Denver:20250205T180000
DTEND;TZID=America/Denver:20250205T200000
DTSTAMP:20260423T120953
CREATED:20250130T234809Z
LAST-MODIFIED:20250130T234809Z
UID:6561-1738778400-1738785600@winstondowns.org
SUMMARY:Community Meeting with DPD District 3 Commander Bell
DESCRIPTION:Wednesday\, February 5th\,  at 6 PM Community Meeting with Commander Bell (CAB) at District 3 Station 1625 S University Blvd. Everyone is welcome and encouraged to participate!  Hosted by Commander Bell and our DPD District 3 Law Enforcement Leadership (CAB).  Our guest speaker will be Sgt. Jeremy Cain from DPD’s Strategic Investigations Unit which supports DPD’s FLOCK camera systems. Learn about crime stats and trends that affect our local neighborhoods.  Questions and comments can be asked at the end of this meeting. CAB dates for 2025 are as follows: Feb. 5th\, March 5th\, April 2nd\, May 7th\, June 4th\, No July or August date\, Sept. 10th\, Oct 8th\, Nov. 5th\, and Dec 3rd.
URL:https://winstondowns.org/event/community-meeting-with-dpd-district-3-commander-bell/
LOCATION:District 3 Police\, 1625 S University Blvd\, Denver\, CO\, United States
CATEGORIES:Community Police Meeting,District 3 Police
END:VEVENT
BEGIN:VEVENT
DTSTART;TZID=America/Denver:20250111T130000
DTEND;TZID=America/Denver:20250111T150000
DTSTAMP:20260423T120953
CREATED:20250130T235926Z
LAST-MODIFIED:20250131T000250Z
UID:6567-1736600400-1736607600@winstondowns.org
SUMMARY:Coffee with the Cops
DESCRIPTION:Tuesday\, February 11th  from 1 PM to 3 PM Coffee with the Cops at Starbucks 5074 E Hampden Ave \nBetween Forest & Fairfax on south side of Hampden – Happy Canyon Rd
URL:https://winstondowns.org/event/coffee-with-the-cops-2/
LOCATION:CO
CATEGORIES:Community Police Meeting,District 3 Police
END:VEVENT
BEGIN:VEVENT
DTSTART;TZID=America/Denver:20250108T100000
DTEND;TZID=America/Denver:20250108T120000
DTSTAMP:20260423T120953
CREATED:20250104T040011Z
LAST-MODIFIED:20250104T040011Z
UID:6463-1736330400-1736337600@winstondowns.org
SUMMARY:Coffee with a Cop
DESCRIPTION:Wednesday\, January 8th from 10am to noon – Coffee with the Cops @ Nixon’s Coffee House 695 W Louisiana Ave.
URL:https://winstondowns.org/event/coffee-with-a-cop-4/
LOCATION:Nixon’s Cafe\, 695 E Louisiana\, Denver\, CO
CATEGORIES:Community Police Meeting,District 3 Police,Safety & Traffic
END:VEVENT
BEGIN:VEVENT
DTSTART;TZID=America/Denver:20241122T110000
DTEND;TZID=America/Denver:20241122T130000
DTSTAMP:20260423T120953
CREATED:20241106T213342Z
LAST-MODIFIED:20241106T213359Z
UID:6062-1732273200-1732280400@winstondowns.org
SUMMARY:Crime Prevention Tune Up with DPD
DESCRIPTION:
URL:https://winstondowns.org/event/crime-prevention-tune-up-with-dpd/
LOCATION:District 3 Police\, 1625 S University Blvd\, Denver\, CO\, United States
CATEGORIES:Community Action Day,Community Police Meeting,District 3 Police,Safety & Traffic
END:VEVENT
BEGIN:VEVENT
DTSTART;TZID=America/Denver:20240626T063000
DTEND;TZID=America/Denver:20240626T090000
DTSTAMP:20260423T120953
CREATED:20240607T010909Z
LAST-MODIFIED:20240607T010909Z
UID:5514-1719383400-1719392400@winstondowns.org
SUMMARY:Bike to Work Event (Denver Police Event)
DESCRIPTION:
URL:https://winstondowns.org/event/bike-to-work-event-denver-police-event/
LOCATION:CO
CATEGORIES:Community Action Day,Community Police Meeting
END:VEVENT
BEGIN:VEVENT
DTSTART;TZID=America/Denver:20240501T180000
DTEND;TZID=America/Denver:20240501T193000
DTSTAMP:20260423T120953
CREATED:20240422T220013Z
LAST-MODIFIED:20240422T220013Z
UID:5350-1714586400-1714591800@winstondowns.org
SUMMARY:Denver Police District 3 Community Meeting - Topic "Fraud" & See 1930 Ford Model A Police Car
DESCRIPTION:Wednesday\, May 1st at 6:00 pm Community Meeting with Commander Bell (CAB) at the District 3 Station 1625 S. University Blvd. Before the meeting starts the Denver Police Museum will be outside the station with their 1930 Ford Model A Denver Police Car. Everyone is welcome and encouraged to participate! \nSpecial guest speaker will be Sgt. Kimberly from DPD’s Fraud Unit.  Hosted by Commander Bell and our DPD District 3 Law Enforcement Leadership (CAB).  Learn about crime stats and trends that affect our local neighborhoods.  Questions and comments can be asked at the end of this meeting. \n*2024 Meeting Schedule –June 5th\, July 10th\, Sept. 11th\, Oct 2nd\, November 6th\, and Dec 4th (dates subject to change)
URL:https://winstondowns.org/event/denver-police-district-3-community-meeting-topic-fraud-see-1930-ford-model-a-police-car/
LOCATION:District 3 Police\, 1625 S University Blvd\, Denver\, CO\, United States
CATEGORIES:Community Police Meeting
END:VEVENT
BEGIN:VEVENT
DTSTART;TZID=America/Denver:20240430T180000
DTEND;TZID=America/Denver:20240430T190000
DTSTAMP:20260423T120953
CREATED:20240422T220905Z
LAST-MODIFIED:20240422T221046Z
UID:5356-1714500000-1714503600@winstondowns.org
SUMMARY:Fentanyl Awareness and Safety Presentation
DESCRIPTION:Tuesday\, April 30th at 6:00 pm to 7:00 pm at our District 3 Station 1625 S University Blvd. Fentanyl Awareness and Safety Presentation – Join DPD’s Fentanyl Investigation Team for this free\, one hour event to learn about the dangers of fentanyl\, what Investigators are doing to combat it\, and how you can help.  Limited Space – Please RSVP \nChristie Mochoruk   christie.mochoruk@denvergov.org \nDEA Warns of Brightly-Colored Fentanyl Used to Target Young Americans\n\n\n\n\n\n\n 
URL:https://winstondowns.org/event/fentanyl-awareness-and-safety-presentation/
LOCATION:District 3 Police\, 1625 S University Blvd\, Denver\, CO\, United States
CATEGORIES:Community Action Day,Community Police Meeting,District 3 Police
END:VEVENT
BEGIN:VEVENT
DTSTART;VALUE=DATE:20240427
DTEND;VALUE=DATE:20240429
DTSTAMP:20260423T120953
CREATED:20240329T201658Z
LAST-MODIFIED:20240329T201658Z
UID:5209-1714176000-1714348799@winstondowns.org
SUMMARY:Denver Police 2024 Women's Community Academy
DESCRIPTION:Denver Police 2024 Women’s Community Academy for women interested in a career in law enforcement. This community academy is a free\, two-day interactive event designed for women hosted by policewomen. The DPD Women’s Community Academy will be held at the Training Academy on Saturday\, April 27th and Sunday\, April 28th. You must register in advance by submitting an application.  Address supplied when you register. \nSpace is LIMITED\, so please apply early. Participants must be at least 21 years of age. Completion of both days is mandatory. Those interested must complete an application form and pass a basic background check to be considered for acceptance. Application deadline is April 14\, 2024. Forms can be found online at https://bit.ly/3riRChL. For more information email Jeannette.Dominguez@denvergov.org.
URL:https://winstondowns.org/event/denver-police-2024-womens-community-academy/
LOCATION:CO
CATEGORIES:Community Police Meeting,Special Events
END:VEVENT
BEGIN:VEVENT
DTSTART;TZID=America/Denver:20240424T183000
DTEND;TZID=America/Denver:20240424T200000
DTSTAMP:20260423T120953
CREATED:20240329T201403Z
LAST-MODIFIED:20240329T201442Z
UID:5206-1713983400-1713988800@winstondowns.org
SUMMARY:Denver Police Explorer Open House for Persons 15-20 years of age
DESCRIPTION:Denver Police Explorer Open House – Wednesday April 24th at 6:30pm at the Denver Police Academy 2155 N Akron Way. The Denver Police Explorer program emphasizes leadership\, teamwork and strong values while teaching basic skills in law enforcement that will lend to any young person’s future success. \nEvent open to youth ages 15 to 20 years of age and their families. For more information go to https://denvergov.org/Government/Agencies-Departments-Offices/Agencies-Departments-Offices-Directory/Police-Department/Programs-Services/Explorer-Program or contact raymond.sheridan@denvergov.org
URL:https://winstondowns.org/event/denver-police-explorer-open-house/
LOCATION:Denver Police Academy\, 2155 N. Akron Way\, Denver\, CO
CATEGORIES:Community Police Meeting,HOT TOPICS
END:VEVENT
BEGIN:VEVENT
DTSTART;TZID=America/Denver:20240403T180000
DTEND;TZID=America/Denver:20240403T190000
DTSTAMP:20260423T120953
CREATED:20240329T200605Z
LAST-MODIFIED:20240329T201135Z
UID:5203-1712167200-1712170800@winstondowns.org
SUMMARY:Community Crime Prevention Coalition
DESCRIPTION:Wednesday\, April 3rd from 6pm to 7pm Community Crime Prevention Coalition with Chief Thomas and Commander Bell at South High School 1700 E. Louisiana Ave.  This event will be held in lieu of April’s Community Meeting with Commander Bell – Everyone is welcome and encouraged to attend. At this meeting you will have a front row seat to observe a crime strategy meeting with DPD District 3 Command Staff\, Denver Police Division Chiefs\, and Chief Thomas. \nBefore concluding this informative and interactive meeting\, Chief Thomas will open this meeting up for the community to give comments\, share thoughts\, or ask questions regarding the strategies discussed at this meeting.
URL:https://winstondowns.org/event/community-crime-prevention-coalition/
LOCATION:South High School\, 1700 E Louisiana Ave\, Denver\, CO
CATEGORIES:Community Police Meeting,Denver Area Events
END:VEVENT
BEGIN:VEVENT
DTSTART;TZID=America/Denver:20240302T090000
DTEND;TZID=America/Denver:20240302T130000
DTSTAMP:20260423T120953
CREATED:20240208T015717Z
LAST-MODIFIED:20240208T015754Z
UID:5004-1709370000-1709384400@winstondowns.org
SUMMARY:Self Defense Class-Krav Maga
DESCRIPTION:Saturday\, March 2nd 9 am to 1 pm District 3 Station 1625 S University Blvd \nREGISTRATION IS REQUIRED – VERY LIMITED SPACE \nIn this class\, we teach the art of self-defense known as Krav Maga – which is a military self-defense and fighting system developed for the Israeli Defense Forces. This is the same system taught to every Denver Police officer while in the police academy. \nWe are not doing anything ‘ninja-like’; you will learn techniques you can do at home. People of all ages have participated in this class with no issue. \nThe age limit is 12 years-of-age (NO EXCEPTIONS); a waiver must be signed by their parent or legal guardian. \nWe ask that you arrive at least 15 minutes early to park\, complete a waiver\, and get settled-in. We will provide water and snacks since we DO NOT break for lunch. \nPlease come in work-out attire and shoes. \nYOU MUST BE A DENVER RESIDENT OR WORK IN DENVER TO ATTEND. \nTHIS CLASS IS FOR ANYONE THAT MAY BE INTERESTED IN LEARNING PERSONAL SAFETY TECHNIQUES!! \nLink to register: https://shorturl.at/sBNVX
URL:https://winstondowns.org/event/self-defense-class-krav-maga/
LOCATION:District 3 Police\, 1625 S University Blvd\, Denver\, CO\, United States
CATEGORIES:Community Police Meeting
END:VEVENT
BEGIN:VEVENT
DTSTART;TZID=America/Denver:20231114T090000
DTEND;TZID=America/Denver:20231114T110000
DTSTAMP:20260423T120953
CREATED:20231020T210017Z
LAST-MODIFIED:20231020T210017Z
UID:4555-1699952400-1699959600@winstondowns.org
SUMMARY:November Coffee with a Cop
DESCRIPTION:November 14th from 9 am to 11 am at Starbucks in Lowry Town Center 200 Quebec St.
URL:https://winstondowns.org/event/november-coffee-with-a-cop-2/
LOCATION:CO
CATEGORIES:Community Police Meeting
END:VEVENT
BEGIN:VEVENT
DTSTART;TZID=America/Denver:20231108T083000
DTEND;TZID=America/Denver:20231108T100000
DTSTAMP:20260423T120953
CREATED:20231020T205927Z
LAST-MODIFIED:20231020T205927Z
UID:4553-1699432200-1699437600@winstondowns.org
SUMMARY:November Coffee with a Cop
DESCRIPTION:November 8th from 8:30 am to 10 am at Target in Lowry 93 N Quebec St.  \nNovember 14th from 9 am to 11 am at Starbucks in Lowry Town Center 200 Quebec St.
URL:https://winstondowns.org/event/november-coffee-with-a-cop/
LOCATION:CO
CATEGORIES:Community Police Meeting
END:VEVENT
BEGIN:VEVENT
DTSTART;TZID=America/Denver:20231012T180000
DTEND;TZID=America/Denver:20231012T200000
DTSTAMP:20260423T120953
CREATED:20230921T190728Z
LAST-MODIFIED:20231021T195138Z
UID:4392-1697133600-1697140800@winstondowns.org
SUMMARY:Denver Police Academy at Dist 3
DESCRIPTION:Denver Police Community Academy at District 3 – Five Thursday evenings starting on October 12th(6pm to 8pm). Behind the scenes look into many of the Departments inside DPD.  Free\, but very limited space\, must apply and pass background check before September 29th.  Apply here  
URL:https://winstondowns.org/event/denver-police-academy-at-dist-3/
LOCATION:District 3 Police\, 1625 S University Blvd\, Denver\, CO\, United States
CATEGORIES:Community Police Meeting
END:VEVENT
END:VCALENDAR