BEGIN:VCALENDAR
VERSION:2.0
PRODID:-//Winston Downs Community Association - ECPv6.15.20//NONSGML v1.0//EN
CALSCALE:GREGORIAN
METHOD:PUBLISH
X-ORIGINAL-URL:https://winstondowns.org
X-WR-CALDESC:Events for Winston Downs Community Association
REFRESH-INTERVAL;VALUE=DURATION:PT1H
X-Robots-Tag:noindex
X-PUBLISHED-TTL:PT1H
BEGIN:VTIMEZONE
TZID:America/Denver
BEGIN:DAYLIGHT
TZOFFSETFROM:-0700
TZOFFSETTO:-0600
TZNAME:MDT
DTSTART:20240310T090000
END:DAYLIGHT
BEGIN:STANDARD
TZOFFSETFROM:-0600
TZOFFSETTO:-0700
TZNAME:MST
DTSTART:20241103T080000
END:STANDARD
BEGIN:DAYLIGHT
TZOFFSETFROM:-0700
TZOFFSETTO:-0600
TZNAME:MDT
DTSTART:20250309T090000
END:DAYLIGHT
BEGIN:STANDARD
TZOFFSETFROM:-0600
TZOFFSETTO:-0700
TZNAME:MST
DTSTART:20251102T080000
END:STANDARD
BEGIN:DAYLIGHT
TZOFFSETFROM:-0700
TZOFFSETTO:-0600
TZNAME:MDT
DTSTART:20260308T090000
END:DAYLIGHT
BEGIN:STANDARD
TZOFFSETFROM:-0600
TZOFFSETTO:-0700
TZNAME:MST
DTSTART:20261101T080000
END:STANDARD
BEGIN:DAYLIGHT
TZOFFSETFROM:-0700
TZOFFSETTO:-0600
TZNAME:MDT
DTSTART:20270314T090000
END:DAYLIGHT
BEGIN:STANDARD
TZOFFSETFROM:-0600
TZOFFSETTO:-0700
TZNAME:MST
DTSTART:20271107T080000
END:STANDARD
END:VTIMEZONE
BEGIN:VEVENT
DTSTART;TZID=America/Denver:20250205T180000
DTEND;TZID=America/Denver:20250205T200000
DTSTAMP:20260425T085327
CREATED:20250130T234809Z
LAST-MODIFIED:20250130T234809Z
UID:6561-1738778400-1738785600@winstondowns.org
SUMMARY:Community Meeting with DPD District 3 Commander Bell
DESCRIPTION:Wednesday\, February 5th\,  at 6 PM Community Meeting with Commander Bell (CAB) at District 3 Station 1625 S University Blvd. Everyone is welcome and encouraged to participate!  Hosted by Commander Bell and our DPD District 3 Law Enforcement Leadership (CAB).  Our guest speaker will be Sgt. Jeremy Cain from DPD’s Strategic Investigations Unit which supports DPD’s FLOCK camera systems. Learn about crime stats and trends that affect our local neighborhoods.  Questions and comments can be asked at the end of this meeting. CAB dates for 2025 are as follows: Feb. 5th\, March 5th\, April 2nd\, May 7th\, June 4th\, No July or August date\, Sept. 10th\, Oct 8th\, Nov. 5th\, and Dec 3rd.
URL:https://winstondowns.org/event/community-meeting-with-dpd-district-3-commander-bell/
LOCATION:District 3 Police\, 1625 S University Blvd\, Denver\, CO\, United States
CATEGORIES:Community Police Meeting,District 3 Police
END:VEVENT
BEGIN:VEVENT
DTSTART;TZID=America/Denver:20250219T100000
DTEND;TZID=America/Denver:20250219T120000
DTSTAMP:20260425T085327
CREATED:20250131T000417Z
LAST-MODIFIED:20250131T001930Z
UID:6571-1739959200-1739966400@winstondowns.org
SUMMARY:Coffee with the Cops
DESCRIPTION:Wednesday\, February 19th from 10 AM to Noon Coffee with the Cops @ Nixon’s Coffee House 695 W Louisiana Ave. (Our monthly reoccurring Coffee with the Cops event has been moved to the 3rd Wednesday of every month)
URL:https://winstondowns.org/event/coffee-with-the-cops-3/
LOCATION:Nixon’s Cafe\, 695 E Louisiana\, Denver\, CO
CATEGORIES:Community Police Meeting,District 3 Police
END:VEVENT
BEGIN:VEVENT
DTSTART;TZID=America/Denver:20250219T180000
DTEND;TZID=America/Denver:20250219T190000
DTSTAMP:20260425T085327
CREATED:20250131T000126Z
LAST-MODIFIED:20250131T000126Z
UID:6569-1739988000-1739991600@winstondowns.org
SUMMARY:Neighborhood Watch Action and Awareness Training
DESCRIPTION:  \nWednesday\, February 19th from 6 PM to 7 PM – Neighborhood Watch Action and Awareness Training at DPD District 3 Station 1625 S University Blvd. DPD’s District 3 Neighborhood Watch program offers a partnership between officers and the community members they serve.  Officers promote neighborhood connectivity by encouraging neighbors to get to know one another\, reporting suspicious behavior to the police\, and by creating awareness through Implicit Bias education – reminding neighbors – it’s the person’s behavior\, not the person to be mindful of when observing and reporting suspicious behavior to the Police. Please RSVP.
URL:https://winstondowns.org/event/neighborhood-watch-action-and-awareness-training-2/
LOCATION:District 3 Police\, 1625 S University Blvd\, Denver\, CO\, United States
CATEGORIES:District 3 Police,Neighborhood Watch Training
END:VEVENT
BEGIN:VEVENT
DTSTART;TZID=America/Denver:20250521T100000
DTEND;TZID=America/Denver:20250521T120000
DTSTAMP:20260425T085327
CREATED:20250505T002815Z
LAST-MODIFIED:20250505T002815Z
UID:6982-1747821600-1747828800@winstondowns.org
SUMMARY:Coffee with a Cop
DESCRIPTION:Wednesday\, May 21st from 10 AM to Noon Coffee with the Cops @ Nixon’s Coffee House 695 W Louisiana Ave.\n(Our monthly reoccurring Coffee with the Cops event has been moved to the 3rd Wednesday of every month)
URL:https://winstondowns.org/event/coffee-with-a-cop-5/
LOCATION:Nixon Coffee House\, 695 E Louisiana\, Denver\, CO
CATEGORIES:District 3 Police
END:VEVENT
BEGIN:VEVENT
DTSTART;TZID=America/Denver:20260204T180000
DTEND;TZID=America/Denver:20260204T200000
DTSTAMP:20260425T085327
CREATED:20260121T042406Z
LAST-MODIFIED:20260121T042455Z
UID:7911-1770228000-1770235200@winstondowns.org
SUMMARY:Police Dist 3 Community Meeting
DESCRIPTION:February 4th 2026\, at 6 PM – Community Meeting with Commander Bell (CAB) at District 3 Station 1625 S University Blvd. Everyone is welcome and encouraged to participate!  Hosted by Commander Bell and our DPD District 3 Law Enforcement Leadership (CAB). Parking available on site. \nThe following CAB dates are tentatively set for 2026*: February 4th\, March 4th\, April 1st\, May 6th June 3rd\, September 2nd\, October 7th November 4th and December 2nd *Occasionally due to circumstances outside our control CAB dates may need to be adjusted throughout the year. Please check back monthly to confirm CAB meetings.
URL:https://winstondowns.org/event/police-dist-3-community-meeting/
LOCATION:District 3 Police\, 1625 S University Blvd\, Denver\, CO\, United States
CATEGORIES:Community Police Meeting,District 3 Police
END:VEVENT
END:VCALENDAR