BEGIN:VCALENDAR
VERSION:2.0
PRODID:-//Winston Downs Community Association - ECPv6.15.20//NONSGML v1.0//EN
CALSCALE:GREGORIAN
METHOD:PUBLISH
X-WR-CALNAME:Winston Downs Community Association
X-ORIGINAL-URL:https://winstondowns.org
X-WR-CALDESC:Events for Winston Downs Community Association
REFRESH-INTERVAL;VALUE=DURATION:PT1H
X-Robots-Tag:noindex
X-PUBLISHED-TTL:PT1H
BEGIN:VTIMEZONE
TZID:America/Denver
BEGIN:DAYLIGHT
TZOFFSETFROM:-0700
TZOFFSETTO:-0600
TZNAME:MDT
DTSTART:20230312T090000
END:DAYLIGHT
BEGIN:STANDARD
TZOFFSETFROM:-0600
TZOFFSETTO:-0700
TZNAME:MST
DTSTART:20231105T080000
END:STANDARD
BEGIN:DAYLIGHT
TZOFFSETFROM:-0700
TZOFFSETTO:-0600
TZNAME:MDT
DTSTART:20240310T090000
END:DAYLIGHT
BEGIN:STANDARD
TZOFFSETFROM:-0600
TZOFFSETTO:-0700
TZNAME:MST
DTSTART:20241103T080000
END:STANDARD
BEGIN:DAYLIGHT
TZOFFSETFROM:-0700
TZOFFSETTO:-0600
TZNAME:MDT
DTSTART:20250309T090000
END:DAYLIGHT
BEGIN:STANDARD
TZOFFSETFROM:-0600
TZOFFSETTO:-0700
TZNAME:MST
DTSTART:20251102T080000
END:STANDARD
END:VTIMEZONE
BEGIN:VEVENT
DTSTART;TZID=America/Denver:20240130T173000
DTEND;TZID=America/Denver:20240130T193000
DTSTAMP:20260425T070347
CREATED:20231212T212313Z
LAST-MODIFIED:20231212T213559Z
UID:4831-1706635800-1706643000@winstondowns.org
SUMMARY:District 5 Projects Night hosted by CW Sawyer
DESCRIPTION:Councilmember Sawyer will be hosting ‘D5 Projects Night’ on January 30th from 5:30 p.m. to 7:30 p.m. at George Washington High School located at 655 S Monaco St Pkwy\, Denver\, CO 80224. Free parking onsite. HC access available as well. \nOur office is inviting City agencies and community partners to be in one room in an open house format with information about projects specific to Council District 5. \nThe agencies and community partners that will be in attendance are: Department of Parks and Recreation (DPR)\, Department of Transportation and Infrastructure (DOTI)\, Community Planning and Development (CPD)\, Denver Public Library\, Transportation Solutions\, RTD\, Denver Public Schools\, Denver Regional Council of Governments (DRCOG)\, DPD2 and DPD3\, Denver Fire\, Denver Water\, Xcel\, the Mayor’s Office\, Denver Economic Development & Opportunity (DEDO)\, Department of Public Health and Environment (DPHE)\, Excise and Licenses (EXL)\, and the Clerk and Recorder’s office. \nThis event will be an open house format\, so that residents can walk from table to table to speak to whichever agency (or agencies!) they have questions for or requests of. Each agency and community partner will have a table and staff members there\, so there won’t be any formal presentations\, just an open format for residents to have one-on-one conversations with these agencies and community partners.
URL:https://winstondowns.org/event/district-5-projects-night-hosted-by-cw-sawyer/
LOCATION:George Washington High School\, Monaco at E. Expo\, Denver\, CO
CATEGORIES:District 5 Initiative Meeting
END:VEVENT
END:VCALENDAR