BEGIN:VCALENDAR
VERSION:2.0
PRODID:-//Winston Downs Community Association - ECPv6.15.20//NONSGML v1.0//EN
CALSCALE:GREGORIAN
METHOD:PUBLISH
X-ORIGINAL-URL:https://winstondowns.org
X-WR-CALDESC:Events for Winston Downs Community Association
REFRESH-INTERVAL;VALUE=DURATION:PT1H
X-Robots-Tag:noindex
X-PUBLISHED-TTL:PT1H
BEGIN:VTIMEZONE
TZID:America/Denver
BEGIN:DAYLIGHT
TZOFFSETFROM:-0700
TZOFFSETTO:-0600
TZNAME:MDT
DTSTART:20220313T090000
END:DAYLIGHT
BEGIN:STANDARD
TZOFFSETFROM:-0600
TZOFFSETTO:-0700
TZNAME:MST
DTSTART:20221106T080000
END:STANDARD
BEGIN:DAYLIGHT
TZOFFSETFROM:-0700
TZOFFSETTO:-0600
TZNAME:MDT
DTSTART:20230312T090000
END:DAYLIGHT
BEGIN:STANDARD
TZOFFSETFROM:-0600
TZOFFSETTO:-0700
TZNAME:MST
DTSTART:20231105T080000
END:STANDARD
BEGIN:DAYLIGHT
TZOFFSETFROM:-0700
TZOFFSETTO:-0600
TZNAME:MDT
DTSTART:20240310T090000
END:DAYLIGHT
BEGIN:STANDARD
TZOFFSETFROM:-0600
TZOFFSETTO:-0700
TZNAME:MST
DTSTART:20241103T080000
END:STANDARD
END:VTIMEZONE
BEGIN:VEVENT
DTSTART;TZID=America/Denver:20231205T120000
DTEND;TZID=America/Denver:20231205T130000
DTSTAMP:20260425T094146
CREATED:20231026T231039Z
LAST-MODIFIED:20231026T231105Z
UID:4620-1701777600-1701781200@winstondowns.org
SUMMARY:Council District 5 Monthly Zoom Meeting with Councilwoman Sawyer
DESCRIPTION:Community Cabinet meeting with Councilwoman Sawyer and Forestry will be December 5th from noon – 1:00 p.m. via Zoom. \nFor reference\, the Community Cabinet meetings occur every other month. \n\nDecember 5\, 2023 from noon to 1:00 p.m.
URL:https://winstondowns.org/event/council-district-5-monthly-zoom-meeting-with-councilwoman-sawyer/
LOCATION:Via Zoom\, Denver
CATEGORIES:District 5 Initiative Meeting
END:VEVENT
END:VCALENDAR