BEGIN:VCALENDAR
VERSION:2.0
PRODID:-//Winston Downs Community Association - ECPv6.15.20//NONSGML v1.0//EN
CALSCALE:GREGORIAN
METHOD:PUBLISH
X-WR-CALNAME:Winston Downs Community Association
X-ORIGINAL-URL:https://winstondowns.org
X-WR-CALDESC:Events for Winston Downs Community Association
REFRESH-INTERVAL;VALUE=DURATION:PT1H
X-Robots-Tag:noindex
X-PUBLISHED-TTL:PT1H
BEGIN:VTIMEZONE
TZID:America/Denver
BEGIN:DAYLIGHT
TZOFFSETFROM:-0700
TZOFFSETTO:-0600
TZNAME:MDT
DTSTART:20220313T090000
END:DAYLIGHT
BEGIN:STANDARD
TZOFFSETFROM:-0600
TZOFFSETTO:-0700
TZNAME:MST
DTSTART:20221106T080000
END:STANDARD
BEGIN:DAYLIGHT
TZOFFSETFROM:-0700
TZOFFSETTO:-0600
TZNAME:MDT
DTSTART:20230312T090000
END:DAYLIGHT
BEGIN:STANDARD
TZOFFSETFROM:-0600
TZOFFSETTO:-0700
TZNAME:MST
DTSTART:20231105T080000
END:STANDARD
BEGIN:DAYLIGHT
TZOFFSETFROM:-0700
TZOFFSETTO:-0600
TZNAME:MDT
DTSTART:20240310T090000
END:DAYLIGHT
BEGIN:STANDARD
TZOFFSETFROM:-0600
TZOFFSETTO:-0700
TZNAME:MST
DTSTART:20241103T080000
END:STANDARD
END:VTIMEZONE
BEGIN:VEVENT
DTSTART;TZID=America/Denver:20231017T190000
DTEND;TZID=America/Denver:20231017T203000
DTSTAMP:20260423T185743
CREATED:20230918T001018Z
LAST-MODIFIED:20230918T001018Z
UID:4377-1697569200-1697574600@winstondowns.org
SUMMARY:Lowry United Neighbors Hosting the 3 At Large DPS Candidates
DESCRIPTION:Tuesday\, October 17  \n7:00PM to 8:30 PM at Eisenhower Chapel  \nLowry United Neighbors/LUN is hosting the three at-large candidates–Paul Ballenger\, Kwame Spearman\, and John Youngquist–who are vying for the one open Denver Public Schools at-large position.  Join us for what promises to be a lively discussion and have your questions answered.  Topics to be addressed are school safety\, education competence\, hiring and keeping great teachers\, the role of soft money in campaigns and more. The forum will be moderated by Lowry Neighbor\, Todd Neff. \nElection Day is November 7.
URL:https://winstondowns.org/event/lowry-united-neighbors-hosting-the-3-at-large-dps-candidates/
LOCATION:Eisenhower Chapel\, 293 Roslyn St\, Denver\, CO
CATEGORIES:DPS Discussions & Meetings
END:VEVENT
BEGIN:VEVENT
DTSTART;TZID=America/Denver:20231012T190000
DTEND;TZID=America/Denver:20231012T203000
DTSTAMP:20260423T185743
CREATED:20231010T204600Z
LAST-MODIFIED:20231021T195146Z
UID:4518-1697137200-1697142600@winstondowns.org
SUMMARY:DPS School Board Debate - Televised or in Person
DESCRIPTION:Both districts 1 and 5 (Winston Downs is District 3)\, along with At-Large candidates will be in attendance at Regis University. You can watch televised forum at Regis University: https://www.regis.edu/signature-events/denver-debates \n\nRegis University\, 3333 Regis Boulevard\, Denver\, Colorado 80221-1099 – Claver Hall\n\n\nTo watch the entire debate online beginning at 7 p.m.\, Oct. 12 at cbscolorado.com/dpsdebate\n\nPlease pass this along to your networks!  Ballots are arriving in mailboxes this week.
URL:https://winstondowns.org/event/dps-school-board-debate-televised-or-in-person/
CATEGORIES:Candidate Forums,DPS Discussions & Meetings
END:VEVENT
BEGIN:VEVENT
DTSTART;TZID=America/Denver:20230114T090000
DTEND;TZID=America/Denver:20230114T110000
DTSTAMP:20260423T185743
CREATED:20230110T231253Z
LAST-MODIFIED:20230110T231253Z
UID:3439-1673686800-1673694000@winstondowns.org
SUMMARY:Zoom Inter-Active Meeting re DPS Redistricting & Covid Impact on Learning
DESCRIPTION:INTER-NEIGHBORHOOD COOPERATION  INTER-ACTIVE ZOOM MEETING\nTOPIC: DPS REDISTRICTING AND COVID IMPACT ON LEARNING\nSaturday Jan. 14\, 2023 Inter-Neighborhood Meeting hosted by INC Education Committee Meeting-open to any Denver resident\nWhere: Online (Zoom) – See below for registration to attend via Zoom\nWhen: Saturday\, January 14th\, 9:00am – Topic begins around 915a\nTopic: Education. Our students are our future\, and we want to prioritize them starting 2023 and throughout the year. The best resource are the people themselves because the people will tell you what they need!  DPS parents and students have the opportunity to tell DPS their genuine thoughts on the redistricting happening in DPS.   \nSaturday\, January 14\, INC meeting will be an open discussion about the present state of K-12 education in Denver\, specifically as it relates to DPS.\nInvitees and presenters will include DPS administrators\, board members\, teachers\, parents\, and students.\nSeveral issues to discuss will be:\n1)  What are the implications of the recent DPS board re-districting?\n2)  What has 3 years of COVID done to our schools\, teachers\, parents\, and students?  What has it done to education?  As we begin a second year of “normalcy”\, major gaps in the system have become apparent. \nThe discussion will be moderated by Joanna Rosa-Saenz\, a single mother of three DPS students\, a representative of Harkness Heights neighborhood\, delegate-at-large to the INC board\, and the Chair of INC’s newly formed Education Committee.\nZoom Registration: \nhttps://us06web.zoom.us/meeting/register/tZctduGoqToqHNBH8K1QXORP9LgV0czmH3cB \nPlease note that Zoom registration will ask for your name\, neighborhood name (WDCA) and whether or not you are a delegate. Please select NO for delegate question. We have two assigned delegates from our neighborhood.; however\, ANY resident may attend these INC meetings.\n 
URL:https://winstondowns.org/event/zoom-inter-active-meeting-re-dps-redistricting-covid-impact-on-learning/
LOCATION:Via Zoom\, Denver
CATEGORIES:DPS Discussions & Meetings,Special notices and events
END:VEVENT
END:VCALENDAR