BEGIN:VCALENDAR
VERSION:2.0
PRODID:-//Winston Downs Community Association - ECPv6.15.20//NONSGML v1.0//EN
CALSCALE:GREGORIAN
METHOD:PUBLISH
X-ORIGINAL-URL:https://winstondowns.org
X-WR-CALDESC:Events for Winston Downs Community Association
REFRESH-INTERVAL;VALUE=DURATION:PT1H
X-Robots-Tag:noindex
X-PUBLISHED-TTL:PT1H
BEGIN:VTIMEZONE
TZID:America/Denver
BEGIN:DAYLIGHT
TZOFFSETFROM:-0700
TZOFFSETTO:-0600
TZNAME:MDT
DTSTART:20240310T090000
END:DAYLIGHT
BEGIN:STANDARD
TZOFFSETFROM:-0600
TZOFFSETTO:-0700
TZNAME:MST
DTSTART:20241103T080000
END:STANDARD
BEGIN:DAYLIGHT
TZOFFSETFROM:-0700
TZOFFSETTO:-0600
TZNAME:MDT
DTSTART:20250309T090000
END:DAYLIGHT
BEGIN:STANDARD
TZOFFSETFROM:-0600
TZOFFSETTO:-0700
TZNAME:MST
DTSTART:20251102T080000
END:STANDARD
BEGIN:DAYLIGHT
TZOFFSETFROM:-0700
TZOFFSETTO:-0600
TZNAME:MDT
DTSTART:20260308T090000
END:DAYLIGHT
BEGIN:STANDARD
TZOFFSETFROM:-0600
TZOFFSETTO:-0700
TZNAME:MST
DTSTART:20261101T080000
END:STANDARD
BEGIN:DAYLIGHT
TZOFFSETFROM:-0700
TZOFFSETTO:-0600
TZNAME:MDT
DTSTART:20270314T090000
END:DAYLIGHT
BEGIN:STANDARD
TZOFFSETFROM:-0600
TZOFFSETTO:-0700
TZNAME:MST
DTSTART:20271107T080000
END:STANDARD
END:VTIMEZONE
BEGIN:VEVENT
DTSTART;TZID=America/Denver:20250612T173000
DTEND;TZID=America/Denver:20250612T210000
DTSTAMP:20260425T092411
CREATED:20250309T023742Z
LAST-MODIFIED:20250611T203952Z
UID:6739-1749749400-1749762000@winstondowns.org
SUMMARY:Denver Community Film Fest - WDCA is one of the sponsors! Free - Full  as of 6/11\, but can still RSVP in hopes of no shows
DESCRIPTION:  \nDenver Community Film Screening- WDCA is one of the sponsors! Event is Free\n \n\n\n\n\n\n\n\n\n\n\n\n\n\n\n\n\n\n\n\n\n\n\n\n\n\n\n\n\n\n\n\n\n\nJoin Denver’s Inter Neighborhood Cooperation for Denver Community Film Fest Night!\nAnd\, thank you WDCA for your donation to help support this important event.📅 June 12 | 📍 Historic Holiday Theater\, 2644 W 32nd Ave\, Denver near North HS. Parking at North HS. In June\, INC\, along with a number of community groups\, is hosting a screening of Join or Die\, a thought provoking documentary on the decline of civic engagement in America\, highlighting the decreasing participation in community groups like neighborhood & civic organizations\, churches\, and more. [Watch the trailer here.]The evening includes a pre-film reception at 530pm\, screening at 630p\, and a post-film Q&A with the director and community leaders.The screening is free to Denver residents. Donations are appreciated and accepted at the door.\nWDCA is a co-sponsor of this film being shown as part of the June 12th Denver Community Film Festival. Your participation is what will make this event truly special\, and we can’t wait to bring our communities together for an incredible night centered around civic and personal connections
URL:https://winstondowns.org/event/6739/
LOCATION:Holiday Theater\, 2644 W 32nd Ave\, Denver\, CO
CATEGORIES:Area Exhibitions-Public,Denver Area Events,HOT TOPICS,Neighborhood Wide Meeting,Special Events
END:VEVENT
BEGIN:VEVENT
DTSTART;TZID=America/Denver:20250802T100000
DTEND;TZID=America/Denver:20250802T140000
DTSTAMP:20260425T092411
CREATED:20250521T222157Z
LAST-MODIFIED:20250521T222456Z
UID:7081-1754128800-1754143200@winstondowns.org
SUMMARY:Denver's Back to School Fest! August 2
DESCRIPTION: You’re Invited: Denver’s Back to School Fest\nTwo of our community’s most cherished back-to-school events are joining forces for one incredible celebration. The Silva Family Foundation’s Back to School Festival at Sloan’s Lake and Birdseed Collective’s celebration at GES are teaming up with Denver Days to host a citywide event designed to support families and students as they head into a new school year. \nJoin us for a fun\, resource-filled day that brings our community together! \n Saturday\, August 2\, 2025 \n 10:00 AM – 2:00 PM \n National Western Center\, 4797 National Western Dr.\, Denver\, CO. 80216 \nThis FREE\, family-friendly event is brought to you by Denver Human Rights & Community Partnerships\, the Denver Mayor’s Office\, the Silva Family Foundation\, the National Western Center\, Birdseed Collective\, and the Denver Fire Department. \nWith heartfelt gratitude\, we also thank our incredible sponsors\, Comcast and FirstBank\, for your generous support and commitment to our community. \nYou can expect: \n Free backpacks and school supplies for students \n Health and wellness resources \n City and community resources \n Live music and performances \n Fun games and activities for all ages \nWe’re bringing together city agencies\, nonprofits\, and community partners to support Denver families with everything they need to start the school year strong. \n Help us spread the word! Everyone is welcome\, and no registration is required. \n Learn more: denvergov.org/denverdays
URL:https://winstondowns.org/event/denvers-back-to-school-fest-august-2/
LOCATION:National Western Center\,  4797 National Western Dr.\, Denver\, CO\, 80216
CATEGORIES:Area Public School Announcements,Community Action Day,Denver Area Events,Denver Green School,HOT TOPICS,Special Events,Youth Events
END:VEVENT
BEGIN:VEVENT
DTSTART;TZID=America/Denver:20251006T100000
DTEND;TZID=America/Denver:20251006T140000
DTSTAMP:20260425T092411
CREATED:20251006T182512Z
LAST-MODIFIED:20251006T190223Z
UID:7570-1759744800-1759759200@winstondowns.org
SUMMARY:National Take Back Drugs Day
DESCRIPTION:
URL:https://winstondowns.org/event/national-take-back-drugs-day/
LOCATION:CO
CATEGORIES:HOT TOPICS
END:VEVENT
BEGIN:VEVENT
DTSTART;TZID=America/Denver:20251015T180000
DTEND;TZID=America/Denver:20251015T200000
DTSTAMP:20260425T092411
CREATED:20250910T223222Z
LAST-MODIFIED:20250925T203125Z
UID:7466-1760551200-1760558400@winstondowns.org
SUMMARY:Neighborhood Groups in Denver and open forum on what neighborhoods want from City
DESCRIPTION:Dear Denver Residents\, \nCouncil Members Gonzales-Gutierrez and Kashmann are hosting series of in-person facilitated conversation about neighborhoods and neighborhood groups in Denver and want to hear from you to make real policy changes to how the city interacts with our communities. ALL ARE WELCOME\, no experience or expertise necessary. Food will be provided\, and childcare will be provided upon request. Below are details for the upcoming events across Denver. \nPlease RSVP using this link: https://linktr.ee/yourcityyourvoice (RSVP open for Sept 10 and 20) \nSoutheast Denver: INCLUDES WINSTON DOWNS \nDate: Wednesday\, October 15th\nTime: 6-8pm\nLocation: Cook Park Rec Center (7100 Cherry Creek S Dr)\nLight dinner and drinks will be provided! \nIn need of interpretation or ADA accommodations? Make a note on the registration form within a 3 days’ notice to request oral or written language assistance\, sign language interpretation\, real-time captioning via CART\, or disability-related accommodations. \nQuestions? Comments? Reply to this email and we will get back to you! \nTAKE OUR SURVEY!
URL:https://winstondowns.org/event/7466/
LOCATION:Cook Park\, 7100 Cherry Creek S Dr\, Denver\, CO\, United States
CATEGORIES:Denver Area Events,HOT TOPICS
END:VEVENT
BEGIN:VEVENT
DTSTART;TZID=America/Denver:20260122T173000
DTEND;TZID=America/Denver:20260122T193000
DTSTAMP:20260425T092411
CREATED:20260112T220543Z
LAST-MODIFIED:20260112T220715Z
UID:7821-1769103000-1769110200@winstondowns.org
SUMMARY:View Final Vision for Park Hill Park (former Golf Course)
DESCRIPTION:View the Final Vision for the Park: January 22\nJoin us for an Open House at Smith Elementary School! Stop by anytime between 5:30 and 7:30 p.m. to get updates on the Park Hill Park Framework process\, including the final framework vision plan and next steps. All ages are welcome to join the discussion! \n  \n\nThursday\, January 22\, 2026\n5:30 – 7:30 PM stop by anytime\n3590 Jasmine St. Denver\, CO 80207\n\n\n\n\n\n\n\n\n\nDo you have a memorial tree at the park? \nIf you were involved in planting a memorial tree at the park before the land was owned by the City\, or know someone who was\, please reach out to Denver Parks and Recreation to learn the latest on the status of the trees and ensure we can work together as the park is built out. Please email laura.morales@denvergov.org or add your information here.\n\n\n\n\n\n\n\n\n\n\n\n\n\n\n\n\n\n\n\n\n\n\n\n\n\n\n\nLearn more about the Park Plan\n\n\n\n\n\n\n\n\n\n\n\n\n\n\n\n\nGet Updates & Join the Email List
URL:https://winstondowns.org/event/view-final-vision-for-park-hill-park-former-golf-course/
LOCATION:CO
CATEGORIES:Area Exhibitions-Public,HOT TOPICS,Parks & Rec City Plan,Special Events
END:VEVENT
BEGIN:VEVENT
DTSTART;TZID=America/Denver:20260307T100000
DTEND;TZID=America/Denver:20260307T140000
DTSTAMP:20260425T092411
CREATED:20260214T015548Z
LAST-MODIFIED:20260214T015548Z
UID:8038-1772877600-1772892000@winstondowns.org
SUMMARY:Self Defense Class - DPD Free
DESCRIPTION:Denver Police Department Self Defense Class March 7th – Location available when you click to register \nIn light of recent incidents in District 3 (Sector 1)\, the DPD District 3 team and Councilwoman Alvidrez have collaborated to act quickly and assemble a self defense class for local community members. \nOn Saturday\, March 7th from 10 am to 2 pm the Denver Police Department will be hosting a self-defense class\, in partnership with City Council District 7.  This class is open to all community members\, registration is required\, and spaces will fill quickly.  Registration opens Friday\, February 13th at 9 am. Please click on this LINK to register and reserve your spot. \nWhat to expect: \nOur experienced officers will teach you essential self-defense techniques in a safe and supportive environment. Don’t miss this opportunity to empower yourself and enhance your personal safety. Sign up now! \n*If you are between the ages of 12-18\, please have a legal guardian present to sign waiver prior to attending class. \nWe ask that you arrive at least 15 minutes early to park\, complete a waiver\, and get settled-in. \nWe DO NOT break for lunch. Please come in work-out attire and shoes. \nPlease click on this LINK to register and reserve your spot. \nFor questions regarding this class please email christie.mochoruk@denvergov.org
URL:https://winstondowns.org/event/self-defense-class-dpd-free/
LOCATION:CO
CATEGORIES:Community Police Meeting,HOT TOPICS,Safety & Traffic
END:VEVENT
BEGIN:VEVENT
DTSTART;TZID=America/Denver:20260425T100000
DTEND;TZID=America/Denver:20260425T120000
DTSTAMP:20260425T092411
CREATED:20260411T222458Z
LAST-MODIFIED:20260411T222747Z
UID:8232-1777111200-1777118400@winstondowns.org
SUMMARY:Denver Resilient Landscapes - Come Learn
DESCRIPTION:Weigh in on Denver Resilient Landscapes project: \nAttendees will also have the chance to provide feedback on draft recommendations for landscaping on new development\, including new tree preservation requirements and turfgrass limitations. \nDate: Saturday\, April 25\nTime: 10 a.m. to 12 p.m.\nLocation: CSU Spur\, Hydro building\, Confluence Theater\, 4777 National Western Dr\, Denver\, CO 80216 \nThere is a $15 parking fee at the venue. If you drive\, be sure to register using the button below and receive a free parking voucher. \nRegister for this free event today! \nAdditional event details: Coffee and brunch will be provided. All ages are welcome. We are happy to provide any language interpretation or accessibility accommodation such as CART services upon request. \nSee full schedule and details at Denvergov.org/landscape. For questions\, reach out to Michelle.Corl@Denvergov.org. \n 
URL:https://winstondowns.org/event/denver-resilient-landscapes-come-learn/
LOCATION:CO
CATEGORIES:Community Action Day,DROUGHT NEWS,HOT TOPICS
END:VEVENT
END:VCALENDAR