BEGIN:VCALENDAR
VERSION:2.0
PRODID:-//Winston Downs Community Association - ECPv6.15.20//NONSGML v1.0//EN
CALSCALE:GREGORIAN
METHOD:PUBLISH
X-ORIGINAL-URL:https://winstondowns.org
X-WR-CALDESC:Events for Winston Downs Community Association
REFRESH-INTERVAL;VALUE=DURATION:PT1H
X-Robots-Tag:noindex
X-PUBLISHED-TTL:PT1H
BEGIN:VTIMEZONE
TZID:America/Denver
BEGIN:DAYLIGHT
TZOFFSETFROM:-0700
TZOFFSETTO:-0600
TZNAME:MDT
DTSTART:20220313T090000
END:DAYLIGHT
BEGIN:STANDARD
TZOFFSETFROM:-0600
TZOFFSETTO:-0700
TZNAME:MST
DTSTART:20221106T080000
END:STANDARD
BEGIN:DAYLIGHT
TZOFFSETFROM:-0700
TZOFFSETTO:-0600
TZNAME:MDT
DTSTART:20230312T090000
END:DAYLIGHT
BEGIN:STANDARD
TZOFFSETFROM:-0600
TZOFFSETTO:-0700
TZNAME:MST
DTSTART:20231105T080000
END:STANDARD
BEGIN:DAYLIGHT
TZOFFSETFROM:-0700
TZOFFSETTO:-0600
TZNAME:MDT
DTSTART:20240310T090000
END:DAYLIGHT
BEGIN:STANDARD
TZOFFSETFROM:-0600
TZOFFSETTO:-0700
TZNAME:MST
DTSTART:20241103T080000
END:STANDARD
END:VTIMEZONE
BEGIN:VEVENT
DTSTART;TZID=America/Denver:20231017T190000
DTEND;TZID=America/Denver:20231017T203000
DTSTAMP:20260425T074650
CREATED:20230921T203047Z
LAST-MODIFIED:20231016T004136Z
UID:4409-1697569200-1697574600@winstondowns.org
SUMMARY:WDCA Board Meeting & Special Presentation VIA ZOOM
DESCRIPTION:The WDCA Board meeting for October 17 will be held as a meeting via Zoom at 7pm – see your eNews for Zoom entry \nThere will be a special presentation by the current property owners about the vacant land at Dakota and Alaska regarding plans for that development.  They plan to build a synagogue there. \n 
URL:https://winstondowns.org/event/wdca-board-meeting-special-presentation/
LOCATION:Via Zoom\, Denver
CATEGORIES:HOT TOPICS,Neighborhood Wide Meeting
ORGANIZER;CN="WDCA":MAILTO:info@winstondowns.org
END:VEVENT
END:VCALENDAR