BEGIN:VCALENDAR
VERSION:2.0
PRODID:-//Winston Downs Community Association - ECPv6.15.20//NONSGML v1.0//EN
CALSCALE:GREGORIAN
METHOD:PUBLISH
X-WR-CALNAME:Winston Downs Community Association
X-ORIGINAL-URL:https://winstondowns.org
X-WR-CALDESC:Events for Winston Downs Community Association
REFRESH-INTERVAL;VALUE=DURATION:PT1H
X-Robots-Tag:noindex
X-PUBLISHED-TTL:PT1H
BEGIN:VTIMEZONE
TZID:America/Denver
BEGIN:DAYLIGHT
TZOFFSETFROM:-0700
TZOFFSETTO:-0600
TZNAME:MDT
DTSTART:20210314T090000
END:DAYLIGHT
BEGIN:STANDARD
TZOFFSETFROM:-0600
TZOFFSETTO:-0700
TZNAME:MST
DTSTART:20211107T080000
END:STANDARD
BEGIN:DAYLIGHT
TZOFFSETFROM:-0700
TZOFFSETTO:-0600
TZNAME:MDT
DTSTART:20220313T090000
END:DAYLIGHT
BEGIN:STANDARD
TZOFFSETFROM:-0600
TZOFFSETTO:-0700
TZNAME:MST
DTSTART:20221106T080000
END:STANDARD
BEGIN:DAYLIGHT
TZOFFSETFROM:-0700
TZOFFSETTO:-0600
TZNAME:MDT
DTSTART:20230312T090000
END:DAYLIGHT
BEGIN:STANDARD
TZOFFSETFROM:-0600
TZOFFSETTO:-0700
TZNAME:MST
DTSTART:20231105T080000
END:STANDARD
BEGIN:DAYLIGHT
TZOFFSETFROM:-0700
TZOFFSETTO:-0600
TZNAME:MDT
DTSTART:20240310T090000
END:DAYLIGHT
BEGIN:STANDARD
TZOFFSETFROM:-0600
TZOFFSETTO:-0700
TZNAME:MST
DTSTART:20241103T080000
END:STANDARD
END:VTIMEZONE
BEGIN:VEVENT
DTSTART;TZID=America/Denver:20231017T190000
DTEND;TZID=America/Denver:20231017T203000
DTSTAMP:20260423T132246
CREATED:20230921T203047Z
LAST-MODIFIED:20231016T004136Z
UID:4409-1697569200-1697574600@winstondowns.org
SUMMARY:WDCA Board Meeting & Special Presentation VIA ZOOM
DESCRIPTION:The WDCA Board meeting for October 17 will be held as a meeting via Zoom at 7pm – see your eNews for Zoom entry \nThere will be a special presentation by the current property owners about the vacant land at Dakota and Alaska regarding plans for that development.  They plan to build a synagogue there. \n 
URL:https://winstondowns.org/event/wdca-board-meeting-special-presentation/
LOCATION:Via Zoom\, Denver
CATEGORIES:HOT TOPICS,Neighborhood Wide Meeting
ORGANIZER;CN="WDCA":MAILTO:info@winstondowns.org
END:VEVENT
BEGIN:VEVENT
DTSTART;TZID=America/Denver:20230827T130000
DTEND;TZID=America/Denver:20230827T170000
DTSTAMP:20260423T132246
CREATED:20230626T230627Z
LAST-MODIFIED:20230626T230627Z
UID:4178-1693141200-1693155600@winstondowns.org
SUMMARY:Winston Downs Block Party
DESCRIPTION:Winston Downs Community Association Sponsored Block Party for Winston Downs Residents \nSunday August 27 \nDetails soon and firm times to be announced
URL:https://winstondowns.org/event/winston-downs-block-party-2/
CATEGORIES:Neighborhood Wide Meeting
END:VEVENT
BEGIN:VEVENT
DTSTART;VALUE=DATE:20230722
DTEND;VALUE=DATE:20230723
DTSTAMP:20260423T132246
CREATED:20230626T230426Z
LAST-MODIFIED:20230716T220703Z
UID:4176-1689984000-1690070399@winstondowns.org
SUMMARY:Winston Downs Neighborhood Wide Yard Sale
DESCRIPTION:Saturday July 22 and Sunday July 23 \n830am to 230pm \nAll residents may participate. WDCA will publicize via social media \n 
URL:https://winstondowns.org/event/winston-downs-neighborhood-wide-yard-sale/
CATEGORIES:Neighborhood Wide Meeting
END:VEVENT
BEGIN:VEVENT
DTSTART;TZID=America/Denver:20230418T183000
DTEND;TZID=America/Denver:20230418T203000
DTSTAMP:20260423T132246
CREATED:20221231T193053Z
LAST-MODIFIED:20221231T193053Z
UID:3372-1681842600-1681849800@winstondowns.org
SUMMARY:WDCA Annual Meeting & Board Election 2023
DESCRIPTION:Annual meeting of Winston Downs Community Association and election of new board members. \nWDCA Bylaws to serve on the board state the person must be a member in good standing. \nIf  you run and perhaps aren’t elected\, join a committee\, take on a project and/or attend a few board meetings and run the next time! \nOur neighborhood is only as strong as your participation! \nWDCA may have up to seven (7) board members. If any are interested in serving on the board or committees\, please contact us at info@winstondowns.org \nWebsite: www.winstondowns.org \n 
URL:https://winstondowns.org/event/wdca-annual-meeting-board-election-2023/
LOCATION:BMH-BJ Synagogue\, 560 S Monaco Pkwy - entry in back\, Denver\, CO\, United States
CATEGORIES:Neighborhood Wide Meeting,WDCA Board Meetings
ORGANIZER;CN="WDCA":MAILTO:info@winstondowns.org
END:VEVENT
BEGIN:VEVENT
DTSTART;TZID=America/Denver:20230321T190000
DTEND;TZID=America/Denver:20230321T203000
DTSTAMP:20260423T132246
CREATED:20221231T192243Z
LAST-MODIFIED:20221231T192314Z
UID:3370-1679425200-1679430600@winstondowns.org
SUMMARY:WDCA Board Meeting Mar 2023
DESCRIPTION:Via Zoom from 7pm to 830pm unless otherwise noted. \nThose who have signed up for eNews will be invited to attend. To sign up go to info@winstondowns.org  and give last name\, address and email \nAll residents may attend \nBoard members are elected in April and must be members of WDCA. January newsletter will be delivered with an application form to renew or join as a new member.
URL:https://winstondowns.org/event/wdca-board-meeting-mar-2023/
LOCATION:Via Zoom\, Denver
CATEGORIES:Neighborhood Wide Meeting,WDCA Board Meetings
ORGANIZER;CN="WDCA":MAILTO:info@winstondowns.org
END:VEVENT
BEGIN:VEVENT
DTSTART;TZID=America/Denver:20230228T070000
DTEND;TZID=America/Denver:20230228T203000
DTSTAMP:20260423T132246
CREATED:20221224T213017Z
LAST-MODIFIED:20221224T213017Z
UID:3329-1677567600-1677616200@winstondowns.org
SUMMARY:District 5 Candidates Forum
DESCRIPTION:City Council District 5 Candidates Forum\nAmanda Sawyer and Michael Hughes\nModerator Todd Neff \nTuesday\, Feb. 28\, 7 – 8:30 p.m.\nDoors open at 6:30 p.m.\nEisenhower Chapel in Lowry\, 293 Roslyn St\, Denver\, CO 80230
URL:https://winstondowns.org/event/district-5-candidates-forum/
LOCATION:Eisenhower Chapel\, 293 Roslyn St\, Denver\, CO
CATEGORIES:Candidate Forums,Neighborhood Wide Meeting
END:VEVENT
BEGIN:VEVENT
DTSTART;TZID=America/Denver:20230221T190000
DTEND;TZID=America/Denver:20230221T203000
DTSTAMP:20260423T132246
CREATED:20221231T192054Z
LAST-MODIFIED:20221231T192054Z
UID:3368-1677006000-1677011400@winstondowns.org
SUMMARY:WDCA Board Meeting Feb 2023
DESCRIPTION:Via Zoom from 7pm to 830pm unless otherwise noted. \nThose who have signed up for eNews will be invited to attend. To sign up go to info@winstondowns.org  and give last name\, address and email \nAll residents may attend \nBoard members are elected in April and must be members of WDCA. January newsletter will be delivered with an application form to renew or join as a new member.
URL:https://winstondowns.org/event/wdca-board-meeting-feb-2023/
CATEGORIES:Neighborhood Wide Meeting,WDCA Board Meetings
END:VEVENT
BEGIN:VEVENT
DTSTART;TZID=America/Denver:20230119T180000
DTEND;TZID=America/Denver:20230119T200000
DTSTAMP:20260423T132246
CREATED:20230105T215710Z
LAST-MODIFIED:20230105T220935Z
UID:3414-1674151200-1674158400@winstondowns.org
SUMMARY:Neighborhood Watch Program
DESCRIPTION:The next in-person training is on January 19th at District 3 at 6:00 pm\, 1625 S University Blvd\, Denver\, CO 80210. \nEveryone should attend a session\, especially families new to the neighborhood\, and DPD has great ideas on how to keep your home safe. For\nNeighborhood Watch signs: please contact info@winstondowns.org to advise address where you want sign delivered within the Winston Downs neighborhood.
URL:https://winstondowns.org/event/neighborhood-watch-program/
CATEGORIES:Community Police Meeting,Neighborhood Wide Meeting,Special notices and events
END:VEVENT
BEGIN:VEVENT
DTSTART;TZID=America/Denver:20230117T190000
DTEND;TZID=America/Denver:20230117T203000
DTSTAMP:20260423T132246
CREATED:20221231T191901Z
LAST-MODIFIED:20221231T191901Z
UID:3366-1673982000-1673987400@winstondowns.org
SUMMARY:WDCA Board Meeting Jan 2023
DESCRIPTION:Via Zoom from 7pm to 830pm unless otherwise noted. \nThose who have signed up for eNews will be invited to attend. To sign up go to info@winstondowns.org  and give last name\, address and email \nAll residents may attend \nBoard members are elected in April and must be members of WDCA. January newsletter will be delivered with an application form to renew or join as a new member.
URL:https://winstondowns.org/event/wdca-board-meeting-jan-2023/
LOCATION:Via Zoom\, Denver
CATEGORIES:Neighborhood Wide Meeting
ORGANIZER;CN="WDCA":MAILTO:info@winstondowns.org
END:VEVENT
BEGIN:VEVENT
DTSTART;TZID=America/Denver:20230111T120000
DTEND;TZID=America/Denver:20230111T140000
DTSTAMP:20260423T132246
CREATED:20230110T231641Z
LAST-MODIFIED:20230110T231704Z
UID:3444-1673438400-1673445600@winstondowns.org
SUMMARY:Public Meeting Input on Near SE Area Plan Jan 11
DESCRIPTION:TALK WITH CITY PLANNERS \nHave a question or comment you want to share directly with members of the planning team? They will be in the community this week on the following dates: \n\nWednesday\, January 11\, noon to 2 p.m.\, Cook Park Rec Center\, 7100 Cherry Creek S Dr.\n\n\nThursday\, January 12\, 4 to 6 p.m.\, Staenberg-Loup Jewish Community Center\, 350 S. Dahlia St.\n\nIf you prefer to read a hard copy of the draft plan\, one is available at the Virginia Village Branch Library\, 1500 S. Dahlia St. Everyone who participates in this phase of community outreach will be entered for a chance to win a $20 gift card.
URL:https://winstondowns.org/event/public-meeting-input-on-near-se-area-plan-jan-11/
LOCATION:Cook Park\, 7100 Cherry Creek S Dr\, Denver\, CO\, United States
CATEGORIES:Neighborhood Wide Meeting,Special Events
END:VEVENT
BEGIN:VEVENT
DTSTART;TZID=America/Denver:20221214T180000
DTEND;TZID=America/Denver:20221214T193000
DTSTAMP:20260423T132246
CREATED:20221202T013736Z
LAST-MODIFIED:20221202T013823Z
UID:3293-1671040800-1671046200@winstondowns.org
SUMMARY:Near SE Area Plan-Zoom Workshop
DESCRIPTION:First draft presentation.  All residents are invited to join City-led presentations to discuss the plan at this upcoming community workshop: Harvey Cohen\, a former WDCA president\, has represented our neighborhood on the steering committee. Winston Downs residents opted to see what this plan provided in lieu of pursuing a conservation overlay for Winston Downs in 2017.\nWednesday\, December 14: Virtual workshop\n6-7:30 p.m.\nRegister via Zoom \n 
URL:https://winstondowns.org/event/near-se-area-plan-zoom-workshop/
LOCATION:Via Zoom\, Denver
CATEGORIES:Neighborhood Wide Meeting
END:VEVENT
BEGIN:VEVENT
DTSTART;TZID=America/Denver:20221206T173000
DTEND;TZID=America/Denver:20221206T193000
DTSTAMP:20260423T132246
CREATED:20221202T013421Z
LAST-MODIFIED:20221202T013933Z
UID:3291-1670347800-1670355000@winstondowns.org
SUMMARY:Near SE Area Plan -In Person Meeting
DESCRIPTION:First draft presentation.  All residents are invited to join City-led presentations to discuss the plan at this upcoming community workshop: Harvey Cohen\, a former WDCA president\, has represented our neighborhood on the steering committee. Winston Downs residents opted to see what this plan provided in lieu of pursuing a conservation overlay for Winston Downs in 2017.\nTuesday\, December 6: In-person workshop\n5:30-7:30\, p.m.\nCook Park Rec Center\, 7100 S Cherry Creek South Drive \nAmple free parking and Handicap parking \nSee December 14 event if you prefer attending via Zoom- There are greater opportunities to ask questions at this in person meeting.
URL:https://winstondowns.org/event/near-se-area-plan-in-person-meeting/
LOCATION:Cook Park\, 7100 Cherry Creek S Dr\, Denver\, CO\, United States
CATEGORIES:Neighborhood Wide Meeting
END:VEVENT
BEGIN:VEVENT
DTSTART;TZID=America/Denver:20221025T190000
DTEND;TZID=America/Denver:20221025T203000
DTSTAMP:20260423T132246
CREATED:20221003T211829Z
LAST-MODIFIED:20221013T221828Z
UID:3069-1666724400-1666729800@winstondowns.org
SUMMARY:Safety for Winston Downs - A special meeting
DESCRIPTION:Are you concerned about gunshots along Quebec\, street racers\, loud vehicles\, safe practices for every homeowner?\nCome join us for a special presentation – in person – on Tuesday October 25 at 7:00pm at BMH \nSupport with Denver Police District 3 and Denver Fire Station 19
URL:https://winstondowns.org/event/safety-for-winston-downs-a-special-meeting/
LOCATION:BMH-BJ Synagogue\, 560 S Monaco Pkwy - entry in back\, Denver\, CO\, United States
CATEGORIES:Neighborhood Wide Meeting
ORGANIZER;CN="WDCA":MAILTO:info@winstondowns.org
END:VEVENT
BEGIN:VEVENT
DTSTART;TZID=America/Denver:20220917T170000
DTEND;TZID=America/Denver:20220917T190000
DTSTAMP:20260423T132246
CREATED:20220915T214057Z
LAST-MODIFIED:20220915T214057Z
UID:3004-1663434000-1663441200@winstondowns.org
SUMMARY:Sprout City Farms: Farm and Solar Garden Technology Tours
DESCRIPTION:Join Sprout City Farms and partners on Saturday September 17th from 5-7pm to see for yourself the trailblazing work SCF is doing as we grow production-scale vegetables under solar panels at Jack’s Solar Garden in Longmont. Meet our agrivoltaic research partners from Colorado State University\, National Renewable Energy Laboratory\, University of Arizona\, and Colorado Agrivoltaic Learning Center to learn more about all the groundbreaking projects at Jack’s studying the impact of co-locating regenerative agriculture with renewable energy! \nGuests will enjoy: \n\nfarm tours\na silent auction of local goods & experiences\, plus a Booze Pull\nlive music from local band members of Distance Walk\na scrumptious menu of solar-grown fare prepared by Chef Sean Gafner of The Roost\, featuring our farm-fresh produce and lamb from sheep grazed under solar panels\nlocal drinks including cocktails from Laws Whiskey House\, beer from Westfax Brewing Co.\, and cider from Colorado Cider Company!\n\nPlease join us in support of Sprout City Farms’ educational and food access programs: tickets can be purchased on our website here.  $100 per person\, plus $25 for “booze”\nWe have an educator discount! Please help us spread the word and invite your friends via our Facebook event and posts on Instagram!
URL:https://winstondowns.org/event/sprout-city-farms-farm-and-solar-garden-technology-tours/
LOCATION:Denver Green School\, 6700 E Virginia Ave\, Denver\, CO\, 80224
CATEGORIES:Neighborhood Wide Meeting,Special Events
END:VEVENT
BEGIN:VEVENT
DTSTART;TZID=America/Denver:20220721T170000
DTEND;TZID=America/Denver:20220721T183000
DTSTAMP:20260423T132246
CREATED:20220619T200523Z
LAST-MODIFIED:20220619T200523Z
UID:2735-1658422800-1658428200@winstondowns.org
SUMMARY:Review Near SE Area Plan at Public Meeting
DESCRIPTION:Many of you took the time to participate in the Near Southeast Area Plan this spring to help develop strategies to implement the community’s vision for the area. City planners are reviewing and analyzing comments from those who joined virtual and in-person discussions and took the online surveys\, and working on draft recommendations based on your input. \nOpportunities to review those potential recommendations are coming in July. Save the date for one or both of the following opportunities to review and share your thoughts. \nIn-person Community Workshop \n5-6:30 p.m.\, Thursday\, July 21 \nFour Mile Historic Park\, 715 S. Forest St. 
URL:https://winstondowns.org/event/review-near-se-area-plan-at-public-meeting/
CATEGORIES:Neighborhood Wide Meeting,Special Events
END:VEVENT
BEGIN:VEVENT
DTSTART;TZID=America/Denver:20220719T190000
DTEND;TZID=America/Denver:20220719T203000
DTSTAMP:20260423T132246
CREATED:20220525T201807Z
LAST-MODIFIED:20220525T201807Z
UID:2689-1658257200-1658262600@winstondowns.org
SUMMARY:WDCA Board Meeting July 2022
DESCRIPTION:Board meeting via Zoom \nHow to attend via eNews closer to the date
URL:https://winstondowns.org/event/wdca-board-meeting-july-2022/
LOCATION:Via Zoom\, Denver
CATEGORIES:Neighborhood Wide Meeting,WDCA Board Meetings
ORGANIZER;CN="WDCA":MAILTO:info@winstondowns.org
END:VEVENT
BEGIN:VEVENT
DTSTART;TZID=America/Denver:20220713T183000
DTEND;TZID=America/Denver:20220713T193000
DTSTAMP:20260423T132246
CREATED:20220619T200221Z
LAST-MODIFIED:20220619T203815Z
UID:2733-1657737000-1657740600@winstondowns.org
SUMMARY:Review draft recommendations Near SE Area Plan
DESCRIPTION:Many of you took the time to participate in the Near Southeast Area Plan this spring to help develop strategies to implement the community’s vision for the area. City planners are reviewing and analyzing comments from those who joined virtual and in-person discussions and took the online surveys\, and working on draft recommendations based on your input. Opportunities to review those potential recommendations are coming in July. Save the date for one or both of the following opportunities to review and share your thoughts. \nVirtual Community Workshop \n6-7:30 p.m.\, Wednesday\, July 13 \nRegister on Zoom\n\n\n\n\n\n\n\n  \n\n\n\n\n\n\n\n  \nIn-person Community Workshop \n5-6:30 p.m.\, Thursday\, July 21 \nFour Mile Historic Park\, 715 S. Forest St.
URL:https://winstondowns.org/event/save-the-dates-review-draft-recommendations-at-july-events/
LOCATION:Via Zoom\, Denver
CATEGORIES:Neighborhood Wide Meeting,Special Events
END:VEVENT
BEGIN:VEVENT
DTSTART;TZID=America/Denver:20220621T190000
DTEND;TZID=America/Denver:20220621T203000
DTSTAMP:20260423T132246
CREATED:20220525T201622Z
LAST-MODIFIED:20220525T201935Z
UID:2687-1655838000-1655843400@winstondowns.org
SUMMARY:WDCA Board Meeting June 2022
DESCRIPTION:The Next WDCA Board meeting will be via Zoom.  To attend\, check your eNews which will arrive about June 18
URL:https://winstondowns.org/event/wdca-board-meeting-june-2022/
LOCATION:Via Zoom\, Denver
CATEGORIES:Neighborhood Wide Meeting,WDCA Board Meetings
ORGANIZER;CN="WDCA":MAILTO:info@winstondowns.org
END:VEVENT
BEGIN:VEVENT
DTSTART;TZID=America/Denver:20220524T183000
DTEND;TZID=America/Denver:20220524T203000
DTSTAMP:20260423T132246
CREATED:20220509T021925Z
LAST-MODIFIED:20220509T021925Z
UID:2618-1653417000-1653424200@winstondowns.org
SUMMARY:Special Meeting - Near SE Area Plan
DESCRIPTION:Tuesday: May 24 Special Meeting\nThere will be a special meeting about the Near SE Area Plan (includes Winston Downs) on Tuesday\, May 24 from 6:30pm-8:30pm at BMH-BJ Synagogue\, 560 S Monaco Parkway.\nThis is a phase of community engagement to help develop strategies to implement the community’s vision for the area. City planners are beginning to review and analyze comments from those who joined virtual and in-person discussions and took the online surveys. If you have not had a chance to weigh in yet\, there are still multiple opportunities to do so. \nCommunity members can participate by taking the following surveys\, which use maps and visuals to collect information on the community’s priorities and potential trade offs. Each survey will take about 20 minutes. Complete the ones that most interest you or all four of them. \n\nTake the Land Use and Built Form Survey\nTake the Housing and Economy Survey\nTake the Mobility Survey\nTake the Quality of Life Infrastructure Survey
URL:https://winstondowns.org/event/special-meeting-near-se-area-plan/
LOCATION:BMH-BJ Synagogue\, 560 S Monaco Pkwy - entry in back\, Denver\, CO\, United States
CATEGORIES:Neighborhood Wide Meeting
ORGANIZER;CN="WDCA":MAILTO:info@winstondowns.org
END:VEVENT
BEGIN:VEVENT
DTSTART;TZID=America/Denver:20220405T180000
DTEND;TZID=America/Denver:20220405T193000
DTSTAMP:20260423T132246
CREATED:20220315T183747Z
LAST-MODIFIED:20220322T024603Z
UID:2374-1649181600-1649187000@winstondowns.org
SUMMARY:Community Meeting - District 3 DPD
DESCRIPTION:Community Meeting with Commander Kyle (CAB) Tuesday\, April 5th at 6pm – In Person at the District 3 Station – 1625 S. University Blvd  Everyone is welcome and encouraged to participate!  Hosted by Commander Kyle and our DPD District 3 Law Enforcement Leadership (CAB).  Learn about crime stats and trends that affect our local neighborhoods.  Questions and comments can be asked at the end of this meeting. (2022 CAB schedule is attached to this email)
URL:https://winstondowns.org/event/community-meeting-district-3-dpd/
CATEGORIES:Community Police Meeting,Neighborhood Wide Meeting
END:VEVENT
END:VCALENDAR