BEGIN:VCALENDAR
VERSION:2.0
PRODID:-//Winston Downs Community Association - ECPv6.15.20//NONSGML v1.0//EN
CALSCALE:GREGORIAN
METHOD:PUBLISH
X-WR-CALNAME:Winston Downs Community Association
X-ORIGINAL-URL:https://winstondowns.org
X-WR-CALDESC:Events for Winston Downs Community Association
REFRESH-INTERVAL;VALUE=DURATION:PT1H
X-Robots-Tag:noindex
X-PUBLISHED-TTL:PT1H
BEGIN:VTIMEZONE
TZID:America/Denver
BEGIN:DAYLIGHT
TZOFFSETFROM:-0700
TZOFFSETTO:-0600
TZNAME:MDT
DTSTART:20230312T090000
END:DAYLIGHT
BEGIN:STANDARD
TZOFFSETFROM:-0600
TZOFFSETTO:-0700
TZNAME:MST
DTSTART:20231105T080000
END:STANDARD
BEGIN:DAYLIGHT
TZOFFSETFROM:-0700
TZOFFSETTO:-0600
TZNAME:MDT
DTSTART:20240310T090000
END:DAYLIGHT
BEGIN:STANDARD
TZOFFSETFROM:-0600
TZOFFSETTO:-0700
TZNAME:MST
DTSTART:20241103T080000
END:STANDARD
BEGIN:DAYLIGHT
TZOFFSETFROM:-0700
TZOFFSETTO:-0600
TZNAME:MDT
DTSTART:20250309T090000
END:DAYLIGHT
BEGIN:STANDARD
TZOFFSETFROM:-0600
TZOFFSETTO:-0700
TZNAME:MST
DTSTART:20251102T080000
END:STANDARD
END:VTIMEZONE
BEGIN:VEVENT
DTSTART;TZID=America/Denver:20240110T173000
DTEND;TZID=America/Denver:20240110T193000
DTSTAMP:20260425T060751
CREATED:20231212T195829Z
LAST-MODIFIED:20231212T202430Z
UID:4808-1704907800-1704915000@winstondowns.org
SUMMARY:Notice of Public Hearing to Consider the Naming of the New Unnamed Park at Iliff & Bellaire  
DESCRIPTION:City & County of Denver – Department of Parks & Recreation  \nNotice of Public Hearing to Consider the Naming of the New Unnamed Park at Iliff & Bellaire   \nNotice is hereby given that the Department of Parks & Recreation for the City & County of Denver is considering the naming of a new park (referred to currently as Unnamed Park at Iliff and Bellaire)\, bounded by S. Birch St. to the east\, S. Bellaire St. to the west\, E. Iliff Ave. to the south\, and E. Warren Ave. to the north\, as “Bethesda Park” in response to a community effort led by a committee formed after park vision planning completed in 2023. This park name serves to honor the Dutch heritage of the area and reflect the impact that the Bethesda Sanitorium later known as the Bethesda Psychiatric Hospital had on this area among several generations of immigrants. Bethesda is a Hebrew word meaning place (or house) of mercy\, aptly reflecting the values that the community wants to live on in the park.     \nThe Parks and Recreation Advisory Board (PRAB) will hear public comments on this proposed naming on Wednesday\, January 10\, 2024 at 5:30 pm at the Board’s regular meeting\, currently being held online through Zoom. Access the meeting information at denvergov.org/PRAB (full meeting link listed below).  \nTo speak at the public hearing\, email Arthur.gilkison@denvergov.org.   \nA copy of the petitions in support of the naming are on file with the Manager of Denver Parks & Recreation.      \nRegister for the January 10\, 2024 PRAB meeting via Zoom: https://denvergov-org.zoom.us/webinar/register/WN_naLQZGRhRx-2kxgVCDnYVQ 
URL:https://winstondowns.org/event/notice-of-public-hearing-to-consider-the-naming-of-the-new-unnamed-park-at-iliff-bellaire/
LOCATION:Via Zoom\, Denver
CATEGORIES:Parks & Rec City Plan
END:VEVENT
END:VCALENDAR