BEGIN:VCALENDAR
VERSION:2.0
PRODID:-//Winston Downs Community Association - ECPv6.15.20//NONSGML v1.0//EN
CALSCALE:GREGORIAN
METHOD:PUBLISH
X-ORIGINAL-URL:https://winstondowns.org
X-WR-CALDESC:Events for Winston Downs Community Association
REFRESH-INTERVAL;VALUE=DURATION:PT1H
X-Robots-Tag:noindex
X-PUBLISHED-TTL:PT1H
BEGIN:VTIMEZONE
TZID:America/Denver
BEGIN:DAYLIGHT
TZOFFSETFROM:-0700
TZOFFSETTO:-0600
TZNAME:MDT
DTSTART:20220313T090000
END:DAYLIGHT
BEGIN:STANDARD
TZOFFSETFROM:-0600
TZOFFSETTO:-0700
TZNAME:MST
DTSTART:20221106T080000
END:STANDARD
BEGIN:DAYLIGHT
TZOFFSETFROM:-0700
TZOFFSETTO:-0600
TZNAME:MDT
DTSTART:20230312T090000
END:DAYLIGHT
BEGIN:STANDARD
TZOFFSETFROM:-0600
TZOFFSETTO:-0700
TZNAME:MST
DTSTART:20231105T080000
END:STANDARD
BEGIN:DAYLIGHT
TZOFFSETFROM:-0700
TZOFFSETTO:-0600
TZNAME:MDT
DTSTART:20240310T090000
END:DAYLIGHT
BEGIN:STANDARD
TZOFFSETFROM:-0600
TZOFFSETTO:-0700
TZNAME:MST
DTSTART:20241103T080000
END:STANDARD
END:VTIMEZONE
BEGIN:VEVENT
DTSTART;TZID=America/Denver:20231206T173000
DTEND;TZID=America/Denver:20231206T190000
DTSTAMP:20260423T164112
CREATED:20231117T204302Z
LAST-MODIFIED:20231117T204302Z
UID:4740-1701883800-1701889200@winstondowns.org
SUMMARY:East Evans Corridor Study- Colorado Blvd to Quebec St.
DESCRIPTION:East Evans Corridor Study \nColorado Boulevard to Quebec Street\n\n\n\n\n\n\n\n\n\n\n\n\n\n\n\n\n\n\n\n\n\n\n\n\n\nCommunity Meeting #1Join the first community meeting to discuss existing conditions\, goals and the planning timeline for the East Evans Corridor.Date: December 6\, 2023Time: 5:30 PM – 7 PMMeeting link hereSurvey #1Tell us how you travel on Evans AvenueTake the Survey HERE \n 
URL:https://winstondowns.org/event/east-evans-corridor-study-colorado-blvd-to-quebec-st/
LOCATION:Via Zoom\, Denver
CATEGORIES:Public transit
END:VEVENT
BEGIN:VEVENT
DTSTART;TZID=America/Denver:20230517T170000
DTEND;TZID=America/Denver:20230517T190000
DTSTAMP:20260423T164112
CREATED:20230419T234928Z
LAST-MODIFIED:20230419T234947Z
UID:4025-1684342800-1684350000@winstondowns.org
SUMMARY:RTD Feedback Opportunity re Policy Changes
DESCRIPTION:RTD has been planning some major changes to their policies and I don’t want you to miss out on providing your input. First\, I’m jazzed about most of the changes RTD is considering making to their fare and pass structure\, and I think you’ll be\, too. Check out details from RTD\, then use our comment guide to submit a comment (or share your own ideas!) at the bottom of the website or sign up to share your thoughts at one of these virtual or in-person meetings: \n\nVirtual:\n\nMay 3\, 2023 at 6 p.m.\nMay 16\, 2023 at 12 p.m.\n\n\nIn-Person\n\nMay 11\, 2023\, 5–7 p.m.\n\nLocation: The Alliance Center’s Sustainability Center (1536 Wynkoop St)\n\n\nMay 17\, 2023\, 5–7 p.m.\n\nLocation: Carla Madison Rec Center’s Rooftop (2401 E Colfax Ave)\n\n\nSnacks provided\n\n\n\nSecond\, I also want to congratulate you—when you stood up for fairness by asking RTD to get public feedback in revising their Code of Conduct and to eliminate the policies most obviously targeting the unhoused\, they listened! Now it’s time to share your thoughts on the newest revisions so taking transit can remain a truly public service open to all. If you can make it\, attend RTD’s community meeting on Saturday\, April 29 from 10 to 11:30 a.m. at the Chestnut Pavilion at Denver Union Station\, or submit a comment online. \nPlease reply to this email to let me know if you are planning to attend any of the meetings above so I can send you a reminder and keep you informed!
URL:https://winstondowns.org/event/4025/
CATEGORIES:Public transit
END:VEVENT
BEGIN:VEVENT
DTSTART;TZID=America/Denver:20230516T120000
DTEND;TZID=America/Denver:20230516T140000
DTSTAMP:20260423T164112
CREATED:20230419T234730Z
LAST-MODIFIED:20230419T234730Z
UID:4021-1684238400-1684245600@winstondowns.org
SUMMARY:
DESCRIPTION:RTD has been planning some major changes to their policies and I don’t want you to miss out on providing your input. First\, I’m jazzed about most of the changes RTD is considering making to their fare and pass structure\, and I think you’ll be\, too. Check out details from RTD\, then use our comment guide to submit a comment (or share your own ideas!) at the bottom of the website or sign up to share your thoughts at one of these virtual or in-person meetings: \n\nVirtual:\n\nMay 3\, 2023 at 6 p.m.\nMay 16\, 2023 at 12 p.m.\n\n\nIn-Person\n\nMay 11\, 2023\, 5–7 p.m.\n\nLocation: The Alliance Center’s Sustainability Center (1536 Wynkoop St)\n\n\nMay 17\, 2023\, 5–7 p.m.\n\nLocation: Carla Madison Rec Center’s Rooftop (2401 E Colfax Ave)\n\n\nSnacks provided\n\n\n\nSecond\, I also want to congratulate you—when you stood up for fairness by asking RTD to get public feedback in revising their Code of Conduct and to eliminate the policies most obviously targeting the unhoused\, they listened! Now it’s time to share your thoughts on the newest revisions so taking transit can remain a truly public service open to all. If you can make it\, attend RTD’s community meeting on Saturday\, April 29 from 10 to 11:30 a.m. at the Chestnut Pavilion at Denver Union Station\, or submit a comment online. \nPlease reply to this email to let me know if you are planning to attend any of the meetings above so I can send you a reminder and keep you informed!
URL:https://winstondowns.org/event/4021/
CATEGORIES:Public transit
END:VEVENT
BEGIN:VEVENT
DTSTART;TZID=America/Denver:20230511T170000
DTEND;TZID=America/Denver:20230511T190000
DTSTAMP:20260423T164112
CREATED:20230419T234842Z
LAST-MODIFIED:20230505T043212Z
UID:4023-1683824400-1683831600@winstondowns.org
SUMMARY:RTD Feedback Opportunity re Policy Changes
DESCRIPTION:[Source: RTD]\nRTD has been planning some major changes to their policies and I don’t want you to miss out on providing your input. First\, I’m jazzed about most of the changes RTD is considering making to their fare and pass structure\, and I think you’ll be\, too. Check out details from RTD\, then use our comment guide to submit a comment (or share your own ideas!) at the bottom of the website or sign up to share your thoughts at one of these virtual or in-person meetings: \n\nVirtual:\n\nMay 3\, 2023 at 6 p.m.\nMay 16\, 2023 at 12 p.m.\n\n\nIn-Person\n\nMay 11\, 2023\, 5–7 p.m.\n\nLocation: The Alliance Center’s Sustainability Center (1536 Wynkoop St)\n\n\nMay 17\, 2023\, 5–7 p.m.\n\nLocation: Carla Madison Rec Center’s Rooftop (2401 E Colfax Ave)\n\n\nSnacks provided\n\n\n\nPlease reply to this email to let me know if you are planning to attend any of the meetings above so I can send you a reminder and keep you informed!
URL:https://winstondowns.org/event/rtd-feedback-opportunity-re-policy-changes/
CATEGORIES:Public transit
END:VEVENT
BEGIN:VEVENT
DTSTART;TZID=America/Denver:20230503T180000
DTEND;TZID=America/Denver:20230503T200000
DTSTAMP:20260423T164112
CREATED:20230419T234342Z
LAST-MODIFIED:20230419T234342Z
UID:4016-1683136800-1683144000@winstondowns.org
SUMMARY:RTD Feedback Opportunity for Policy Changes
DESCRIPTION:RTD has been planning some major changes to their policies and I don’t want you to miss out on providing your input. First\, I’m jazzed about most of the changes RTD is considering making to their fare and pass structure\, and I think you’ll be\, too. Check out details from RTD\, then use our comment guide to submit a comment (or share your own ideas!) at the bottom of the website or sign up to share your thoughts at one of these virtual or in-person meetings: \n\nVirtual:\n\nMay 3\, 2023 at 6 p.m.\nMay 16\, 2023 at 12 p.m.\n\n\nIn-Person\n\nMay 11\, 2023\, 5–7 p.m.\n\nLocation: The Alliance Center’s Sustainability Center (1536 Wynkoop St)\n\n\nMay 17\, 2023\, 5–7 p.m.\n\nLocation: Carla Madison Rec Center’s Rooftop (2401 E Colfax Ave)\n\n\nSnacks provided\n\n\n\nSecond\, I also want to congratulate you—when you stood up for fairness by asking RTD to get public feedback in revising their Code of Conduct and to eliminate the policies most obviously targeting the unhoused\, they listened! Now it’s time to share your thoughts on the newest revisions so taking transit can remain a truly public service open to all. If you can make it\, attend RTD’s community meeting on Saturday\, April 29 from 10 to 11:30 a.m. at the Chestnut Pavilion at Denver Union Station\, or submit a comment online. \nPlease reply to this email to let me know if you are planning to attend any of the meetings above so I can send you a reminder and keep you informed!
URL:https://winstondowns.org/event/rtd-feedback-opportunity-for-policy-changes/
CATEGORIES:Public transit
END:VEVENT
BEGIN:VEVENT
DTSTART;TZID=America/Denver:20230429T100000
DTEND;TZID=America/Denver:20230429T113000
DTSTAMP:20260423T164112
CREATED:20230419T234603Z
LAST-MODIFIED:20230419T234603Z
UID:4018-1682762400-1682767800@winstondowns.org
SUMMARY:RTD Public Meetings re Policy Changes
DESCRIPTION:RTD has been planning some major changes to their policies and I don’t want you to miss out on providing your input. First\, I’m jazzed about most of the changes RTD is considering making to their fare and pass structure\, and I think you’ll be\, too. Check out details from RTD\, then use our comment guide to submit a comment (or share your own ideas!) at the bottom of the website or sign up to share your thoughts at one of these virtual or in-person meetings: \n\nVirtual:\n\nMay 3\, 2023 at 6 p.m.\nMay 16\, 2023 at 12 p.m.\n\n\nIn-Person\n\nMay 11\, 2023\, 5–7 p.m.\n\nLocation: The Alliance Center’s Sustainability Center (1536 Wynkoop St)\n\n\nMay 17\, 2023\, 5–7 p.m.\n\nLocation: Carla Madison Rec Center’s Rooftop (2401 E Colfax Ave)\n\n\nSnacks provided\n\n\n\nSecond\, I also want to congratulate you—when you stood up for fairness by asking RTD to get public feedback in revising their Code of Conduct and to eliminate the policies most obviously targeting the unhoused\, they listened! Now it’s time to share your thoughts on the newest revisions so taking transit can remain a truly public service open to all. If you can make it\, attend RTD’s community meeting on Saturday\, April 29 from 10 to 11:30 a.m. at the Chestnut Pavilion at Denver Union Station\, or submit a comment online. \nPlease reply to this email to let me know if you are planning to attend any of the meetings above so I can send you a reminder and keep you informed!
URL:https://winstondowns.org/event/rtd-public-meetings-re-policy-changes/
CATEGORIES:Denver Area Events,Public transit
END:VEVENT
END:VCALENDAR