BEGIN:VCALENDAR
VERSION:2.0
PRODID:-//Winston Downs Community Association - ECPv6.15.20//NONSGML v1.0//EN
CALSCALE:GREGORIAN
METHOD:PUBLISH
X-WR-CALNAME:Winston Downs Community Association
X-ORIGINAL-URL:https://winstondowns.org
X-WR-CALDESC:Events for Winston Downs Community Association
REFRESH-INTERVAL;VALUE=DURATION:PT1H
X-Robots-Tag:noindex
X-PUBLISHED-TTL:PT1H
BEGIN:VTIMEZONE
TZID:America/Denver
BEGIN:DAYLIGHT
TZOFFSETFROM:-0700
TZOFFSETTO:-0600
TZNAME:MDT
DTSTART:20230312T090000
END:DAYLIGHT
BEGIN:STANDARD
TZOFFSETFROM:-0600
TZOFFSETTO:-0700
TZNAME:MST
DTSTART:20231105T080000
END:STANDARD
BEGIN:DAYLIGHT
TZOFFSETFROM:-0700
TZOFFSETTO:-0600
TZNAME:MDT
DTSTART:20240310T090000
END:DAYLIGHT
BEGIN:STANDARD
TZOFFSETFROM:-0600
TZOFFSETTO:-0700
TZNAME:MST
DTSTART:20241103T080000
END:STANDARD
BEGIN:DAYLIGHT
TZOFFSETFROM:-0700
TZOFFSETTO:-0600
TZNAME:MDT
DTSTART:20250309T090000
END:DAYLIGHT
BEGIN:STANDARD
TZOFFSETFROM:-0600
TZOFFSETTO:-0700
TZNAME:MST
DTSTART:20251102T080000
END:STANDARD
BEGIN:DAYLIGHT
TZOFFSETFROM:-0700
TZOFFSETTO:-0600
TZNAME:MDT
DTSTART:20260308T090000
END:DAYLIGHT
BEGIN:STANDARD
TZOFFSETFROM:-0600
TZOFFSETTO:-0700
TZNAME:MST
DTSTART:20261101T080000
END:STANDARD
BEGIN:DAYLIGHT
TZOFFSETFROM:-0700
TZOFFSETTO:-0600
TZNAME:MDT
DTSTART:20270314T090000
END:DAYLIGHT
BEGIN:STANDARD
TZOFFSETFROM:-0600
TZOFFSETTO:-0700
TZNAME:MST
DTSTART:20271107T080000
END:STANDARD
END:VTIMEZONE
BEGIN:VEVENT
DTSTART;TZID=America/Denver:20260307T100000
DTEND;TZID=America/Denver:20260307T140000
DTSTAMP:20260423T104607
CREATED:20260214T015548Z
LAST-MODIFIED:20260214T015548Z
UID:8038-1772877600-1772892000@winstondowns.org
SUMMARY:Self Defense Class - DPD Free
DESCRIPTION:Denver Police Department Self Defense Class March 7th – Location available when you click to register \nIn light of recent incidents in District 3 (Sector 1)\, the DPD District 3 team and Councilwoman Alvidrez have collaborated to act quickly and assemble a self defense class for local community members. \nOn Saturday\, March 7th from 10 am to 2 pm the Denver Police Department will be hosting a self-defense class\, in partnership with City Council District 7.  This class is open to all community members\, registration is required\, and spaces will fill quickly.  Registration opens Friday\, February 13th at 9 am. Please click on this LINK to register and reserve your spot. \nWhat to expect: \nOur experienced officers will teach you essential self-defense techniques in a safe and supportive environment. Don’t miss this opportunity to empower yourself and enhance your personal safety. Sign up now! \n*If you are between the ages of 12-18\, please have a legal guardian present to sign waiver prior to attending class. \nWe ask that you arrive at least 15 minutes early to park\, complete a waiver\, and get settled-in. \nWe DO NOT break for lunch. Please come in work-out attire and shoes. \nPlease click on this LINK to register and reserve your spot. \nFor questions regarding this class please email christie.mochoruk@denvergov.org
URL:https://winstondowns.org/event/self-defense-class-dpd-free/
LOCATION:CO
CATEGORIES:Community Police Meeting,HOT TOPICS,Safety & Traffic
END:VEVENT
BEGIN:VEVENT
DTSTART;TZID=America/Denver:20251029T173000
DTEND;TZID=America/Denver:20251029T190000
DTSTAMP:20260423T104607
CREATED:20251024T020156Z
LAST-MODIFIED:20251024T020156Z
UID:7616-1761759000-1761764400@winstondowns.org
SUMMARY:Community Conversation with Al Gardner-In person or via Zoom
DESCRIPTION: Community Conversation with Al Gardner\nWednesday\, October 29\, 2025 | 5:30 – 7:00 PM \nJoin Al Gardner\, Denver’s Department of Public Safety nominee\, for a meaningful community conversation on public safety\, neighborhood priorities\, and collaboration across our city. \nModerated by Gloria Neal\, this event invites residents to share perspectives\, ask questions\, and help shape a safer\, stronger Denver. \nSpanish interpretation\, light bites\, and refreshments will be provided. \n RSVP today: Community Conversation Registration\nSpace is limited—reserve your spot early! \nCan’t join in person? Join via Zoom\nMeeting ID: 619 207 4556 | Passcode: 12345
URL:https://winstondowns.org/event/community-conversation-with-al-gardner-in-person-or-via-zoom/
LOCATION:CO
CATEGORIES:Safety & Traffic
END:VEVENT
BEGIN:VEVENT
DTSTART;TZID=America/Denver:20250520T190000
DTEND;TZID=America/Denver:20250520T203000
DTSTAMP:20260423T104607
CREATED:20250419T225112Z
LAST-MODIFIED:20250419T225139Z
UID:6929-1747767600-1747773000@winstondowns.org
SUMMARY:WINSTON DOWNS 3rd ANNUAL SAFETY MEETING
DESCRIPTION:Hosted by WDCA \nTuesday\, May 20\, 2025\n7:00pm – 8:30pm \nLocation:\nBMH-BJ Synagogue-Fisher Hall\n560 S. Monaco Pkwy.\n(Use back entry. Free parking & HC access is also in back.) \nTopic: All about the latest Scams & Frauds\nSpeakers will update us & include time for Q/A \n 
URL:https://winstondowns.org/event/winston-downs-3rd-annual-safety-meeting/
LOCATION:CO
CATEGORIES:Community Police Meeting,Safety & Traffic
ORGANIZER;CN="WDCA":MAILTO:info@winstondowns.org
END:VEVENT
BEGIN:VEVENT
DTSTART;TZID=America/Denver:20250506T173000
DTEND;TZID=America/Denver:20250506T190000
DTSTAMP:20260423T104607
CREATED:20250415T211425Z
LAST-MODIFIED:20250415T211425Z
UID:6907-1746552600-1746558000@winstondowns.org
SUMMARY:Holly Street Traffic Study via Zoom
DESCRIPTION:Holly Street Traffic Study \nMay 6 via Zoom at 5:30 PM \nMy Office\, the Denver Department of Transportation and Infrastructure (DOTI)\, and traffic engineering firm Fehr and Peers will be hosting a virtual meeting for residents and stakeholders to discuss a traffic study that was conducted on Holly Street between 8th Avenue and Leetsdale Drive. This meeting will be an opportunity to learn about proposed improvements on Holly Street. Join our community meeting on May 6 via Zoom at 5:30 PM to learn more!\n\n\n\n\n\n\n\n\n\n\n\n\n\n\n\n\n\n\nRegister for the meeting
URL:https://winstondowns.org/event/holly-street-traffic-study-via-zoom/
LOCATION:Via Zoom\, Denver
CATEGORIES:District 5 Initiative Meeting,HOT TOPICS,Safety & Traffic
END:VEVENT
BEGIN:VEVENT
DTSTART;TZID=America/Denver:20250108T100000
DTEND;TZID=America/Denver:20250108T120000
DTSTAMP:20260423T104607
CREATED:20250104T040011Z
LAST-MODIFIED:20250104T040011Z
UID:6463-1736330400-1736337600@winstondowns.org
SUMMARY:Coffee with a Cop
DESCRIPTION:Wednesday\, January 8th from 10am to noon – Coffee with the Cops @ Nixon’s Coffee House 695 W Louisiana Ave.
URL:https://winstondowns.org/event/coffee-with-a-cop-4/
LOCATION:Nixon’s Cafe\, 695 E Louisiana\, Denver\, CO
CATEGORIES:Community Police Meeting,District 3 Police,Safety & Traffic
END:VEVENT
BEGIN:VEVENT
DTSTART;TZID=America/Denver:20241122T110000
DTEND;TZID=America/Denver:20241122T130000
DTSTAMP:20260423T104607
CREATED:20241106T213342Z
LAST-MODIFIED:20241106T213359Z
UID:6062-1732273200-1732280400@winstondowns.org
SUMMARY:Crime Prevention Tune Up with DPD
DESCRIPTION:
URL:https://winstondowns.org/event/crime-prevention-tune-up-with-dpd/
LOCATION:District 3 Police\, 1625 S University Blvd\, Denver\, CO\, United States
CATEGORIES:Community Action Day,Community Police Meeting,District 3 Police,Safety & Traffic
END:VEVENT
BEGIN:VEVENT
DTSTART;TZID=America/Denver:20240924T180000
DTEND;TZID=America/Denver:20240924T193000
DTSTAMP:20260423T104607
CREATED:20240724T221113Z
LAST-MODIFIED:20240724T221113Z
UID:5750-1727200800-1727206200@winstondowns.org
SUMMARY:E. Exposition from Quebec to Leetsdale Study - All invited to attend via Zoom September 24
DESCRIPTION:Exposition Traffic Study Virtual Recommendations Meeting in September \nThe recommendations meeting has been rescheduled for September 24\, 2024 at 6:00 P.M. via Zoom due to the Department of Transportation and Infrastructure needing to review additional traffic calming improvements to the corridor. \nOur office is working with the Winston Downs Community Association\, residents\, and Denver’s Department of Transportation and Infrastructure to improve Exposition Avenue from Leetsdale Drive to Quebec Street including the Monaco Parkway & Leetsdale Drive intersection. This study will identify opportunities to calm traffic on Exposition Avenue and to improve crossings for people walking and biking. \nYou are invited to a Zoom webinar. When: Sept 24\, 2024 06:00 PM Mountain Time (US and Canada) \nTopic: Exposition Traffic Study Community Meeting Register in advance for this webinar: https://bit.ly/ExpositionStudyAug
URL:https://winstondowns.org/event/e-exposition-from-quebec-to-leetsdale-study-all-invited-to-attend-via-zoom-september-24/
LOCATION:CO
CATEGORIES:Safety & Traffic,Special notices and events
END:VEVENT
END:VCALENDAR