BEGIN:VCALENDAR
VERSION:2.0
PRODID:-//Winston Downs Community Association - ECPv6.15.20//NONSGML v1.0//EN
CALSCALE:GREGORIAN
METHOD:PUBLISH
X-WR-CALNAME:Winston Downs Community Association
X-ORIGINAL-URL:https://winstondowns.org
X-WR-CALDESC:Events for Winston Downs Community Association
REFRESH-INTERVAL;VALUE=DURATION:PT1H
X-Robots-Tag:noindex
X-PUBLISHED-TTL:PT1H
BEGIN:VTIMEZONE
TZID:America/Denver
BEGIN:DAYLIGHT
TZOFFSETFROM:-0700
TZOFFSETTO:-0600
TZNAME:MDT
DTSTART:20240310T090000
END:DAYLIGHT
BEGIN:STANDARD
TZOFFSETFROM:-0600
TZOFFSETTO:-0700
TZNAME:MST
DTSTART:20241103T080000
END:STANDARD
BEGIN:DAYLIGHT
TZOFFSETFROM:-0700
TZOFFSETTO:-0600
TZNAME:MDT
DTSTART:20250309T090000
END:DAYLIGHT
BEGIN:STANDARD
TZOFFSETFROM:-0600
TZOFFSETTO:-0700
TZNAME:MST
DTSTART:20251102T080000
END:STANDARD
BEGIN:DAYLIGHT
TZOFFSETFROM:-0700
TZOFFSETTO:-0600
TZNAME:MDT
DTSTART:20260308T090000
END:DAYLIGHT
BEGIN:STANDARD
TZOFFSETFROM:-0600
TZOFFSETTO:-0700
TZNAME:MST
DTSTART:20261101T080000
END:STANDARD
END:VTIMEZONE
BEGIN:VEVENT
DTSTART;TZID=America/Denver:20250311T173000
DTEND;TZID=America/Denver:20250311T203000
DTSTAMP:20260424T093227
CREATED:20250309T001821Z
LAST-MODIFIED:20250309T001821Z
UID:6712-1741714200-1741725000@winstondowns.org
SUMMARY:Virtual Panel by Senators Bennet & Hickenlooper re Terminated Federal Workers in Colorado
DESCRIPTION:Are you a current or terminated federal worker in Colorado? Join me and Senator Bennet\, Representative Pettersen\, and federal employee rights experts for a virtual panel next Tuesday\, March 11th at 5:30pm MT. Register HERE.
URL:https://winstondowns.org/event/virtual-panel-by-senators-bennet-hickenlooper-re-terminated-federal-workers-in-colorado/
LOCATION:Via Zoom\, Denver
CATEGORIES:Special Events
END:VEVENT
END:VCALENDAR