BEGIN:VCALENDAR
VERSION:2.0
PRODID:-//Winston Downs Community Association - ECPv6.15.20//NONSGML v1.0//EN
CALSCALE:GREGORIAN
METHOD:PUBLISH
X-WR-CALNAME:Winston Downs Community Association
X-ORIGINAL-URL:https://winstondowns.org
X-WR-CALDESC:Events for Winston Downs Community Association
REFRESH-INTERVAL;VALUE=DURATION:PT1H
X-Robots-Tag:noindex
X-PUBLISHED-TTL:PT1H
BEGIN:VTIMEZONE
TZID:America/Denver
BEGIN:DAYLIGHT
TZOFFSETFROM:-0700
TZOFFSETTO:-0600
TZNAME:MDT
DTSTART:20240310T090000
END:DAYLIGHT
BEGIN:STANDARD
TZOFFSETFROM:-0600
TZOFFSETTO:-0700
TZNAME:MST
DTSTART:20241103T080000
END:STANDARD
BEGIN:DAYLIGHT
TZOFFSETFROM:-0700
TZOFFSETTO:-0600
TZNAME:MDT
DTSTART:20250309T090000
END:DAYLIGHT
BEGIN:STANDARD
TZOFFSETFROM:-0600
TZOFFSETTO:-0700
TZNAME:MST
DTSTART:20251102T080000
END:STANDARD
BEGIN:DAYLIGHT
TZOFFSETFROM:-0700
TZOFFSETTO:-0600
TZNAME:MDT
DTSTART:20260308T090000
END:DAYLIGHT
BEGIN:STANDARD
TZOFFSETFROM:-0600
TZOFFSETTO:-0700
TZNAME:MST
DTSTART:20261101T080000
END:STANDARD
END:VTIMEZONE
BEGIN:VEVENT
DTSTART;TZID=America/Denver:20250531T080000
DTEND;TZID=America/Denver:20250629T170000
DTSTAMP:20260423T224350
CREATED:20250611T205857Z
LAST-MODIFIED:20250611T205857Z
UID:7193-1748678400-1751216400@winstondowns.org
SUMMARY:Firehouse Theater Company  Production
DESCRIPTION: Firehouse Theater Company   \nNext up is RIPCORD by David Lindsay-Abaire and directed by Abby Apple Boes. May 31 – June 29. Get tickets here. \nDescription: A sunny room on an upper floor is prime real estate in the Bristol Place Senior Living Facility\, so when the cantankerous Abby is forced to share her quarters with new-arrival Marilyn\, she has no choice but to get rid of the infuriatingly chipper woman by any means necessary. A seemingly harmless bet between the old women quickly escalates into a dangerous game of one-upmanship that reveals not just the tenacity of these worthy opponents\, but also deeper truths that each would rather remain hidden.\n—Dramatist Play Service \n\nLocated in: John Hand Theater\n\n\n\nAddress: 7653 E 1st Pl\, Denver\, CO 80230\nThe John Hand Theater is located inside the historic Lowry Air Force Base Fire Station. The main stage and backstage areas reside where fire trucks once stood at the ready. The Lowry Air Force Base served as a training base during World War II and during the Cold War – and was the initial site of the U.S Air Force Academy (1955-1958).
URL:https://winstondowns.org/event/firehouse-theater-company-production/
LOCATION:Fire House Theater\, 7653 E 1st Pl.\, Denver\, CO\, 80230
CATEGORIES:Area Exhibitions-Public,Special Events
END:VEVENT
BEGIN:VEVENT
DTSTART;TZID=America/Denver:20250612T080000
DTEND;TZID=America/Denver:20250612T170000
DTSTAMP:20260423T224350
CREATED:20250521T223305Z
LAST-MODIFIED:20250521T223305Z
UID:7086-1749715200-1749747600@winstondowns.org
SUMMARY:Loving Day - No appointment needed to marry at Denver Court
DESCRIPTION:Denver Clerk & Recorder Announcement \nWe’re excited to announce we are hosting another no appointment needed marriage day on Loving Day\, June 12. The day commemorates the 1967 Supreme Court decision in Loving v. Virginia\, which legalized interracial marriage in the United States. Again\, no appointment is needed\, just make sure to visit our marriage and civil unions page to read marriage license requirements and complete your application.
URL:https://winstondowns.org/event/loving-day-no-appointment-needed-to-marry-at-denver-court/
LOCATION:CO
CATEGORIES:Community Action Day,Special Events
END:VEVENT
BEGIN:VEVENT
DTSTART;TZID=America/Denver:20250612T173000
DTEND;TZID=America/Denver:20250612T210000
DTSTAMP:20260423T224350
CREATED:20250309T023742Z
LAST-MODIFIED:20250611T203952Z
UID:6739-1749749400-1749762000@winstondowns.org
SUMMARY:Denver Community Film Fest - WDCA is one of the sponsors! Free - Full  as of 6/11\, but can still RSVP in hopes of no shows
DESCRIPTION:  \nDenver Community Film Screening- WDCA is one of the sponsors! Event is Free\n \n\n\n\n\n\n\n\n\n\n\n\n\n\n\n\n\n\n\n\n\n\n\n\n\n\n\n\n\n\n\n\n\n\nJoin Denver’s Inter Neighborhood Cooperation for Denver Community Film Fest Night!\nAnd\, thank you WDCA for your donation to help support this important event.📅 June 12 | 📍 Historic Holiday Theater\, 2644 W 32nd Ave\, Denver near North HS. Parking at North HS. In June\, INC\, along with a number of community groups\, is hosting a screening of Join or Die\, a thought provoking documentary on the decline of civic engagement in America\, highlighting the decreasing participation in community groups like neighborhood & civic organizations\, churches\, and more. [Watch the trailer here.]The evening includes a pre-film reception at 530pm\, screening at 630p\, and a post-film Q&A with the director and community leaders.The screening is free to Denver residents. Donations are appreciated and accepted at the door.\nWDCA is a co-sponsor of this film being shown as part of the June 12th Denver Community Film Festival. Your participation is what will make this event truly special\, and we can’t wait to bring our communities together for an incredible night centered around civic and personal connections
URL:https://winstondowns.org/event/6739/
LOCATION:Holiday Theater\, 2644 W 32nd Ave\, Denver\, CO
CATEGORIES:Area Exhibitions-Public,Denver Area Events,HOT TOPICS,Neighborhood Wide Meeting,Special Events
END:VEVENT
BEGIN:VEVENT
DTSTART;VALUE=DATE:20250615
DTEND;VALUE=DATE:20250616
DTSTAMP:20260423T224350
CREATED:20250521T230855Z
LAST-MODIFIED:20250521T230855Z
UID:7100-1749945600-1750031999@winstondowns.org
SUMMARY:Father's Day
DESCRIPTION:
URL:https://winstondowns.org/event/fathers-day/
LOCATION:CO
CATEGORIES:Special Events
END:VEVENT
BEGIN:VEVENT
DTSTART;TZID=America/Denver:20250621T090000
DTEND;TZID=America/Denver:20250621T140000
DTSTAMP:20260423T224350
CREATED:20250602T200040Z
LAST-MODIFIED:20250602T200051Z
UID:7115-1750496400-1750514400@winstondowns.org
SUMMARY:Cook Park Neighborhood Yard Sale
DESCRIPTION:  \n\n\n\n\n\n\n\n\n\n\n\n\n\n\n\n\n\n\n\n\nThis year’s sale will be held on Saturday\, June 21\, from 9am – 2pm! \n  \n 
URL:https://winstondowns.org/event/cook-park-neighborhood-yard-sale/
LOCATION:CO
CATEGORIES:Special Events
END:VEVENT
BEGIN:VEVENT
DTSTART;TZID=America/Denver:20250627T173000
DTEND;TZID=America/Denver:20250627T193000
DTSTAMP:20260423T224350
CREATED:20250605T205232Z
LAST-MODIFIED:20250605T212722Z
UID:7136-1751045400-1751052600@winstondowns.org
SUMMARY:June Summer Neighborhood Social - Friday
DESCRIPTION:June’s Summer Neighborhood Social \nEvery month in summer through early fall\, various homeowners volunteer to host neighborhood gatherings in driveways or back yards. The purpose is to get to know your neighbors. \n WDCA believes neighbors working together and looking out for one another improves the unity and safety of the neighborhood. \nAll residents\, including children\, are invited. Please no pets!  Bring your own beverages and snacks.  Hosts generally have water to serve.  You are welcome to bring sharable snacks too! \nFor privacy purposes\, we post the calendar date and time but not name and address of the event hosts. We send out eNews blasts with that information to local Winston Downs Neighbors.  If you are not on our eNews list\, please send your request to be added to info@winstondowns.org  Please include your name and street address to be verified.
URL:https://winstondowns.org/event/friday-neighborhood-social-3/
LOCATION:CO
CATEGORIES:Special Events,WD Summer Socials
ATTACH;FMTTYPE=image/jpeg:https://winstondowns.org/wp-content/uploads/2021/06/Neighborhood-social.jpg
ORGANIZER;CN="WDCA":MAILTO:info@winstondowns.org
END:VEVENT
END:VCALENDAR