BEGIN:VCALENDAR
VERSION:2.0
PRODID:-//Winston Downs Community Association - ECPv6.15.20//NONSGML v1.0//EN
CALSCALE:GREGORIAN
METHOD:PUBLISH
X-WR-CALNAME:Winston Downs Community Association
X-ORIGINAL-URL:https://winstondowns.org
X-WR-CALDESC:Events for Winston Downs Community Association
REFRESH-INTERVAL;VALUE=DURATION:PT1H
X-Robots-Tag:noindex
X-PUBLISHED-TTL:PT1H
BEGIN:VTIMEZONE
TZID:America/Denver
BEGIN:DAYLIGHT
TZOFFSETFROM:-0700
TZOFFSETTO:-0600
TZNAME:MDT
DTSTART:20240310T090000
END:DAYLIGHT
BEGIN:STANDARD
TZOFFSETFROM:-0600
TZOFFSETTO:-0700
TZNAME:MST
DTSTART:20241103T080000
END:STANDARD
BEGIN:DAYLIGHT
TZOFFSETFROM:-0700
TZOFFSETTO:-0600
TZNAME:MDT
DTSTART:20250309T090000
END:DAYLIGHT
BEGIN:STANDARD
TZOFFSETFROM:-0600
TZOFFSETTO:-0700
TZNAME:MST
DTSTART:20251102T080000
END:STANDARD
BEGIN:DAYLIGHT
TZOFFSETFROM:-0700
TZOFFSETTO:-0600
TZNAME:MDT
DTSTART:20260308T090000
END:DAYLIGHT
BEGIN:STANDARD
TZOFFSETFROM:-0600
TZOFFSETTO:-0700
TZNAME:MST
DTSTART:20261101T080000
END:STANDARD
END:VTIMEZONE
BEGIN:VEVENT
DTSTART;TZID=America/Denver:20251004T110000
DTEND;TZID=America/Denver:20251004T150000
DTSTAMP:20260423T175419
CREATED:20250925T202640Z
LAST-MODIFIED:20250925T202922Z
UID:7519-1759575600-1759590000@winstondowns.org
SUMMARY:16th Street Grand Opening October 4. 11am
DESCRIPTION:The Downtown Denver Partnership\, the City and County of Denver and RTD are thrilled to invite you to the 16th Street Grand Opening on October 4\, 2025\, to celebrate the completion of the 16th Street revitalization project\, exactly 43 years after its inaugural opening in 1982.  We’d love to invite you to join us for a momentous day of community celebration beginning at 11 a.m. as we usher in a new era for 16th Street. Highlights include: \n\n\n\nREI Scavenger Hunt throughout 16th Street\nRibbon Cutting Ceremony with a Guerrilla Fanfare Brass Band Parade & Remarks\n“Local Heroes” Music Lineup on the Main Stage with beloved Denver bands and DJs\n16th Street Deals of the Day\n16th Street Birthday Party with special treats and exclusive 16th Street merch
URL:https://winstondowns.org/event/7519/
LOCATION:CO
CATEGORIES:Area Exhibitions-Public,Special Events
END:VEVENT
BEGIN:VEVENT
DTSTART;TZID=America/Denver:20251021T103000
DTEND;TZID=America/Denver:20251021T120000
DTSTAMP:20260423T175419
CREATED:20250910T222312Z
LAST-MODIFIED:20250910T222312Z
UID:7456-1761042600-1761048000@winstondowns.org
SUMMARY:Speaker at Governor's Residence
DESCRIPTION:Over the course of the next sixteen months\, First Gentleman Marlon Reis is hosting a monthly speaker series at the Governor’s Mansion. Subject matter experts will present on the issue\, with time for audience Q&A afterwards. \n\nWHEN: Tuesday\, October 21\, 2025\, 10:30AM – 12PM\nWHERE: The Governor’s Residence at the Boettecher Mansion\, 400 E 8th Ave\, Denver\, CO\nABOUT: Please join First Gentleman Marlon Reis and Lieutenant Governor Dianne Primavera for an engaging discussion on the prairie dog ecosystem in Colorado. The event will feature a panel of experts\, moderated by Lindsey Sterling Krank at Humane World for Animals.\nPlease stay tuned for this event’s RSVP form.
URL:https://winstondowns.org/event/speaker-at-governors-residence/
LOCATION:Governors Residence\, 400 E 8th Ave\,\, Denver\, CO
CATEGORIES:Special Events
END:VEVENT
END:VCALENDAR