BEGIN:VCALENDAR
VERSION:2.0
PRODID:-//Winston Downs Community Association - ECPv6.15.20//NONSGML v1.0//EN
CALSCALE:GREGORIAN
METHOD:PUBLISH
X-ORIGINAL-URL:https://winstondowns.org
X-WR-CALDESC:Events for Winston Downs Community Association
REFRESH-INTERVAL;VALUE=DURATION:PT1H
X-Robots-Tag:noindex
X-PUBLISHED-TTL:PT1H
BEGIN:VTIMEZONE
TZID:America/Denver
BEGIN:DAYLIGHT
TZOFFSETFROM:-0700
TZOFFSETTO:-0600
TZNAME:MDT
DTSTART:20220313T090000
END:DAYLIGHT
BEGIN:STANDARD
TZOFFSETFROM:-0600
TZOFFSETTO:-0700
TZNAME:MST
DTSTART:20221106T080000
END:STANDARD
BEGIN:DAYLIGHT
TZOFFSETFROM:-0700
TZOFFSETTO:-0600
TZNAME:MDT
DTSTART:20230312T090000
END:DAYLIGHT
BEGIN:STANDARD
TZOFFSETFROM:-0600
TZOFFSETTO:-0700
TZNAME:MST
DTSTART:20231105T080000
END:STANDARD
BEGIN:DAYLIGHT
TZOFFSETFROM:-0700
TZOFFSETTO:-0600
TZNAME:MDT
DTSTART:20240310T090000
END:DAYLIGHT
BEGIN:STANDARD
TZOFFSETFROM:-0600
TZOFFSETTO:-0700
TZNAME:MST
DTSTART:20241103T080000
END:STANDARD
END:VTIMEZONE
BEGIN:VEVENT
DTSTART;TZID=America/Denver:20230201T170000
DTEND;TZID=America/Denver:20230201T190000
DTSTAMP:20260425T180144
CREATED:20230129T001427Z
LAST-MODIFIED:20230129T005455Z
UID:3626-1675270800-1675278000@winstondowns.org
SUMMARY:Public Meeting re ADU's in Denver
DESCRIPTION:Denver plans to insert Auxiliary Dwelling Units/ADU’s into all of Denver’s neighborhoods to increase “affordable” housing and add to density of housing inventories.  They are holding several open houses which were advised on January 24 in email received in afternoon. \nPublic presentation by Josh Palmeri\, CPD with opportunities to ask questions. \nMontclair Rec Center has open free parking and HC parking
URL:https://winstondowns.org/event/public-meeting-re-adus-in-denver/
LOCATION:Montclair Rec Center\, 729 Ulster Way\, Denver\, CO\, 80230\, United States
CATEGORIES:Special notices and events,Zoning changes in Denver
END:VEVENT
BEGIN:VEVENT
DTSTART;TZID=America/Denver:20230202T153000
DTEND;TZID=America/Denver:20230202T180000
DTSTAMP:20260425T180144
CREATED:20230129T001752Z
LAST-MODIFIED:20230129T004612Z
UID:3628-1675351800-1675360800@winstondowns.org
SUMMARY:Public meetings re ADU's in Denver
DESCRIPTION:Denver plans to insert Auxiliary Dwelling Units/ADU’s into all of Denver’s neighborhoods to increase “affordable” housing and add to density of housing inventories.  They are holding several open houses which were advised on January 24 in email received in afternoon.  Public presentation by Josh Palmeri\, CPD with opportunities to ask questions. \nVirginia Village Library has open free parking and HC parking-  (Florida/Dahlia)
URL:https://winstondowns.org/event/public-meetings-re-adus-in-denver/
LOCATION:Virginia Village Library\, 1500 S Dahlia St\, Denver\, CO\, 80222
CATEGORIES:Special notices and events,Zoning changes in Denver
END:VEVENT
BEGIN:VEVENT
DTSTART;TZID=America/Denver:20230207T170000
DTEND;TZID=America/Denver:20230207T190000
DTSTAMP:20260425T180144
CREATED:20230129T002554Z
LAST-MODIFIED:20230129T011342Z
UID:3630-1675789200-1675796400@winstondowns.org
SUMMARY:ADU's Public Zoom Meeting
DESCRIPTION:Learn about zoning changes Denver plans that will add auxiliary dwelling units/ADUs throughout Denver-every neighborhood!. \nWDCA was advised about this series of public meetings via email received the afternoon of January 24.  Presentation by Josh Palmeri\, CPD- Questions may or may not be permitted in this presentation because the City generally does not open the “chat” feature for online meetings; however\, they may permit you to use the “raise hand” feature to be recognized and you can email questions during and afterwards to Josh at Joshua.Palmeri@denvergov.org \nTuesday\, February 07\, 2023 | 05:00 PM to 06:30 PM \nVirtual Meeting Via Zoom  CLICK HERE for registering to attend online meeting \n 
URL:https://winstondowns.org/event/adus-public-zoom-meeting/
LOCATION:Via Zoom\, Denver
CATEGORIES:Special notices and events,Zoning changes in Denver
END:VEVENT
BEGIN:VEVENT
DTSTART;TZID=America/Denver:20230209T153000
DTEND;TZID=America/Denver:20230209T173000
DTSTAMP:20260425T180144
CREATED:20230129T003309Z
LAST-MODIFIED:20230129T004425Z
UID:3633-1675956600-1675963800@winstondowns.org
SUMMARY:ADUs In Denver Public Meeting
DESCRIPTION:Denver plans to insert ADU’s into all of Denver’s neighborhoods to increase “affordable” housing and add to density of housing inventories.  They are holding several open houses which were advised on January 24 in email received in afternoon.  Public presentation by Josh Palmeri\, CPD with opportunities to ask questions.
URL:https://winstondowns.org/event/adus-in-denver-public-meeting/
LOCATION:Bear Valley Library\, 5171 W Dartmouth Ave\,\, Denver\, CO\, 80236
CATEGORIES:Special notices and events,Zoning changes in Denver
END:VEVENT
END:VCALENDAR