BEGIN:VCALENDAR
VERSION:2.0
PRODID:-//Winston Downs Community Association - ECPv6.15.20//NONSGML v1.0//EN
CALSCALE:GREGORIAN
METHOD:PUBLISH
X-WR-CALNAME:Winston Downs Community Association
X-ORIGINAL-URL:https://winstondowns.org
X-WR-CALDESC:Events for Winston Downs Community Association
REFRESH-INTERVAL;VALUE=DURATION:PT1H
X-Robots-Tag:noindex
X-PUBLISHED-TTL:PT1H
BEGIN:VTIMEZONE
TZID:America/Denver
BEGIN:DAYLIGHT
TZOFFSETFROM:-0700
TZOFFSETTO:-0600
TZNAME:MDT
DTSTART:20210314T090000
END:DAYLIGHT
BEGIN:STANDARD
TZOFFSETFROM:-0600
TZOFFSETTO:-0700
TZNAME:MST
DTSTART:20211107T080000
END:STANDARD
BEGIN:DAYLIGHT
TZOFFSETFROM:-0700
TZOFFSETTO:-0600
TZNAME:MDT
DTSTART:20220313T090000
END:DAYLIGHT
BEGIN:STANDARD
TZOFFSETFROM:-0600
TZOFFSETTO:-0700
TZNAME:MST
DTSTART:20221106T080000
END:STANDARD
BEGIN:DAYLIGHT
TZOFFSETFROM:-0700
TZOFFSETTO:-0600
TZNAME:MDT
DTSTART:20230312T090000
END:DAYLIGHT
BEGIN:STANDARD
TZOFFSETFROM:-0600
TZOFFSETTO:-0700
TZNAME:MST
DTSTART:20231105T080000
END:STANDARD
END:VTIMEZONE
BEGIN:VEVENT
DTSTART;VALUE=DATE:20221027
DTEND;VALUE=DATE:20221201
DTSTAMP:20260425T223116
CREATED:20221027T222800Z
LAST-MODIFIED:20221027T222800Z
UID:3172-1666828800-1669852799@winstondowns.org
SUMMARY:Coats for Colorado Drive
DESCRIPTION:Get Involved\nFor those in the Denver area\, Coats for Colorado has become a longstanding and treasured holiday tradition. From volunteering and donating\, to even hosting your own coat drive\, find out how you can help bring warmth to those in need. To donate a jacket today\, find a dropoff location near you. \n\n\n\n\n\n\n\n\n\n\n\n\n\n\n\n\n\n\nYou can also benefit Coats for Colorado all year long with your online shopping. Just go to https://smile.amazon.com/ch/84-1352214. From then on\, any eligible purchase from Amazon will result in 0.5% going to Coats. To be eligible\, you must start all future Amazon shopping from the smile.amazon.com page\, so bookmark this page! \nIf you don’t have any used jackets to donate and would like to offer a coat\, Coats for Colorado has an Amazon Wish list with purchase requests and suggestions.
URL:https://winstondowns.org/event/coats-for-colorado-drive/
LOCATION:CO
CATEGORIES:Special notices and events
END:VEVENT
BEGIN:VEVENT
DTSTART;VALUE=DATE:20221027
DTEND;VALUE=DATE:20221203
DTSTAMP:20260425T223116
CREATED:20221028T003345Z
LAST-MODIFIED:20221028T004056Z
UID:3187-1666828800-1670025599@winstondowns.org
SUMMARY:LEAF DROP OCTOBER THROUGH DECEMBER 2
DESCRIPTION:From the office of the Denver City Forester:\n2022 has been a hot one. But the good news is\, autumn is nearly here and soon the air will be crisp\, sweaters will take over for t-shirts and your trees’ leaves will start to turn. Which then means your trees’ leaves will also begin to fall.\nDo you have a plan? This “almost there” season is the perfect time to think ahead about what to do with your leaves. Luckily\, Denver’s LeafDrop program is here to help\, giving Denver residents an easy and free way to take care of their neighborhood and city. \nHere are three easy ways you can turn your leaves into something helpful and keep them out of landfills. \n1. CLAIM YOUR BAGS. Before raking up your leaves\, use this coupon to pick up a pack of free compostable paper bags specifically for leaf collection. Free 5-packs of paper leaf bags are available at participating Denver-area Ace Hardware stores. \n2. #COMPOSTINGCOLORS. While you’re raking up leaves\, be sure to capture the beauty – and the bounty – of Denver in autumn by snapping a photo of your trees\, leaves and LeafDrop bags. Learn how to participate in this year’s fall photo contest and use the hashtag #compostingcolors to be entered to win great prizes. \n3. DROP OFF. Keep your raked leaves out of the landfill and compost them for free through Denver’s LeafDrop program.\nWeekday sites will open to Denver residents Oct. 10 – Dec 2. Weekend drop-off sites will open Nov. 4 – Nov 20.\nRemember\, when dropping off your raked leaves\, if you’re not using these compostable bags\, use paper bags – they can be composted along with the leaves! \nCheck THIS LINK for where to drop off bagged leaves.
URL:https://winstondowns.org/event/leaf-drop-october-through-december-2/
LOCATION:CO
CATEGORIES:Denver Area Events,Special notices and events
END:VEVENT
BEGIN:VEVENT
DTSTART;TZID=America/Denver:20221130T180000
DTEND;TZID=America/Denver:20221130T190000
DTSTAMP:20260425T223116
CREATED:20221102T204233Z
LAST-MODIFIED:20221103T213125Z
UID:3199-1669831200-1669834800@winstondowns.org
SUMMARY:Public Meeting: Crime Strategy -DPD District 3
DESCRIPTION:Community Crime Prevention Coalition Meeting- November 30th at 6pm at Wings Over the Rockies –  \nChief Thomas is putting the public back in public safety and he’s inviting you to take part in Denver Police Department’s Community Crime Prevention Coalition. Join Chief Ron Thomas and District 3 Commander Carlos Aragon on Wednesday\, November 30\, 2022 at 6 PM at Wings Over The Rockies for an informative and interactive meeting regarding plans to enhance safety in Denver Police District 3 and how you can help!  \n  \n\nWednesday Nov 30th at the Wings Over the Rockies from 6:00 to 7:00 pm dubbed a CSB\, Crime Strategy Briefing.\nAddress: 7711 E Academy Blvd\, Denver\, CO 80230\nParking is free though a bit limited during dinner hours. All are welcome to attend and entry is free.\n\n 
URL:https://winstondowns.org/event/community-crime-strategy-briefing-by-dpd-district-3/
LOCATION:CO
CATEGORIES:Special notices and events
END:VEVENT
END:VCALENDAR