BEGIN:VCALENDAR
VERSION:2.0
PRODID:-//Winston Downs Community Association - ECPv6.15.20//NONSGML v1.0//EN
CALSCALE:GREGORIAN
METHOD:PUBLISH
X-ORIGINAL-URL:https://winstondowns.org
X-WR-CALDESC:Events for Winston Downs Community Association
REFRESH-INTERVAL;VALUE=DURATION:PT1H
X-Robots-Tag:noindex
X-PUBLISHED-TTL:PT1H
BEGIN:VTIMEZONE
TZID:America/Denver
BEGIN:DAYLIGHT
TZOFFSETFROM:-0700
TZOFFSETTO:-0600
TZNAME:MDT
DTSTART:20220313T090000
END:DAYLIGHT
BEGIN:STANDARD
TZOFFSETFROM:-0600
TZOFFSETTO:-0700
TZNAME:MST
DTSTART:20221106T080000
END:STANDARD
BEGIN:DAYLIGHT
TZOFFSETFROM:-0700
TZOFFSETTO:-0600
TZNAME:MDT
DTSTART:20230312T090000
END:DAYLIGHT
BEGIN:STANDARD
TZOFFSETFROM:-0600
TZOFFSETTO:-0700
TZNAME:MST
DTSTART:20231105T080000
END:STANDARD
BEGIN:DAYLIGHT
TZOFFSETFROM:-0700
TZOFFSETTO:-0600
TZNAME:MDT
DTSTART:20240310T090000
END:DAYLIGHT
BEGIN:STANDARD
TZOFFSETFROM:-0600
TZOFFSETTO:-0700
TZNAME:MST
DTSTART:20241103T080000
END:STANDARD
END:VTIMEZONE
BEGIN:VEVENT
DTSTART;TZID=America/Denver:20230426T160000
DTEND;TZID=America/Denver:20230426T180000
DTSTAMP:20260425T170438
CREATED:20230421T205017Z
LAST-MODIFIED:20230421T205017Z
UID:4036-1682524800-1682532000@winstondowns.org
SUMMARY:Bike Registration & Neighborhood Watch Training
DESCRIPTION:SPECIAL INVITATION OPPORTUNITY!!!\n\nSpecial one-time training about 529 Garage (this training will NOT be repeated.)  Wednesday\, April 26th from 5pm to 6pm at the District 3 Station – 1625 S. University Blvd (before the Neighborhood Watch training). The Denver Police Department is now partnering with 529 Garage for all bicycle registrations. At this training you will learn how to register your bike\, alert 529 Garage if your bike is ever stolen\, and how to help reunite stolen bikes with their owners.  This training is intended to familiarize you with how to register your bike and potentially assist with registering bicycles in our community. \nIf your bicycle is stolen\, the best chance of getting your bike back relies on riders taking responsibility now and registering their bikes. By using Garage 529 you can help our Denver Police District 3 Officers prevent bicycle theft and aid their efforts to relocate stolen bikes with their owners. Participants will learn why the founder of the X-Box created 529 Garage\, with reach across all of North America! Please RSVP by Tuesday\, April 25th to christie.mochoruk@denvergov.org. \nDenver Police Bicycle Registration – https://denvergov.org/Government/Agencies-Departments-Offices/Agencies-Departments-Offices-Directory/Department-of-Transportation-and-Infrastructure/Programs-Services/Bicycles/Bike-Registration
URL:https://winstondowns.org/event/bike-registration-neighborhood-watch-training/
LOCATION:District 3 Police\, 1625 S University Blvd\, Denver\, CO\, United States
CATEGORIES:Community Police Meeting,Special Events,Special notices and events
END:VEVENT
END:VCALENDAR