BEGIN:VCALENDAR
VERSION:2.0
PRODID:-//Winston Downs Community Association - ECPv6.15.20//NONSGML v1.0//EN
CALSCALE:GREGORIAN
METHOD:PUBLISH
X-ORIGINAL-URL:https://winstondowns.org
X-WR-CALDESC:Events for Winston Downs Community Association
REFRESH-INTERVAL;VALUE=DURATION:PT1H
X-Robots-Tag:noindex
X-PUBLISHED-TTL:PT1H
BEGIN:VTIMEZONE
TZID:America/Denver
BEGIN:DAYLIGHT
TZOFFSETFROM:-0700
TZOFFSETTO:-0600
TZNAME:MDT
DTSTART:20220313T090000
END:DAYLIGHT
BEGIN:STANDARD
TZOFFSETFROM:-0600
TZOFFSETTO:-0700
TZNAME:MST
DTSTART:20221106T080000
END:STANDARD
BEGIN:DAYLIGHT
TZOFFSETFROM:-0700
TZOFFSETTO:-0600
TZNAME:MDT
DTSTART:20230312T090000
END:DAYLIGHT
BEGIN:STANDARD
TZOFFSETFROM:-0600
TZOFFSETTO:-0700
TZNAME:MST
DTSTART:20231105T080000
END:STANDARD
BEGIN:DAYLIGHT
TZOFFSETFROM:-0700
TZOFFSETTO:-0600
TZNAME:MDT
DTSTART:20240310T090000
END:DAYLIGHT
BEGIN:STANDARD
TZOFFSETFROM:-0600
TZOFFSETTO:-0700
TZNAME:MST
DTSTART:20241103T080000
END:STANDARD
END:VTIMEZONE
BEGIN:VEVENT
DTSTART;TZID=America/Denver:20231220T090000
DTEND;TZID=America/Denver:20231220T100000
DTSTAMP:20260425T060628
CREATED:20231212T202013Z
LAST-MODIFIED:20231212T202051Z
UID:4818-1703062800-1703066400@winstondowns.org
SUMMARY:Public Virtual Meeting Dec 20 on Public Housing
DESCRIPTION:WHAT: Every year\, the City and County of Denver receives funds from the United States Department of Housing and Urban Development (HUD) to invest in housing and community development needs. To receive these funds\, the city prepares a report called a Consolidated Plan\, and the city is currently collecting input to that plan. To ensure that issues identified in the plan are reflective of the needs of you and your community\, we want to hear from you! \nWHO: Denver Economic Development & Opportunity (DEDO) and the Department of Housing Stability (HOST) are jointly hosting this public meeting\, inviting all residents\, businesses\, and nonprofits in the City & County of Denver. \nWHY: Denver’s investments in neighborhoods\, housing\, and businesses are most effective when decisions are informed at the grassroots level. Your input matters! \nWHEN: Plan to join us for a virtual presentation and dialogue on Wednesday\, December 20\, 2023 from 9-10 a.m. | Register to join us.
URL:https://winstondowns.org/event/public-virtual-meeting-dec-20-on-public-housing/
LOCATION:CO
CATEGORIES:Special notices and events
END:VEVENT
END:VCALENDAR