BEGIN:VCALENDAR
VERSION:2.0
PRODID:-//Winston Downs Community Association - ECPv6.15.20//NONSGML v1.0//EN
CALSCALE:GREGORIAN
METHOD:PUBLISH
X-ORIGINAL-URL:https://winstondowns.org
X-WR-CALDESC:Events for Winston Downs Community Association
REFRESH-INTERVAL;VALUE=DURATION:PT1H
X-Robots-Tag:noindex
X-PUBLISHED-TTL:PT1H
BEGIN:VTIMEZONE
TZID:America/Denver
BEGIN:DAYLIGHT
TZOFFSETFROM:-0700
TZOFFSETTO:-0600
TZNAME:MDT
DTSTART:20230312T090000
END:DAYLIGHT
BEGIN:STANDARD
TZOFFSETFROM:-0600
TZOFFSETTO:-0700
TZNAME:MST
DTSTART:20231105T080000
END:STANDARD
BEGIN:DAYLIGHT
TZOFFSETFROM:-0700
TZOFFSETTO:-0600
TZNAME:MDT
DTSTART:20240310T090000
END:DAYLIGHT
BEGIN:STANDARD
TZOFFSETFROM:-0600
TZOFFSETTO:-0700
TZNAME:MST
DTSTART:20241103T080000
END:STANDARD
BEGIN:DAYLIGHT
TZOFFSETFROM:-0700
TZOFFSETTO:-0600
TZNAME:MDT
DTSTART:20250309T090000
END:DAYLIGHT
BEGIN:STANDARD
TZOFFSETFROM:-0600
TZOFFSETTO:-0700
TZNAME:MST
DTSTART:20251102T080000
END:STANDARD
END:VTIMEZONE
BEGIN:VEVENT
DTSTART;TZID=America/Denver:20240914T030000
DTEND;TZID=America/Denver:20240914T180000
DTSTAMP:20260424T181645
CREATED:20240805T200435Z
LAST-MODIFIED:20240805T200435Z
UID:5791-1726282800-1726336800@winstondowns.org
SUMMARY:AOA Seniors’ Prom (Ages 55+)
DESCRIPTION:AOA Seniors’ Prom (Ages 55+) \nDetails: Did you have a bad high school prom? You might relate to local Denverite\, Donna Smith. Read about her experience with DPR’s Seniors’ Prom and register for a magical night of your own. \nWhen: September 14 | 3:00 – 6:00 PM \nWhere: City Park Pavilion 2001 Steele St\, 80205
URL:https://winstondowns.org/event/aoa-seniors-prom-ages-55/
LOCATION:City Park Denver\, 2001 Colorado Blvd.\, Denver\, CO\, United States
CATEGORIES:Special notices and events
END:VEVENT
END:VCALENDAR