BEGIN:VCALENDAR
VERSION:2.0
PRODID:-//Winston Downs Community Association - ECPv6.15.20//NONSGML v1.0//EN
CALSCALE:GREGORIAN
METHOD:PUBLISH
X-WR-CALNAME:Winston Downs Community Association
X-ORIGINAL-URL:https://winstondowns.org
X-WR-CALDESC:Events for Winston Downs Community Association
REFRESH-INTERVAL;VALUE=DURATION:PT1H
X-Robots-Tag:noindex
X-PUBLISHED-TTL:PT1H
BEGIN:VTIMEZONE
TZID:America/Denver
BEGIN:DAYLIGHT
TZOFFSETFROM:-0700
TZOFFSETTO:-0600
TZNAME:MDT
DTSTART:20250309T090000
END:DAYLIGHT
BEGIN:STANDARD
TZOFFSETFROM:-0600
TZOFFSETTO:-0700
TZNAME:MST
DTSTART:20251102T080000
END:STANDARD
BEGIN:DAYLIGHT
TZOFFSETFROM:-0700
TZOFFSETTO:-0600
TZNAME:MDT
DTSTART:20260308T090000
END:DAYLIGHT
BEGIN:STANDARD
TZOFFSETFROM:-0600
TZOFFSETTO:-0700
TZNAME:MST
DTSTART:20261101T080000
END:STANDARD
BEGIN:DAYLIGHT
TZOFFSETFROM:-0700
TZOFFSETTO:-0600
TZNAME:MDT
DTSTART:20270314T090000
END:DAYLIGHT
BEGIN:STANDARD
TZOFFSETFROM:-0600
TZOFFSETTO:-0700
TZNAME:MST
DTSTART:20271107T080000
END:STANDARD
END:VTIMEZONE
BEGIN:VEVENT
DTSTART;TZID=America/Denver:20260214T103000
DTEND;TZID=America/Denver:20260214T153000
DTSTAMP:20260425T222844
CREATED:20260129T215113Z
LAST-MODIFIED:20260129T220108Z
UID:7946-1771065000-1771083000@winstondowns.org
SUMMARY:Celebrate the Chinese New Year
DESCRIPTION: 22nd Annual Colorado Chinese New Year Celebration \nThe 2026 Lunar New Year is approaching\, and the Dan City Chinese School (DCS) and the Colorado Chinese Foundation (CAFC) will once again host the annual Colorado Lunar New Year Celebration (CNYC) to celebrate the Year of the Horse! \n\nDate: February 14\, 2026\nTime: 10:30 AM – 3:30 PM\nLocation: George Washington High School\, 655 S Monaco Pkwy\, Denver\, CO 80224\n\nChinese New Year\, also called the Spring Festival\, celebrates the start of the new year on the lunar calendar\, symbolizing renewal\, family reunion\, and welcoming prosperity by ushering out the old year and bringing in good fortune\, health\, and happiness\, marked by feasts\, traditions like cleaning and decorating\, and honoring ancestors. The Chinese New Year on February 17\, 2026\, celebrates the Year of the Fire Horse. This zodiac sign symbolizes energy\, independence\, and a free spirit. It is the 7th animal in the 12-year lunar cycle. The year is associated with adventure\, speed\, and\, due to the fire element\, passion and transformation. Includes these years of birth1942\, 1954\, 1966\, 1978\, 1990\, 2002\, 2014\, 2026\, 2038 \n 
URL:https://winstondowns.org/event/celebrate-the-chinese-new-year/
LOCATION:George Washington High School\, Monaco at E. Expo\, Denver\, CO
CATEGORIES:Denver Area Events,Special notices and events
ATTACH;FMTTYPE=image/jpeg:https://winstondowns.org/wp-content/uploads/2026/01/HORSE.jpg
END:VEVENT
BEGIN:VEVENT
DTSTART;TZID=America/Denver:20260310T103000
DTEND;TZID=America/Denver:20260310T120000
DTSTAMP:20260425T222844
CREATED:20260226T230907Z
LAST-MODIFIED:20260226T232436Z
UID:8070-1773138600-1773144000@winstondowns.org
SUMMARY:Governor's Speaker Series focusing on Animal Consciousness and Human Flourishing. 
DESCRIPTION:First Gentleman Marlon Reis is hosting regular educational events at the Governor’s Mansion.  Experts on animal consciousness and human flourishing will share their insights\, with plenty of time for audience Q&A afterwards. \nPlease join the upcoming Speaker Series focusing on Animal Consciousness and Human Flourishing.  \n\nWHEN: Tuesday\, March 10th\, 10:30am-12:00pm\nWHERE: The Governor’s Residence at the Boettcher Mansion\, 400 E 8th Ave\, Denver\, CO\, 80203\nABOUT: Join us to learn more about Animal Consciousness and Human Flourishing with honorary host\, Matthew Halteman\, Professor of Philosophy\, Calvin University and Fellow\, Oxford Centre for Animal Ethics.\nPlease submit the RSVP form if you plan to attend.
URL:https://winstondowns.org/event/governors-speaker-series-focusing-on-animal-consciousness-and-human-flourishing/
LOCATION:Governors Residence\, 400 E 8th Ave\,\, Denver\, CO
CATEGORIES:Area Exhibitions-Public,Special Events,Special notices and events
END:VEVENT
END:VCALENDAR