BEGIN:VCALENDAR
VERSION:2.0
PRODID:-//Winston Downs Community Association - ECPv6.15.20//NONSGML v1.0//EN
CALSCALE:GREGORIAN
METHOD:PUBLISH
X-ORIGINAL-URL:https://winstondowns.org
X-WR-CALDESC:Events for Winston Downs Community Association
REFRESH-INTERVAL;VALUE=DURATION:PT1H
X-Robots-Tag:noindex
X-PUBLISHED-TTL:PT1H
BEGIN:VTIMEZONE
TZID:America/Denver
BEGIN:DAYLIGHT
TZOFFSETFROM:-0700
TZOFFSETTO:-0600
TZNAME:MDT
DTSTART:20240310T090000
END:DAYLIGHT
BEGIN:STANDARD
TZOFFSETFROM:-0600
TZOFFSETTO:-0700
TZNAME:MST
DTSTART:20241103T080000
END:STANDARD
BEGIN:DAYLIGHT
TZOFFSETFROM:-0700
TZOFFSETTO:-0600
TZNAME:MDT
DTSTART:20250309T090000
END:DAYLIGHT
BEGIN:STANDARD
TZOFFSETFROM:-0600
TZOFFSETTO:-0700
TZNAME:MST
DTSTART:20251102T080000
END:STANDARD
BEGIN:DAYLIGHT
TZOFFSETFROM:-0700
TZOFFSETTO:-0600
TZNAME:MDT
DTSTART:20260308T090000
END:DAYLIGHT
BEGIN:STANDARD
TZOFFSETFROM:-0600
TZOFFSETTO:-0700
TZNAME:MST
DTSTART:20261101T080000
END:STANDARD
END:VTIMEZONE
BEGIN:VEVENT
DTSTART;TZID=America/Denver:20250727T140000
DTEND;TZID=America/Denver:20250727T160000
DTSTAMP:20260424T012153
CREATED:20250629T202500Z
LAST-MODIFIED:20250629T203016Z
UID:7249-1753624800-1753632000@winstondowns.org
SUMMARY:WD Annual Ice Cream Social
DESCRIPTION:  \nWinston Downs Annual Ice Cream Social – Details delivered via door hanger to  all occupied homes in Winston Downs and via eNews. \nKosher ice cream will be available.
URL:https://winstondowns.org/event/wd-annual-ice-cream-social/
CATEGORIES:WD Summer Socials
ATTACH;FMTTYPE=image/jpeg:https://winstondowns.org/wp-content/uploads/2025/06/Ice-Cream-Social.jpg
ORGANIZER;CN="WDCA":MAILTO:info@winstondowns.org
END:VEVENT
END:VCALENDAR