BEGIN:VCALENDAR
VERSION:2.0
PRODID:-//Winston Downs Community Association - ECPv6.15.20//NONSGML v1.0//EN
CALSCALE:GREGORIAN
METHOD:PUBLISH
X-ORIGINAL-URL:https://winstondowns.org
X-WR-CALDESC:Events for Winston Downs Community Association
REFRESH-INTERVAL;VALUE=DURATION:PT1H
X-Robots-Tag:noindex
X-PUBLISHED-TTL:PT1H
BEGIN:VTIMEZONE
TZID:America/Denver
BEGIN:DAYLIGHT
TZOFFSETFROM:-0700
TZOFFSETTO:-0600
TZNAME:MDT
DTSTART:20240310T090000
END:DAYLIGHT
BEGIN:STANDARD
TZOFFSETFROM:-0600
TZOFFSETTO:-0700
TZNAME:MST
DTSTART:20241103T080000
END:STANDARD
BEGIN:DAYLIGHT
TZOFFSETFROM:-0700
TZOFFSETTO:-0600
TZNAME:MDT
DTSTART:20250309T090000
END:DAYLIGHT
BEGIN:STANDARD
TZOFFSETFROM:-0600
TZOFFSETTO:-0700
TZNAME:MST
DTSTART:20251102T080000
END:STANDARD
BEGIN:DAYLIGHT
TZOFFSETFROM:-0700
TZOFFSETTO:-0600
TZNAME:MDT
DTSTART:20260308T090000
END:DAYLIGHT
BEGIN:STANDARD
TZOFFSETFROM:-0600
TZOFFSETTO:-0700
TZNAME:MST
DTSTART:20261101T080000
END:STANDARD
END:VTIMEZONE
BEGIN:VEVENT
DTSTART;TZID=America/Denver:20250815T173000
DTEND;TZID=America/Denver:20250815T193000
DTSTAMP:20260424T011410
CREATED:20250605T205518Z
LAST-MODIFIED:20250605T213044Z
UID:7140-1755279000-1755286200@winstondowns.org
SUMMARY:August Summer Neighborhood Social -Friday
DESCRIPTION:August Summer Neighborhood Social \nEvery month in summer through early fall\, various homeowners volunteer to host neighborhood gatherings in driveways or back yards. The purpose is to get to know your neighbors. \n WDCA believes neighbors working together and looking out for one another improves the unity and safety of the neighborhood. \nAll residents\, including children\, are invited. Please no pets! Bring your own beverages and snacks.  Hosts generally have water to serve.  You are welcome to bring sharable snacks too! \nFor privacy purposes\, we post the calendar date and time but not name and address of the event hosts. We send out eNews blasts with that information to local Winston Downs Neighbors.  If you are not on our eNews list\, please send your request to be added to info@winstondowns.org  Please include your name and street address to be verified.
URL:https://winstondowns.org/event/august-summer-social-friday/
CATEGORIES:Special Events,WD Summer Socials
ATTACH;FMTTYPE=image/jpeg:https://winstondowns.org/wp-content/uploads/2021/06/Neighborhood-social.jpg
END:VEVENT
END:VCALENDAR