BEGIN:VCALENDAR
VERSION:2.0
PRODID:-//Winston Downs Community Association - ECPv6.15.20//NONSGML v1.0//EN
CALSCALE:GREGORIAN
METHOD:PUBLISH
X-WR-CALNAME:Winston Downs Community Association
X-ORIGINAL-URL:https://winstondowns.org
X-WR-CALDESC:Events for Winston Downs Community Association
REFRESH-INTERVAL;VALUE=DURATION:PT1H
X-Robots-Tag:noindex
X-PUBLISHED-TTL:PT1H
BEGIN:VTIMEZONE
TZID:America/Denver
BEGIN:DAYLIGHT
TZOFFSETFROM:-0700
TZOFFSETTO:-0600
TZNAME:MDT
DTSTART:20240310T090000
END:DAYLIGHT
BEGIN:STANDARD
TZOFFSETFROM:-0600
TZOFFSETTO:-0700
TZNAME:MST
DTSTART:20241103T080000
END:STANDARD
BEGIN:DAYLIGHT
TZOFFSETFROM:-0700
TZOFFSETTO:-0600
TZNAME:MDT
DTSTART:20250309T090000
END:DAYLIGHT
BEGIN:STANDARD
TZOFFSETFROM:-0600
TZOFFSETTO:-0700
TZNAME:MST
DTSTART:20251102T080000
END:STANDARD
BEGIN:DAYLIGHT
TZOFFSETFROM:-0700
TZOFFSETTO:-0600
TZNAME:MDT
DTSTART:20260308T090000
END:DAYLIGHT
BEGIN:STANDARD
TZOFFSETFROM:-0600
TZOFFSETTO:-0700
TZNAME:MST
DTSTART:20261101T080000
END:STANDARD
BEGIN:DAYLIGHT
TZOFFSETFROM:-0700
TZOFFSETTO:-0600
TZNAME:MDT
DTSTART:20270314T090000
END:DAYLIGHT
BEGIN:STANDARD
TZOFFSETFROM:-0600
TZOFFSETTO:-0700
TZNAME:MST
DTSTART:20271107T080000
END:STANDARD
END:VTIMEZONE
BEGIN:VEVENT
DTSTART;TZID=America/Denver:20250318T080000
DTEND;TZID=America/Denver:20250318T170000
DTSTAMP:20260425T061839
CREATED:20241215T015334Z
LAST-MODIFIED:20241215T015909Z
UID:6386-1742284800-1742317200@winstondowns.org
SUMMARY:March 2025 Board Meeting
DESCRIPTION:Monthly WDCA Board Meeting held via Zoom. Open to all Winston Downs residents \nIf you are not currently signed up for e-notices\, please send name\, address and email. We accept neighborhood addresses only.
URL:https://winstondowns.org/event/march-2025-board-meeting/
LOCATION:Via Zoom\, Denver
CATEGORIES:WDCA Board Meetings
ORGANIZER;CN="WDCA":MAILTO:info@winstondowns.org
END:VEVENT
BEGIN:VEVENT
DTSTART;TZID=America/Denver:20250422T183000
DTEND;TZID=America/Denver:20250422T203000
DTSTAMP:20260425T061839
CREATED:20250211T202722Z
LAST-MODIFIED:20250329T004552Z
UID:6613-1745346600-1745353800@winstondowns.org
SUMMARY:WDCA ANNUAL MEETING & BOARD ELECTION
DESCRIPTION:We’ll be celebrating our Golden Anniversary – Fifty Years as your neighborhood organization!\nTuesday\, April 22\nCheck in and mingling 630p \n7p-830p Meeting  – This is an in-person meeting.\nLOCATION: BMH-BJ Synagogue\, 560 S Monaco Pkwy  \nPlease enter back door from parking lot in back of building\nParking is HC accessable and free to all \n 
URL:https://winstondowns.org/event/wdca-annual-meeting-board-election/
LOCATION:BMH-BJ Synagogue\, 560 S Monaco Pkwy - entry in back\, Denver\, CO\, United States
CATEGORIES:Special notices and events,WDCA Board Meetings
ORGANIZER;CN="WDCA":MAILTO:info@winstondowns.org
END:VEVENT
BEGIN:VEVENT
DTSTART;TZID=America/Denver:20250617T190000
DTEND;TZID=America/Denver:20250617T203000
DTSTAMP:20260425T061839
CREATED:20250521T225218Z
LAST-MODIFIED:20250521T225218Z
UID:7092-1750186800-1750192200@winstondowns.org
SUMMARY:WDCA June Board Meeting
DESCRIPTION:Open to WDCA Residents – notfications go via email for Zoom meeting format. \nIf you are a resident and want to attend\, please send name\, address and email to info@winstondowns.org
URL:https://winstondowns.org/event/wdca-june-board-meeting-2/
LOCATION:Via Zoom\, Denver
CATEGORIES:WDCA Board Meetings
ORGANIZER;CN="WDCA":MAILTO:info@winstondowns.org
END:VEVENT
BEGIN:VEVENT
DTSTART;TZID=America/Denver:20250715T190000
DTEND;TZID=America/Denver:20250715T203000
DTSTAMP:20260425T061839
CREATED:20250605T211725Z
LAST-MODIFIED:20250629T203329Z
UID:7160-1752606000-1752611400@winstondowns.org
SUMMARY:July WDCA Board Meeting
DESCRIPTION:Board meetings are via Zoom and open to WD residents.  Notices go out via eNews.  If you are not currently on eNews\, please send your request to be added to info@winstondowns.org.  Please include your name and street address for verification.
URL:https://winstondowns.org/event/july-wdca-board-meeting/
LOCATION:Via Zoom\, Denver
CATEGORIES:WDCA Board Meetings
ATTACH;FMTTYPE=image/jpeg:https://winstondowns.org/wp-content/uploads/2024/04/Get-involved-e1714076982566.jpg
ORGANIZER;CN="WDCA":MAILTO:info@winstondowns.org
END:VEVENT
BEGIN:VEVENT
DTSTART;TZID=America/Denver:20250819T190000
DTEND;TZID=America/Denver:20250819T203000
DTSTAMP:20260425T061839
CREATED:20250605T211831Z
LAST-MODIFIED:20250629T203934Z
UID:7162-1755630000-1755635400@winstondowns.org
SUMMARY:August 2025 WDCA Board Meeting
DESCRIPTION:Board meetings are via Zoom and open to WD residents.  Notices go out via eNews.  If you are not currently on eNews\, please send your request to be added to info@winstondowns.org.  Please include your name and street address for verification.
URL:https://winstondowns.org/event/august-2025-wdca-board-meeting/
LOCATION:Via Zoom\, Denver
CATEGORIES:WDCA Board Meetings
ATTACH;FMTTYPE=image/jpeg:https://winstondowns.org/wp-content/uploads/2024/04/Get-involved-e1714076982566.jpg
END:VEVENT
BEGIN:VEVENT
DTSTART;TZID=America/Denver:20250916T190000
DTEND;TZID=America/Denver:20250916T203000
DTSTAMP:20260425T061839
CREATED:20250605T211944Z
LAST-MODIFIED:20250605T211944Z
UID:7164-1758049200-1758054600@winstondowns.org
SUMMARY:September WDCA Board Meeting 2025
DESCRIPTION:Board meetings are via Zoom and open to WD residents.  Notices go out via eNews.  If you are not currently on eNews\, please send your request to be added to info@winstondowns.org.  Please include your name and street address for verification.
URL:https://winstondowns.org/event/september-wdca-board-meeting-2025/
LOCATION:Via Zoom\, Denver
CATEGORIES:WDCA Board Meetings
ORGANIZER;CN="WDCA":MAILTO:info@winstondowns.org
END:VEVENT
BEGIN:VEVENT
DTSTART;TZID=America/Denver:20251021T190000
DTEND;TZID=America/Denver:20251021T203000
DTSTAMP:20260425T061839
CREATED:20250605T212051Z
LAST-MODIFIED:20250605T212051Z
UID:7166-1761073200-1761078600@winstondowns.org
SUMMARY:October 2025 WDCA Board Meeting
DESCRIPTION:Board meetings are via Zoom and open to WD residents.  Notices go out via eNews.  If you are not currently on eNews\, please send your request to be added to info@winstondowns.org.  Please include your name and street address for verification.
URL:https://winstondowns.org/event/october-2025-wdca-board-meeting/
LOCATION:Via Zoom\, Denver
CATEGORIES:WDCA Board Meetings
ORGANIZER;CN="WDCA":MAILTO:info@winstondowns.org
END:VEVENT
BEGIN:VEVENT
DTSTART;TZID=America/Denver:20251118T190000
DTEND;TZID=America/Denver:20251118T203000
DTSTAMP:20260425T061839
CREATED:20250605T212152Z
LAST-MODIFIED:20251024T023150Z
UID:7168-1763492400-1763497800@winstondowns.org
SUMMARY:November 2025 WDCA Board Meeting
DESCRIPTION:Board meetings are via Zoom and open to WD residents.  Notices go out via eNews.  If you are not currently on eNews\, please send your request to be added to info@winstondowns.org.  Please include your name and street address for verification.
URL:https://winstondowns.org/event/november-2025-wdca-board-meeting/
LOCATION:Via Zoom\, Denver
CATEGORIES:WDCA Board Meetings
ATTACH;FMTTYPE=image/jpeg:https://winstondowns.org/wp-content/uploads/2024/04/Get-involved-e1714076982566.jpg
ORGANIZER;CN="WDCA":MAILTO:info@winstondowns.org
END:VEVENT
BEGIN:VEVENT
DTSTART;VALUE=DATE:20251216
DTEND;VALUE=DATE:20251217
DTSTAMP:20260425T061839
CREATED:20250605T213514Z
LAST-MODIFIED:20250605T213733Z
UID:7177-1765843200-1765929599@winstondowns.org
SUMMARY:NO BOARD MEETING DECEMBER
DESCRIPTION:In honor of the multiple holidays during December\, there is no formal WDCA Board Meeting this month. \n 
URL:https://winstondowns.org/event/no-board-meeting-december/
CATEGORIES:WDCA Board Meetings
ATTACH;FMTTYPE=image/jpeg:https://winstondowns.org/wp-content/uploads/2024/11/All-December-Holidays-1.jpg
ORGANIZER;CN="WDCA":MAILTO:info@winstondowns.org
END:VEVENT
BEGIN:VEVENT
DTSTART;TZID=America/Denver:20260217T190000
DTEND;TZID=America/Denver:20260217T203000
DTSTAMP:20260425T061839
CREATED:20260117T213220Z
LAST-MODIFIED:20260117T213220Z
UID:7901-1771354800-1771360200@winstondowns.org
SUMMARY:WDCA Board Meeting-February
DESCRIPTION:Winston Downs Community Association Board Meeting \nOpen to all WD residents. Invitations go out via email to participate via Zoom \nIf you would like to sign up for eNews please send request to info@winstondowns.org.  You must submit email\, your name\, your street address. \nElections for board are held in April.  If you would like to run for the board\, you must be 21 or over and your household must be a member. Membership is $20 per household/per calendar year. www.winstondowns.org/membership
URL:https://winstondowns.org/event/wdca-board-meeting-february/
CATEGORIES:WDCA Board Meetings
ATTACH;FMTTYPE=image/jpeg:https://winstondowns.org/wp-content/uploads/2025/12/Board-meeting.jpg
END:VEVENT
BEGIN:VEVENT
DTSTART;TZID=America/Denver:20260317T190000
DTEND;TZID=America/Denver:20260317T203000
DTSTAMP:20260425T061839
CREATED:20260117T213047Z
LAST-MODIFIED:20260117T213047Z
UID:7899-1773774000-1773779400@winstondowns.org
SUMMARY:WDCA Board Meeting
DESCRIPTION:Winston Downs Community Association Board Meeting \nOpen to all WD residents. Invitations go out via email to participate via Zoom \nIf you would like to sign up for eNews please send request to info@winstondowns.org.  You must submit email\, your name\, your street address. \nElections for board are held in April.  If you would like to run for the board\, you must be 21 or over and your household must be a member. Membership is $20 per household/per calendar year. www.winstondowns.org/membership
URL:https://winstondowns.org/event/wdca-board-meeting-9/
CATEGORIES:WDCA Board Meetings
ATTACH;FMTTYPE=image/jpeg:https://winstondowns.org/wp-content/uploads/2025/12/Board-meeting.jpg
END:VEVENT
BEGIN:VEVENT
DTSTART;TZID=America/Denver:20260421T183000
DTEND;TZID=America/Denver:20260421T203000
DTSTAMP:20260425T061839
CREATED:20260117T213921Z
LAST-MODIFIED:20260402T201433Z
UID:7903-1776796200-1776803400@winstondowns.org
SUMMARY:Winston Downs Annual Meeting
DESCRIPTION:Winston Downs Community Association – Annual Meeting & Board Elections \nThis meeting is held in person and is open to all WD residents and homeowners. 560  S Monaco Pkwy. Discussions about neighborhood issues\, special guest speakers and elections of new board members. Board elections are done on a staggered basis to ensure continuity. Board meets once a month usually via Zoom. Board terms are 2 years. \nAll residents welcome to Annual Meeting/Board Election April 21 – in-person meeting.\nDetails follow via eNews and we’ll place yard sign reminders. \nMembership is required for serving on the board. If interested in serving on the Board\, please email info@winstondowns.org  with subject line INTERESTED IN SERVING ON BOARD OR BECOMING A COMMITTEE CHAIR OR MEMBER.  Membership is not required to attend as a guest. Membership is not required to chair or participate on committees. Committees:  Safety\, Communications\, News Delivery (to every occupied home)\, Clean Up Efforts/Beautification\, Social Events \nMembership is $20/per household/per calendar year. For more info go to http://www.winstondowns.org/membership \n630pm registration/sign in and mingling\n700pm meeting/elections
URL:https://winstondowns.org/event/winston-downs-annual-meeting/
CATEGORIES:Annual Neighborhood Meeting,Community Action Day,Neighborhood Wide Meeting,Special Events,WDCA Board Meetings
ATTACH;FMTTYPE=image/jpeg:https://winstondowns.org/wp-content/uploads/2022/02/Annual-meeting.jpg
END:VEVENT
END:VCALENDAR