BEGIN:VCALENDAR
VERSION:2.0
PRODID:-//Winston Downs Community Association - ECPv6.15.20//NONSGML v1.0//EN
CALSCALE:GREGORIAN
METHOD:PUBLISH
X-ORIGINAL-URL:https://winstondowns.org
X-WR-CALDESC:Events for Winston Downs Community Association
REFRESH-INTERVAL;VALUE=DURATION:PT1H
X-Robots-Tag:noindex
X-PUBLISHED-TTL:PT1H
BEGIN:VTIMEZONE
TZID:America/Denver
BEGIN:DAYLIGHT
TZOFFSETFROM:-0700
TZOFFSETTO:-0600
TZNAME:MDT
DTSTART:20190310T090000
END:DAYLIGHT
BEGIN:STANDARD
TZOFFSETFROM:-0600
TZOFFSETTO:-0700
TZNAME:MST
DTSTART:20191103T080000
END:STANDARD
BEGIN:DAYLIGHT
TZOFFSETFROM:-0700
TZOFFSETTO:-0600
TZNAME:MDT
DTSTART:20200308T090000
END:DAYLIGHT
BEGIN:STANDARD
TZOFFSETFROM:-0600
TZOFFSETTO:-0700
TZNAME:MST
DTSTART:20201101T080000
END:STANDARD
BEGIN:DAYLIGHT
TZOFFSETFROM:-0700
TZOFFSETTO:-0600
TZNAME:MDT
DTSTART:20210314T090000
END:DAYLIGHT
BEGIN:STANDARD
TZOFFSETFROM:-0600
TZOFFSETTO:-0700
TZNAME:MST
DTSTART:20211107T080000
END:STANDARD
BEGIN:DAYLIGHT
TZOFFSETFROM:-0700
TZOFFSETTO:-0600
TZNAME:MDT
DTSTART:20220313T090000
END:DAYLIGHT
BEGIN:STANDARD
TZOFFSETFROM:-0600
TZOFFSETTO:-0700
TZNAME:MST
DTSTART:20221106T080000
END:STANDARD
BEGIN:DAYLIGHT
TZOFFSETFROM:-0700
TZOFFSETTO:-0600
TZNAME:MDT
DTSTART:20230312T090000
END:DAYLIGHT
BEGIN:STANDARD
TZOFFSETFROM:-0600
TZOFFSETTO:-0700
TZNAME:MST
DTSTART:20231105T080000
END:STANDARD
BEGIN:DAYLIGHT
TZOFFSETFROM:-0700
TZOFFSETTO:-0600
TZNAME:MDT
DTSTART:20240310T090000
END:DAYLIGHT
BEGIN:STANDARD
TZOFFSETFROM:-0600
TZOFFSETTO:-0700
TZNAME:MST
DTSTART:20241103T080000
END:STANDARD
BEGIN:DAYLIGHT
TZOFFSETFROM:-0700
TZOFFSETTO:-0600
TZNAME:MDT
DTSTART:20250309T090000
END:DAYLIGHT
BEGIN:STANDARD
TZOFFSETFROM:-0600
TZOFFSETTO:-0700
TZNAME:MST
DTSTART:20251102T080000
END:STANDARD
END:VTIMEZONE
BEGIN:VEVENT
DTSTART;TZID=America/Denver:20240917T190000
DTEND;TZID=America/Denver:20240917T203000
DTSTAMP:20260423T142649
CREATED:20240813T005804Z
LAST-MODIFIED:20240813T005804Z
UID:5849-1726599600-1726605000@winstondowns.org
SUMMARY:WDCA Board Meeting September
DESCRIPTION:Via Zoom. All residents may attend.  Please see eNews for Zoom links WDCA Board meeting is the third Tuesday of each month. Unless advised differently\, board meetings are via Zoom. Residents who sign up for eNews will be invited. Residents must advise address and name for verification when signing up for eNews.
URL:https://winstondowns.org/event/wdca-board-meeting-september/
LOCATION:Via Zoom\, Denver
CATEGORIES:WDCA Board Meetings
END:VEVENT
BEGIN:VEVENT
DTSTART;TZID=America/Denver:20240820T190000
DTEND;TZID=America/Denver:20240820T203000
DTSTAMP:20260423T142649
CREATED:20240712T230633Z
LAST-MODIFIED:20240712T230757Z
UID:5700-1724180400-1724185800@winstondowns.org
SUMMARY:WDCA Board Meeting August 2024
DESCRIPTION:Via Zoom. All residents may attend.  Please see eNews for Zoom links \nWDCA Board meeting is the third Tuesday of each month. Unless advised differently\, board meetings are via Zoom. Residents who sign up for eNews will be invited. Residents must advise address and name for verification when signing up for eNews.   Board meeting is open to all residents.
URL:https://winstondowns.org/event/wdca-board-meeting-august-2024/
CATEGORIES:WDCA Board Meetings
END:VEVENT
BEGIN:VEVENT
DTSTART;TZID=America/Denver:20240716T190000
DTEND;TZID=America/Denver:20240716T203000
DTSTAMP:20260423T142649
CREATED:20240619T210147Z
LAST-MODIFIED:20240712T225904Z
UID:5568-1721156400-1721161800@winstondowns.org
SUMMARY:WDCA Board Meeting Jul 16 2024
DESCRIPTION:WDCA Board meeting is the third Tuesday of each month. Unless advised differently\, board meetings are via Zoom. Residents who sign up for eNews will be invited. Residents must advise address and name for verification when signing up for eNews. \n  \nBoard meeting is open to all residents.
URL:https://winstondowns.org/event/wdca-board-meeting-jul-2024/
LOCATION:Via Zoom\, Denver
CATEGORIES:WDCA Board Meetings
ORGANIZER;CN="WDCA":MAILTO:info@winstondowns.org
END:VEVENT
BEGIN:VEVENT
DTSTART;TZID=America/Denver:20240618T190000
DTEND;TZID=America/Denver:20240618T203000
DTSTAMP:20260423T142649
CREATED:20240321T193643Z
LAST-MODIFIED:20240321T193643Z
UID:5182-1718737200-1718742600@winstondowns.org
SUMMARY:WDCA Board Meeting June 2024
DESCRIPTION:Meeting of the WDCA Board. Open to any who live in Winston Downs \nBoard members must be members of WDCA. See Membership tab for joining WDCA.
URL:https://winstondowns.org/event/wdca-board-meeting-june-2024/
LOCATION:Via Zoom\, Denver
CATEGORIES:WDCA Board Meetings
ORGANIZER;CN="WDCA":MAILTO:info@winstondowns.org
END:VEVENT
BEGIN:VEVENT
DTSTART;TZID=America/Denver:20240521T190000
DTEND;TZID=America/Denver:20240521T203000
DTSTAMP:20260423T142649
CREATED:20240405T185651Z
LAST-MODIFIED:20240513T224223Z
UID:5260-1716318000-1716323400@winstondowns.org
SUMMARY:WDCA Board Meeting May
DESCRIPTION:VIA ZOOM 7PM\nWDCA Board Meeting for May 2024  7p-830p  – new board! \nOpen to all residents.  Via Zoom.  Notices sent to those who receive eNews.  If you want to sign up\, please send email to info@winstondowns.org with name\, address for verification.
URL:https://winstondowns.org/event/wdca-board-meeting-may/
LOCATION:Via Zoom\, Denver
CATEGORIES:WDCA Board Meetings
ORGANIZER;CN="WDCA":MAILTO:info@winstondowns.org
END:VEVENT
BEGIN:VEVENT
DTSTART;TZID=America/Denver:20240416T183000
DTEND;TZID=America/Denver:20240416T203000
DTSTAMP:20260423T142649
CREATED:20240321T192124Z
LAST-MODIFIED:20240321T192124Z
UID:5172-1713292200-1713299400@winstondowns.org
SUMMARY:WDCA Annual Meeting 2024
DESCRIPTION:WDCA ANNUAL NEIGHBORHOOD MEETING  \nTuesday\, April 16\, 2024\n \n6:30pm-7:00pm\nCheck in\, mix & mingle\, resource tables\n7:00pm- Meeting begins \nBMH-BJ Synagogue-Fisher Hall\n560 S. Monaco Pkwy.\n(Use back entry. Free parking & HC access is also in back.) \nAll residents are welcome to attend! \nOn the Agenda: \n\nWDCA current projects/zoning updates\nUrban oil drilling\nLowry Vista development\nElection for three seats on the WDCA board.\n\nIf you are interested in running for the board\, please contact us by email. WDCA Membership is required to serve on the board. $20/per calendar year\, per household.  You may join at the meeting or online at www.winstondowns.org/membership.
URL:https://winstondowns.org/event/wdca-annual-meeting-2024/
LOCATION:BMH-BJ Synagogue\, 560 S Monaco Pkwy - entry in back\, Denver\, CO\, United States
CATEGORIES:Neighborhood Wide Meeting,WDCA Board Meetings
ORGANIZER;CN="WDCA":MAILTO:info@winstondowns.org
END:VEVENT
BEGIN:VEVENT
DTSTART;TZID=America/Denver:20240319T190000
DTEND;TZID=America/Denver:20240319T203000
DTSTAMP:20260423T142649
CREATED:20240302T024320Z
LAST-MODIFIED:20240302T024322Z
UID:5131-1710874800-1710880200@winstondowns.org
SUMMARY:WDCA Board Meeting via Zoom March 19
DESCRIPTION:All residents are invited to attend.   \nPlease remember Annual meeting is April 16 and if you want to serve on the neighborhood board\, you need to be a member. You can join online under the Membership tab or pay at the meeting. Please send notice you are interested to info@winstondowns.org.  Name and address required.
URL:https://winstondowns.org/event/wdca-board-meeting-via-zoom-march-19/
LOCATION:Via Zoom\, Denver
CATEGORIES:WDCA Board Meetings
ORGANIZER;CN="WDCA":MAILTO:info@winstondowns.org
END:VEVENT
BEGIN:VEVENT
DTSTART;TZID=America/Denver:20240220T190000
DTEND;TZID=America/Denver:20240220T203000
DTSTAMP:20260423T142649
CREATED:20240217T022413Z
LAST-MODIFIED:20240217T022413Z
UID:5036-1708455600-1708461000@winstondowns.org
SUMMARY:WDCA Board Meeting for February
DESCRIPTION:All residents may attend.  We meet via Zoom and you must be signed up for our eNews to be included. \nLinks to meetings are sent the weekend before the meeting.
URL:https://winstondowns.org/event/wdca-board-meeting-for-february/
LOCATION:Via Zoom\, Denver
CATEGORIES:WDCA Board Meetings
ORGANIZER;CN="WDCA":MAILTO:info@winstondowns.org
END:VEVENT
BEGIN:VEVENT
DTSTART;TZID=America/Denver:20231114T190000
DTEND;TZID=America/Denver:20231114T203000
DTSTAMP:20260423T142649
CREATED:20231026T224428Z
LAST-MODIFIED:20231117T191346Z
UID:4609-1699988400-1699993800@winstondowns.org
SUMMARY:WDCA Board Meeting November 14
DESCRIPTION:Topics include \nBoard business updates\nADU Zoning in WD\nChange of Use coming to 6550 E Dakota Ave
URL:https://winstondowns.org/event/wdca-board-meeting-november-14/
LOCATION:BMH-BJ Synagogue\, 560 S Monaco Pkwy - entry in back\, Denver\, CO\, United States
CATEGORIES:WDCA Board Meetings
ORGANIZER;CN="WDCA":MAILTO:info@winstondowns.org
END:VEVENT
BEGIN:VEVENT
DTSTART;TZID=America/Denver:20230620T190000
DTEND;TZID=America/Denver:20230620T203000
DTSTAMP:20260423T142649
CREATED:20230531T183519Z
LAST-MODIFIED:20230531T183539Z
UID:4162-1687287600-1687293000@winstondowns.org
SUMMARY:WDCA June Board Meeting
DESCRIPTION:Via Zoom from 700om to 830pm. Tues June 20. \nThose on our email list will receive notice and links the Sunday before the meetings \nIf you have an item for agenda please email info@winstondowns.org.  Please state name\, address and question or item. \n  \nALL WINSTON DOWNS RESIDENTS ARE WELCOME TO ATTEND
URL:https://winstondowns.org/event/wdca-june-board-meeting/
LOCATION:Via Zoom\, Denver
CATEGORIES:WDCA Board Meetings
ORGANIZER;CN="WDCA":MAILTO:info@winstondowns.org
END:VEVENT
BEGIN:VEVENT
DTSTART;TZID=America/Denver:20230523T190000
DTEND;TZID=America/Denver:20230523T203000
DTSTAMP:20260423T142649
CREATED:20230505T043003Z
LAST-MODIFIED:20230505T043052Z
UID:4098-1684868400-1684873800@winstondowns.org
SUMMARY:WDCA Board Meeting
DESCRIPTION:Join WDCA Board and Committee Chairs via Zoom \nOpen to Winston Downs residents. eNews will advise the Zoom registration.  If you are not receiving our eNews\, you can request to opt in by sending request to email: info@winstondowns.org .  We require name\, address for acceptance. \nMeeting is open to all Winston Downs residents. If you have an agenda item\, please email in advance.
URL:https://winstondowns.org/event/wdca-board-meeting-7/
CATEGORIES:WDCA Board Meetings
ORGANIZER;CN="WDCA":MAILTO:info@winstondowns.org
END:VEVENT
BEGIN:VEVENT
DTSTART;TZID=America/Denver:20230418T183000
DTEND;TZID=America/Denver:20230418T203000
DTSTAMP:20260423T142649
CREATED:20221231T193053Z
LAST-MODIFIED:20221231T193053Z
UID:3372-1681842600-1681849800@winstondowns.org
SUMMARY:WDCA Annual Meeting & Board Election 2023
DESCRIPTION:Annual meeting of Winston Downs Community Association and election of new board members. \nWDCA Bylaws to serve on the board state the person must be a member in good standing. \nIf  you run and perhaps aren’t elected\, join a committee\, take on a project and/or attend a few board meetings and run the next time! \nOur neighborhood is only as strong as your participation! \nWDCA may have up to seven (7) board members. If any are interested in serving on the board or committees\, please contact us at info@winstondowns.org \nWebsite: www.winstondowns.org \n 
URL:https://winstondowns.org/event/wdca-annual-meeting-board-election-2023/
LOCATION:BMH-BJ Synagogue\, 560 S Monaco Pkwy - entry in back\, Denver\, CO\, United States
CATEGORIES:Neighborhood Wide Meeting,WDCA Board Meetings
ORGANIZER;CN="WDCA":MAILTO:info@winstondowns.org
END:VEVENT
BEGIN:VEVENT
DTSTART;TZID=America/Denver:20230321T190000
DTEND;TZID=America/Denver:20230321T203000
DTSTAMP:20260423T142649
CREATED:20221231T192243Z
LAST-MODIFIED:20221231T192314Z
UID:3370-1679425200-1679430600@winstondowns.org
SUMMARY:WDCA Board Meeting Mar 2023
DESCRIPTION:Via Zoom from 7pm to 830pm unless otherwise noted. \nThose who have signed up for eNews will be invited to attend. To sign up go to info@winstondowns.org  and give last name\, address and email \nAll residents may attend \nBoard members are elected in April and must be members of WDCA. January newsletter will be delivered with an application form to renew or join as a new member.
URL:https://winstondowns.org/event/wdca-board-meeting-mar-2023/
LOCATION:Via Zoom\, Denver
CATEGORIES:Neighborhood Wide Meeting,WDCA Board Meetings
ORGANIZER;CN="WDCA":MAILTO:info@winstondowns.org
END:VEVENT
BEGIN:VEVENT
DTSTART;TZID=America/Denver:20230221T190000
DTEND;TZID=America/Denver:20230221T203000
DTSTAMP:20260423T142649
CREATED:20221231T192054Z
LAST-MODIFIED:20221231T192054Z
UID:3368-1677006000-1677011400@winstondowns.org
SUMMARY:WDCA Board Meeting Feb 2023
DESCRIPTION:Via Zoom from 7pm to 830pm unless otherwise noted. \nThose who have signed up for eNews will be invited to attend. To sign up go to info@winstondowns.org  and give last name\, address and email \nAll residents may attend \nBoard members are elected in April and must be members of WDCA. January newsletter will be delivered with an application form to renew or join as a new member.
URL:https://winstondowns.org/event/wdca-board-meeting-feb-2023/
CATEGORIES:Neighborhood Wide Meeting,WDCA Board Meetings
END:VEVENT
BEGIN:VEVENT
DTSTART;TZID=America/Denver:20221115T190000
DTEND;TZID=America/Denver:20221115T210000
DTSTAMP:20260423T142649
CREATED:20221003T211538Z
LAST-MODIFIED:20221003T211538Z
UID:3067-1668538800-1668546000@winstondowns.org
SUMMARY:WDCA Board Meeting November 2022
DESCRIPTION:Those on our eNews list will receive an invitation to attend via Zoom.  We’ve gone back to Zoom to accommodate board members who travel. \nIf you are not on eNews\, please email us at info@winstondowns.org.  We require your email address\, home address and name to be able to add you to our list.
URL:https://winstondowns.org/event/wdca-board-meeting-november-2022/
CATEGORIES:WDCA Board Meetings
END:VEVENT
BEGIN:VEVENT
DTSTART;TZID=America/Denver:20221018T180000
DTEND;TZID=America/Denver:20221018T203000
DTSTAMP:20260423T142649
CREATED:20220915T215630Z
LAST-MODIFIED:20221003T212058Z
UID:3016-1666116000-1666125000@winstondowns.org
SUMMARY:WDCA Board Meeting-October 2022
DESCRIPTION:Open to ALL neighborhood residents.\nVia Zoom. Info is sent to those who have signed up to receive our eNews. To be added to eNews\, you must provide name\, address. Send request to info@winstondowns.org.
URL:https://winstondowns.org/event/wdca-board-meeting-6/
LOCATION:Via Zoom\, Denver
CATEGORIES:WDCA Board Meetings
END:VEVENT
BEGIN:VEVENT
DTSTART;TZID=America/Denver:20220920T190000
DTEND;TZID=America/Denver:20220920T203000
DTSTAMP:20260423T142649
CREATED:20220915T215448Z
LAST-MODIFIED:20220915T215955Z
UID:3014-1663700400-1663705800@winstondowns.org
SUMMARY:WDCA Board Meeting
DESCRIPTION:Via Zoom – Open to residents of neighborhood. \nLink is sent via eNews.  To be added to list\, you must provide name and address to be added to our neighborhood list.
URL:https://winstondowns.org/event/wdca-board-meeting-5/
LOCATION:Via Zoom\, Denver
CATEGORIES:WDCA Board Meetings
END:VEVENT
BEGIN:VEVENT
DTSTART;TZID=America/Denver:20220816T190000
DTEND;TZID=America/Denver:20220816T203000
DTSTAMP:20260423T142649
CREATED:20220814T225237Z
LAST-MODIFIED:20220814T225326Z
UID:2900-1660676400-1660681800@winstondowns.org
SUMMARY:WDCA Board Meeting August 16 2022
DESCRIPTION:Meeting via Zoom at 7:00PM \neNews will contain registration link for meeting.
URL:https://winstondowns.org/event/wdca-board-meeting-august-16-2022/
LOCATION:Via Zoom\, Denver
CATEGORIES:WDCA Board Meetings
ORGANIZER;CN="WDCA":MAILTO:info@winstondowns.org
END:VEVENT
BEGIN:VEVENT
DTSTART;TZID=America/Denver:20220719T190000
DTEND;TZID=America/Denver:20220719T203000
DTSTAMP:20260423T142649
CREATED:20220525T201807Z
LAST-MODIFIED:20220525T201807Z
UID:2689-1658257200-1658262600@winstondowns.org
SUMMARY:WDCA Board Meeting July 2022
DESCRIPTION:Board meeting via Zoom \nHow to attend via eNews closer to the date
URL:https://winstondowns.org/event/wdca-board-meeting-july-2022/
LOCATION:Via Zoom\, Denver
CATEGORIES:Neighborhood Wide Meeting,WDCA Board Meetings
ORGANIZER;CN="WDCA":MAILTO:info@winstondowns.org
END:VEVENT
BEGIN:VEVENT
DTSTART;TZID=America/Denver:20220621T190000
DTEND;TZID=America/Denver:20220621T203000
DTSTAMP:20260423T142649
CREATED:20220525T201622Z
LAST-MODIFIED:20220525T201935Z
UID:2687-1655838000-1655843400@winstondowns.org
SUMMARY:WDCA Board Meeting June 2022
DESCRIPTION:The Next WDCA Board meeting will be via Zoom.  To attend\, check your eNews which will arrive about June 18
URL:https://winstondowns.org/event/wdca-board-meeting-june-2022/
LOCATION:Via Zoom\, Denver
CATEGORIES:Neighborhood Wide Meeting,WDCA Board Meetings
ORGANIZER;CN="WDCA":MAILTO:info@winstondowns.org
END:VEVENT
BEGIN:VEVENT
DTSTART;TZID=America/Denver:20211019T190000
DTEND;TZID=America/Denver:20211019T203000
DTSTAMP:20260423T142649
CREATED:20210822T180132Z
LAST-MODIFIED:20210822T180132Z
UID:1734-1634670000-1634675400@winstondowns.org
SUMMARY:WDCA October Board Meeting 2021
DESCRIPTION:Meeting will be held in person in October. Open to all residents.
URL:https://winstondowns.org/event/wdca-october-board-meeting-2021/
LOCATION:BMH-BJ Synagogue\, 560 S Monaco Pkwy - entry in back\, Denver\, CO\, United States
CATEGORIES:WDCA Board Meetings
ORGANIZER;CN="WDCA":MAILTO:info@winstondowns.org
END:VEVENT
BEGIN:VEVENT
DTSTART;TZID=America/Denver:20201117T190000
DTEND;TZID=America/Denver:20201117T203000
DTSTAMP:20260423T142649
CREATED:20200929T191145Z
LAST-MODIFIED:20200929T191145Z
UID:843-1605639600-1605645000@winstondowns.org
SUMMARY:WDCA Board Meeting
DESCRIPTION:
URL:https://winstondowns.org/event/wdca-board-meeting-4/
LOCATION:Via Zoom\, Denver
CATEGORIES:WDCA Board Meetings
ORGANIZER;CN="WDCA":MAILTO:info@winstondowns.org
END:VEVENT
BEGIN:VEVENT
DTSTART;TZID=America/Denver:20201020T190000
DTEND;TZID=America/Denver:20201020T203000
DTSTAMP:20260423T142649
CREATED:20200929T180219Z
LAST-MODIFIED:20201013T013016Z
UID:831-1603220400-1603225800@winstondowns.org
SUMMARY:WDCA Board Meeting-Oct 2020
DESCRIPTION:2020 Elected Board meets to select officers and plan agenda for upcoming year. \nWDCA members look in your email for meeting registration link. Attendance is free\, but on-line security risks require us to have attendees register in advance. Not a member? Join via our secure\, on-line membership form (see Membership link on this website). Email info@winstondowns.org with questions.
URL:https://winstondowns.org/event/wdca-board-meeting-3/
LOCATION:Via Zoom\, Denver
CATEGORIES:WDCA Board Meetings
END:VEVENT
BEGIN:VEVENT
DTSTART;TZID=America/Denver:20200728T190000
DTEND;TZID=America/Denver:20200728T203000
DTSTAMP:20260423T142649
CREATED:20200521T195942Z
LAST-MODIFIED:20200722T151623Z
UID:592-1595962800-1595968200@winstondowns.org
SUMMARY:WDCA Board Meeting via Zoom Click here for details
DESCRIPTION:Meeting rescheduled due to DOTI bike lane meeting conflict. Meetings currently are conducted online via Zoom due to COVID19 restrictions for public meetings. Join the web conference by accessing the following website on your computer\, tablet or smartphone:\nhttps://zoom.us/j/96290234959 \nYou will be prompted to enter the meeting ID: 962-9023-4959 \nYou can also just call into the audio portion of the call – it is free and easy to use. Dial the following number:\n(346) 248 7799 US (Houston) then enter the meeting ID: 962-9023-4959
URL:https://winstondowns.org/event/wdca-board-meeting-via-zoom/
LOCATION:Via Zoom\, Denver
CATEGORIES:WDCA Board Meetings
ORGANIZER;CN="WDCA":MAILTO:info@winstondowns.org
END:VEVENT
END:VCALENDAR