BEGIN:VCALENDAR
VERSION:2.0
PRODID:-//Winston Downs Community Association - ECPv6.15.20//NONSGML v1.0//EN
CALSCALE:GREGORIAN
METHOD:PUBLISH
X-ORIGINAL-URL:https://winstondowns.org
X-WR-CALDESC:Events for Winston Downs Community Association
REFRESH-INTERVAL;VALUE=DURATION:PT1H
X-Robots-Tag:noindex
X-PUBLISHED-TTL:PT1H
BEGIN:VTIMEZONE
TZID:America/Denver
BEGIN:DAYLIGHT
TZOFFSETFROM:-0700
TZOFFSETTO:-0600
TZNAME:MDT
DTSTART:20220313T090000
END:DAYLIGHT
BEGIN:STANDARD
TZOFFSETFROM:-0600
TZOFFSETTO:-0700
TZNAME:MST
DTSTART:20221106T080000
END:STANDARD
BEGIN:DAYLIGHT
TZOFFSETFROM:-0700
TZOFFSETTO:-0600
TZNAME:MDT
DTSTART:20230312T090000
END:DAYLIGHT
BEGIN:STANDARD
TZOFFSETFROM:-0600
TZOFFSETTO:-0700
TZNAME:MST
DTSTART:20231105T080000
END:STANDARD
BEGIN:DAYLIGHT
TZOFFSETFROM:-0700
TZOFFSETTO:-0600
TZNAME:MDT
DTSTART:20240310T090000
END:DAYLIGHT
BEGIN:STANDARD
TZOFFSETFROM:-0600
TZOFFSETTO:-0700
TZNAME:MST
DTSTART:20241103T080000
END:STANDARD
END:VTIMEZONE
BEGIN:VEVENT
DTSTART;TZID=America/Denver:20230419T150000
DTEND;TZID=America/Denver:20230419T180000
DTSTAMP:20260425T221906
CREATED:20230414T010039Z
LAST-MODIFIED:20230414T010039Z
UID:3947-1681916400-1681927200@winstondowns.org
SUMMARY:Near SE Area Plan CPD Review
DESCRIPTION:As you may know\, the Near Southeast Area Plan is heading to Planning Board next week. City sent out some information via email\, Twitter and Nextdoor on the hearing and the plan itself yesterday. See Links below as well as bullet points on how residents can participate for you to share with you networks. \nNear Southeast Area Plan page: www.DenverGov.org/nearsoutheastplan \nNewsletter content: https://conta.cc/41h10D2 \nTwitter post: https://twitter.com/DenverCPD/status/1645536469136838657 \nNextdoor post (will only work for Nextdoor users who live in the plan area): https://nextdoor.com/p/CrkYH2CPZSf9?utm_source=share&extras=MTg4NDU2NjE%3D \nPublic Hearing information: \nPlanning Board Public Hearing\n3 p.m.\, Wednesday\, April 19\, 2023 \nHow to participate: \n\nSpeak in person: Webb Municipal Building\, Room 4F6/4G2\, 201 W. Colfax Ave.\nSpeak virtually: Register via Zoom\nSubmit written comments\nWatch live on Denver’s Channel 8 or Denver8.tv\nGet complete information at DenverGov.org/PlanningBoard
URL:https://winstondowns.org/event/near-se-area-plan-cpd-review/
LOCATION:CO
CATEGORIES:Special Events,Zoning changes in Denver
END:VEVENT
END:VCALENDAR