BEGIN:VCALENDAR
VERSION:2.0
PRODID:-//Winston Downs Community Association - ECPv6.15.20//NONSGML v1.0//EN
CALSCALE:GREGORIAN
METHOD:PUBLISH
X-WR-CALNAME:Winston Downs Community Association
X-ORIGINAL-URL:https://winstondowns.org
X-WR-CALDESC:Events for Winston Downs Community Association
REFRESH-INTERVAL;VALUE=DURATION:PT1H
X-Robots-Tag:noindex
X-PUBLISHED-TTL:PT1H
BEGIN:VTIMEZONE
TZID:America/Denver
BEGIN:DAYLIGHT
TZOFFSETFROM:-0700
TZOFFSETTO:-0600
TZNAME:MDT
DTSTART:20230312T090000
END:DAYLIGHT
BEGIN:STANDARD
TZOFFSETFROM:-0600
TZOFFSETTO:-0700
TZNAME:MST
DTSTART:20231105T080000
END:STANDARD
BEGIN:DAYLIGHT
TZOFFSETFROM:-0700
TZOFFSETTO:-0600
TZNAME:MDT
DTSTART:20240310T090000
END:DAYLIGHT
BEGIN:STANDARD
TZOFFSETFROM:-0600
TZOFFSETTO:-0700
TZNAME:MST
DTSTART:20241103T080000
END:STANDARD
BEGIN:DAYLIGHT
TZOFFSETFROM:-0700
TZOFFSETTO:-0600
TZNAME:MDT
DTSTART:20250309T090000
END:DAYLIGHT
BEGIN:STANDARD
TZOFFSETFROM:-0600
TZOFFSETTO:-0700
TZNAME:MST
DTSTART:20251102T080000
END:STANDARD
END:VTIMEZONE
BEGIN:VEVENT
DTSTART;TZID=America/Denver:20241217T090000
DTEND;TZID=America/Denver:20241217T110000
DTSTAMP:20260425T061743
CREATED:20241130T235054Z
LAST-MODIFIED:20241130T235143Z
UID:6316-1734426000-1734433200@winstondowns.org
SUMMARY:Denver Sustainable Food Policy Council Monthly Meeting
DESCRIPTION:Denver Sustainable Food Policy Council Monthly Meeting\n\n\n\n\n\n\n\n\n\n\n\n\n\n\n\n\n\n\n\n\n\n\n\n\n\n\n\n\n\n\n\n\nJoin us for the Denver Sustainable Food Policy Council monthly meeting \n\nTuesday\, December 17th\, 2024\n9 a.m. – 11 a.m.\nZoom Meeting\nAll meetings are open to the public and include Spanish language interpretation.\n\nLink to Register when meeting is held online\, no need to register for in-person meetings. In person meeting locations will be posted on Slack. \nAll past meeting materials can be found on our website\, or our Slack channel. Please join us on the new SFPC Slack for news\, updates\, and announcements. \nQuestions or comments? Send us an email: denversfpc@gmail.com
URL:https://winstondowns.org/event/denver-sustainable-food-policy-council-monthly-meeting-2/
LOCATION:Via Zoom\, Denver
CATEGORIES:Community Action Day,Denver Area Events
END:VEVENT
BEGIN:VEVENT
DTSTART;TZID=America/Denver:20241217T080000
DTEND;TZID=America/Denver:20241217T170000
DTSTAMP:20260425T061743
CREATED:20241103T003356Z
LAST-MODIFIED:20241103T003356Z
UID:6036-1734422400-1734454800@winstondowns.org
SUMMARY:No WDCA Board in December
DESCRIPTION:Out of respect for the various holidays in December\, the WDCA Board does not hold a meeting. \nWishing happy and safe holidays for all
URL:https://winstondowns.org/event/no-wdca-board-in-december/
CATEGORIES:WDCA Board Meetings
END:VEVENT
BEGIN:VEVENT
DTSTART;TZID=America/Denver:20241210T180000
DTEND;TZID=America/Denver:20241210T190000
DTSTAMP:20260425T061743
CREATED:20241118T214946Z
LAST-MODIFIED:20241118T214950Z
UID:6272-1733853600-1733857200@winstondowns.org
SUMMARY:Highline Canal Trail Improvement Virtual Meeting with Denver Parks
DESCRIPTION:
URL:https://winstondowns.org/event/highline-canal-trail-improvement-virtual-meeting-with-denver-parks/
LOCATION:Via Zoom\, Denver
CATEGORIES:Denver Area Events,Special notices and events
END:VEVENT
BEGIN:VEVENT
DTSTART;TZID=America/Denver:20241210T110000
DTEND;TZID=America/Denver:20241210T123000
DTSTAMP:20260425T061743
CREATED:20241130T234443Z
LAST-MODIFIED:20241130T234443Z
UID:6314-1733828400-1733833800@winstondowns.org
SUMMARY:Healthy Food for Kids Grant Open House (Virtual)
DESCRIPTION: Join Healthy Food for Denver’s Kids during their Virtual Open House! \nGet insights on the application process\, RFP\, and scoring rubric. Ask questions before the submission opens and learn how you can support food access and education for Denver’s youth through the grant program. \n Date: Tuesday\, Dec 10 \n Time: 11 am – 12:30 pm \n Register now: https://bit.ly/hfdkopenhouse\n\n\n\n\n\n\n\n\n\n\n\n\n\n\n\n\n\n\n\nInterested in a print-friendly flier in Spanish and English? Reach out to lauryn.white@denvergov.org!
URL:https://winstondowns.org/event/healthy-food-for-kids-grant-open-house-virtual/
LOCATION:Via Zoom\, Denver
CATEGORIES:Denver Area Events
END:VEVENT
BEGIN:VEVENT
DTSTART;TZID=America/Denver:20241204T080000
DTEND;TZID=America/Denver:20241204T170000
DTSTAMP:20260425T061743
CREATED:20241103T003153Z
LAST-MODIFIED:20241103T003153Z
UID:6034-1733299200-1733331600@winstondowns.org
SUMMARY:Last 2024 community meeting with District 3 Police
DESCRIPTION:Details forthcoming re community meeting
URL:https://winstondowns.org/event/last-2024-community-meeting-with-district-3-police/
END:VEVENT
BEGIN:VEVENT
DTSTART;TZID=America/Denver:20241202T170000
DTEND;TZID=America/Denver:20241202T190000
DTSTAMP:20260425T061743
CREATED:20241106T214707Z
LAST-MODIFIED:20241106T215515Z
UID:6065-1733158800-1733166000@winstondowns.org
SUMMARY:Cookies with the Cops - District 3 Police
DESCRIPTION:December 12th from 5pm to 7pm – Cookies with the Cops –\nDistrict 3 Police Stn.  1625  S. University\n 
URL:https://winstondowns.org/event/cookies-with-the-cops-district-3-police/
LOCATION:District 3 Police\, 1625 S University Blvd\, Denver\, CO\, United States
CATEGORIES:District 3 Police
END:VEVENT
BEGIN:VEVENT
DTSTART;TZID=America/Denver:20241130T080000
DTEND;TZID=America/Denver:20241130T170000
DTSTAMP:20260425T061743
CREATED:20241113T202042Z
LAST-MODIFIED:20241113T202042Z
UID:6234-1732953600-1732986000@winstondowns.org
SUMMARY:Small Business Saturday
DESCRIPTION:Small Business Saturday is November 30! \nAs you begin your holiday shopping\, remember to ‘Shop Local and Shop Small!  Great places to start include the City’s Denver Legacy Business Registry\, Visit Denver’s guide of local boutique retail\, and the Denver Black Pages among so many other local resources. Try something new or support your favorite local business this season. Learn more about Small Business Saturday.
URL:https://winstondowns.org/event/small-business-saturday/
CATEGORIES:Area Exhibitions-Public
END:VEVENT
BEGIN:VEVENT
DTSTART;TZID=America/Denver:20241123T080000
DTEND;TZID=America/Denver:20241222T170000
DTSTAMP:20260425T061743
CREATED:20241113T200031Z
LAST-MODIFIED:20241113T200031Z
UID:6225-1732348800-1734886800@winstondowns.org
SUMMARY:Firehouse Theater Company presents Little Women play
DESCRIPTION:  Firehouse Theater Company\nFirehouse Theater Company presents Little Women starting Nov. 23 – Dec. 22. Purchase tickets here. \n7653 E  First Place (Lowry) at John Hand Theater
URL:https://winstondowns.org/event/firehouse-theater-company-presents-little-women-play/
LOCATION:Firehouse Theater Company\, 7653 E 1st Pl\, Denver\, CO 80230
CATEGORIES:Area Exhibitions-Public
END:VEVENT
BEGIN:VEVENT
DTSTART;TZID=America/Denver:20241122T110000
DTEND;TZID=America/Denver:20241122T130000
DTSTAMP:20260425T061743
CREATED:20241106T213342Z
LAST-MODIFIED:20241106T213359Z
UID:6062-1732273200-1732280400@winstondowns.org
SUMMARY:Crime Prevention Tune Up with DPD
DESCRIPTION:
URL:https://winstondowns.org/event/crime-prevention-tune-up-with-dpd/
LOCATION:District 3 Police\, 1625 S University Blvd\, Denver\, CO\, United States
CATEGORIES:Community Action Day,Community Police Meeting,District 3 Police,Safety & Traffic
END:VEVENT
BEGIN:VEVENT
DTSTART;TZID=America/Denver:20241119T190000
DTEND;TZID=America/Denver:20241119T203000
DTSTAMP:20260425T061743
CREATED:20241014T012329Z
LAST-MODIFIED:20241103T003501Z
UID:5936-1732042800-1732048200@winstondowns.org
SUMMARY:WDCA November Board Meeting
DESCRIPTION:Residents who have signed up for eNews will receive link to attend online meeting. \nIf you want to join meeting\, you must send request to info@winstondowns.org with name\, address and email where you want eNews sent.  We verify that you are a resident of this neighborhood. \n  \n 
URL:https://winstondowns.org/event/wdca-november-board-meeting/
LOCATION:Via Zoom\, Denver
CATEGORIES:WDCA Board Meetings
ORGANIZER;CN="WDCA":MAILTO:info@winstondowns.org
END:VEVENT
BEGIN:VEVENT
DTSTART;TZID=America/Denver:20241119T090000
DTEND;TZID=America/Denver:20241119T110000
DTSTAMP:20260425T061743
CREATED:20241014T005722Z
LAST-MODIFIED:20241014T005722Z
UID:5917-1732006800-1732014000@winstondowns.org
SUMMARY:Denver Sustainable Food Policy Council  Monthly Meeting
DESCRIPTION:Join us for the Denver Sustainable Food Policy Council monthly meeting \n\nTuesday\, November 19th\, 2024\n9 a.m. – 11 a.m.\nZoom Meeting\nAll meetings are open to the public and include Spanish language interpretation.\n\nThere will be no October meeting as the SFPC takes a break to hold their annual retreat. \nLink to Register when meeting is held online\, no need to register for in-person meetings. In person meeting locations will be posted on Slack. \nAll past meeting materials can be found on our website\, or our Slack channel. Please join us on the new SFPC Slack for news\, updates\, and announcements. \nQuestions or comments? Send us an email: denversfpc@gmail.com \n 
URL:https://winstondowns.org/event/denver-sustainable-food-policy-council-monthly-meeting/
LOCATION:Via Zoom\, Denver
CATEGORIES:Denver Area Events,Special notices and events
END:VEVENT
BEGIN:VEVENT
DTSTART;TZID=America/Denver:20241116T100000
DTEND;TZID=America/Denver:20241116T120000
DTSTAMP:20260425T061743
CREATED:20241106T211237Z
LAST-MODIFIED:20241106T233328Z
UID:6055-1731751200-1731758400@winstondowns.org
SUMMARY:Annual DPD Dist 3 Storytime at the Station
DESCRIPTION: Saturday\, November 16th from 10 am to noon – Annual DPD District 3 Storytime at the Station 1625 S University Blvd – \nJoin your District 3 Officers for a free interactive\, gratitude themed storytime event.  \nParents enjoy free coffee from Starbucks\, and for youth – activities\, treats\, meet our DPD Mounted Patrol horses\, and more! \nPlease RSVP to christie.mochoruk@denvergov.org
URL:https://winstondowns.org/event/annual-dpd-dist-3-storytime-at-the-station/
LOCATION:District 3 Police\, 1625 S University Blvd\, Denver\, CO\, United States
CATEGORIES:District 3 Police
END:VEVENT
BEGIN:VEVENT
DTSTART;TZID=America/Denver:20241115T080000
DTEND;TZID=America/Denver:20241115T170000
DTSTAMP:20260425T061743
CREATED:20241021T212626Z
LAST-MODIFIED:20241021T212626Z
UID:5977-1731657600-1731690000@winstondowns.org
SUMMARY:Cherry Creek North District - Design Advisory Board Application Deadline.
DESCRIPTION:Licensed architects residing in the City and County of Denver and retailers from the Cherry Creek North District are encouraged to apply for two openings on the Cherry Creek North Design Advisory Board (CCNDAB). Members play a critical role in ensuring new development meets elevated standards for architectural quality and engagement of the public realm as outlined in the Design Standards and Guidelines for Cherry Creek North. The application deadline is November 15\, 2024. Download call for applications below for complete information and instructions on how to apply. \nAPPLICATION HERE
URL:https://winstondowns.org/event/cherry-creek-north-district-design-advisory-board-application-deadline/
END:VEVENT
BEGIN:VEVENT
DTSTART;TZID=America/Denver:20241106T180000
DTEND;TZID=America/Denver:20241106T180000
DTSTAMP:20260425T061743
CREATED:20241103T002141Z
LAST-MODIFIED:20241103T003026Z
UID:6022-1730916000-1730916000@winstondowns.org
SUMMARY:Community Meeting with District 3 Police Commander Bell
DESCRIPTION: Wednesday\, November 6th at 6:00 pm Community Meeting with Commander Bell (CAB) at the District 3 Station 1625 S. University Blvd.  \nOur guest speakers will be District 3 Clinician Scott Poulton and Outreach Case Coordinator Erica Burmania. Everyone is welcome and encouraged to participate!  Hosted by Commander Bell and our DPD District 3 Law Enforcement Leadership (CAB).  Learn about crime stats and trends that affect our local neighborhoods.  Questions and comments can be asked at the end of this meeting. \n*Our final meeting for the 2024 calendar year will be on Dec. 4th.
URL:https://winstondowns.org/event/community-meeting-with-district-3-police-commander-bell/
LOCATION:District 3 Police\, 1625 S University Blvd\, Denver\, CO\, United States
CATEGORIES:District 3 Police
END:VEVENT
BEGIN:VEVENT
DTSTART;TZID=America/Denver:20241106T100000
DTEND;TZID=America/Denver:20241106T120000
DTSTAMP:20260425T061743
CREATED:20241103T002346Z
LAST-MODIFIED:20241106T233548Z
UID:6024-1730887200-1730894400@winstondowns.org
SUMMARY:Coffee with the Cops
DESCRIPTION:Wednesday\, November 6th from 10am to noon – @ Nixon’s Coffee House 695 W Louisiana Ave
URL:https://winstondowns.org/event/coffee-with-the-cops/
LOCATION:Nixon Coffee House\, 695 E Louisiana\, Denver\, CO
CATEGORIES:District 3 Police
END:VEVENT
BEGIN:VEVENT
DTSTART;TZID=America/Denver:20241106T080000
DTEND;TZID=America/Denver:20241106T143000
DTSTAMP:20260425T061743
CREATED:20241014T011611Z
LAST-MODIFIED:20241014T011611Z
UID:5931-1730880000-1730903400@winstondowns.org
SUMMARY:Housing & Homeless Working Group Open to All
DESCRIPTION:Housing and Homelessness Working Group \n\nDenver City Council has convened a Housing and Homelessness Working Group\, which is meeting regularly for the foreseeable future to explore a variety of issues related to housing stability throughout the city. The Department of Housing Stability\, along with partnering agencies\, are regularly providing informational briefings at these meetings.\n\nA printable flier is available here. \nUpcoming meetings/topics:\nWednesday\, Nov. 6\, 12 p.m.\nExpanding Housing Affordability\, permitting/zoning \nAll meetings are open to the public and are held in the City Council Committee Room\, City and County Bldg\, room 391. Meetings are livestreamed on Denvergov.org and archived videos are available at Denvergov.org/citycouncil.
URL:https://winstondowns.org/event/housing-homeless-working-group-open-to-all/
LOCATION:City & County Building\, 1437 Bannock St\, Denver\, CO
END:VEVENT
BEGIN:VEVENT
DTSTART;TZID=America/Denver:20241031T080000
DTEND;TZID=America/Denver:20241031T170000
DTSTAMP:20260425T061743
CREATED:20241021T212401Z
LAST-MODIFIED:20241021T212401Z
UID:5975-1730361600-1730394000@winstondowns.org
SUMMARY:Deadline for City Board Position -Zoning Board of Adjustment (BOA).
DESCRIPTION:The City and County of Denver’s Mayor’s Office and City Council are seeking applicants to fill a vacancy on the Zoning Board of Adjustment (BOA). The Board of Adjustment hears and decides cases regarding the Denver Zoning Code and Former Chapter 59. It is quasi-judicial\, responsible for conducting formal legal proceedings\, subject to legal standards and court review. The appointed candidate will serve a term effective January 1\, 2025\, through December 31\, 2027. This Board is a weekly\, part-time obligation and is compensated at $7\,500 per year. The vacant spot is for a person with a background in urban planning\, construction\, engineering\, or development. Applications are due by Oct. 31\, 2024. \nFIND INFO AND APPLICATION HERE
URL:https://winstondowns.org/event/deadline-for-city-board-position-zoning-board-of-adjustment-boa/
END:VEVENT
BEGIN:VEVENT
DTSTART;TZID=America/Denver:20241029T173000
DTEND;TZID=America/Denver:20241029T190000
DTSTAMP:20260425T061743
CREATED:20241021T213239Z
LAST-MODIFIED:20241021T213257Z
UID:5982-1730223000-1730228400@winstondowns.org
SUMMARY:Public Update and Conversation Civic Center Next 100
DESCRIPTION:CIVIC CENTER NEXT 100\n\n\n\n\n\n\n\n\n\n\n\n\n\n\n\n\nPublic Update and Conversation October 29\n\n\n\n\n\n\n\n\n\n\n\n\n\n\n\n\n\n\n\n\n\n\n\n\n\n\n\nJoin us for a public update and conversation about the first implementation phases of the Civic Center Next 100 plan with Denver Parks & Recreation (DPR)\, the Civic Center Conservancy\, and the Design Team. Please RSVP to attend and download the meeting flier here. \nTuesday\, October 29\, 2024\n5:30 – 7:00 PM\nFormer Denver Post Building Auditorium| 101 W Colfax\, Denver\, CO 80202\n\n\n\n\n\n\n\n\n\n\n\n\n\n\n\nRSVP
URL:https://winstondowns.org/event/public-update-and-conversation-civic-center-next-100/
LOCATION:Civic Center\, 101 W Colfax Ave\, Denver\, CO\, 80202
END:VEVENT
BEGIN:VEVENT
DTSTART;TZID=America/Denver:20241029T173000
DTEND;TZID=America/Denver:20241029T190000
DTSTAMP:20260425T061743
CREATED:20241014T013609Z
LAST-MODIFIED:20241014T013609Z
UID:5939-1730223000-1730228400@winstondowns.org
SUMMARY:Civic Center Public Update & Conversation
DESCRIPTION:CIVIC CENTER NEXT 100\n\n\n\n\n\n\n\n\n\n\n\n\n\n\n\n\nPublic Update and Conversation October 29\n\n\n\n\n\n\n\n\n\n\n\n\n\n\n\n\n\n\n\n\n\n\n\n\n\n\n\nJoin us for a public update and conversation about the first implementation phases of the Civic Center Next 100 plan with Denver Parks & Recreation (DPR)\, the Civic Center Conservancy\, and the Design Team. Please RSVP to attend\, and download the meeting flier here. \nTuesday\, October 29\, 2024\n5:30 – 7:00 PM\nFormer Denver Post Building Auditorium| 101 W Colfax\, Denver\, CO 80202\n\n\n\n\n\n\n\n\n\n\n\n\n\n\n\nRSVP
URL:https://winstondowns.org/event/civic-center-public-update-conversation/
LOCATION:Civic Center\, 101 W Colfax Ave\, Denver\, CO\, 80202
END:VEVENT
BEGIN:VEVENT
DTSTART;TZID=America/Denver:20241026T110000
DTEND;TZID=America/Denver:20241026T190000
DTSTAMP:20260425T061743
CREATED:20241022T221011Z
LAST-MODIFIED:20241022T221326Z
UID:5991-1729940400-1729969200@winstondowns.org
SUMMARY:Día de los Muertos at Civic Center -
DESCRIPTION:Día de los Muertos Celebration Returns to Civic Center Park Oct. 26\n\nCivic Center Conservancy announces that Día de los Muertos at Civic Center: Remembering our Ancestors through Art\, presented by Denver Botanic Gardens\, will take place on Saturday\, Oct. 26\, 2024.Civic Center Conservancy is proud to announce that Día de los Muertos at Civic Center: Remembering our Ancestors through Art\, presented by Denver Botanic Gardens\, will take place at Civic Center Park on Saturday\, Oct. 26\, 2024 from 11:00 a.m. to 7:00 p.m. This event is free and open to the public who want to honor the memory of loved ones or learn more about this vibrant cultural tradition. \nDenver7 is a proud partner of Día de los Muertos at Civic Center. \nFollowing the vision of Artistic & Cultural Director Cal Duran and Val Najera Ponce\, visitors can experience: \n● Community Ofrendas: Beautifully decorated altars honoring deceased loved ones\, adorned with marigolds\, candles\, photographs\, and offerings of food and drink. \n\n\n 
URL:https://winstondowns.org/event/dia-de-los-muertos-at-civic-center/
LOCATION:Civic Center\, 101 W Colfax Ave\, Denver\, CO\, 80202
CATEGORIES:Area Exhibitions-Public
END:VEVENT
BEGIN:VEVENT
DTSTART;TZID=America/Denver:20241023T120000
DTEND;TZID=America/Denver:20241023T140000
DTSTAMP:20260425T061743
CREATED:20241014T011403Z
LAST-MODIFIED:20241014T011403Z
UID:5929-1729684800-1729692000@winstondowns.org
SUMMARY:Housing and Homelessness Working Group 
DESCRIPTION:Housing and Homelessness Working Group \n\nDenver City Council has convened a Housing and Homelessness Working Group\, which is meeting regularly for the foreseeable future to explore a variety of issues related to housing stability throughout the city. The Department of Housing Stability\, along with partnering agencies\, are regularly providing informational briefings at these meetings.\n\nA printable flier is available here. \nUpcoming meetings/topics:\nWednesday\, Oct. 23\, 12 p.m.\nAffordable homeownership \nWednesday\, Nov. 6\, 12 p.m.\nExpanding Housing Affordability\, permitting/zoning \nAll meetings are open to the public and are held in the City Council Committee Room\, City and County Bldg\, room 391. Meetings are livestreamed on Denvergov.org and archived videos are available at Denvergov.org/citycouncil.
URL:https://winstondowns.org/event/housing-and-homelessness-working-group/
LOCATION:City & County Building\, 1437 Bannock St\, Denver\, CO
CATEGORIES:Community Action Day
END:VEVENT
BEGIN:VEVENT
DTSTART;TZID=America/Denver:20241017T100000
DTEND;TZID=America/Denver:20241017T140000
DTSTAMP:20260425T061743
CREATED:20241011T225415Z
LAST-MODIFIED:20241011T231308Z
UID:5880-1729159200-1729173600@winstondowns.org
SUMMARY:FREE JOB FAIR
DESCRIPTION:FREE! Job Fair –  \nOPEN TO ALL JOB SEEKERS – Entry Level to Professional \n\n\n\n\n\n\n\n\n\n\n\n\n\n\n\n\n\n\n\n\n\n\n\nSHHRP (Society of Hispanic Human Resource Professionals)\, in partnership with MSU Denver\, CCD\, and CU Denver\, is bringing 100s of job opportunities to diverse candidates across Metro Denver. \nAccording to the latest U.S. Census Bureau data\, unemployment rates for Hispanic\, Black\, Indigenous\, and Mixed-Race residents of working age in Denver are 21% – 40% higher than White residents. \nLet’s close the gap between under-represented candidates seeking employment opportunities and Metro Denver’s top employers seeking to expand their recruitment pool with diverse talent. \nEVENT DETAILS\nLooking for a job? Join us for resume review\, networking\, and hundreds of job opportunities from more than 50 of Metro Denver’s top employers. Entry level to professional opportunities across all industries. Everyone welcome! No need to register. \nWhat:  2024 Accelerating Diversity Job Fair\, Honoring Hispanic Heritage Month \nWhen:  Thursday\, October 17\, 2024;   10am – 2pm\nWhere: Tivoli Student Center on the Auraria Campus\, 900 Auraria Parkway
URL:https://winstondowns.org/event/free-job-fair/
LOCATION:Tivoli Student Center -Auraria Campus\, 900 Auraria Pkwy\, Denver
CATEGORIES:Special Events,Special notices and events
END:VEVENT
BEGIN:VEVENT
DTSTART;TZID=America/Denver:20241015T190000
DTEND;TZID=America/Denver:20241015T203000
DTSTAMP:20260425T061743
CREATED:20241006T192404Z
LAST-MODIFIED:20241006T192404Z
UID:5872-1729018800-1729024200@winstondowns.org
SUMMARY:WDCA Board Meeting
DESCRIPTION:Those who have signed up for email with name/address for verification will receive email for Zoom meeting link.
URL:https://winstondowns.org/event/wdca-board-meeting-8/
LOCATION:Via Zoom\, Denver
CATEGORIES:WDCA Board Meetings
END:VEVENT
BEGIN:VEVENT
DTSTART;TZID=America/Denver:20241012T080000
DTEND;TZID=America/Denver:20241012T100000
DTSTAMP:20260425T061743
CREATED:20241011T233219Z
LAST-MODIFIED:20241011T233846Z
UID:5902-1728720000-1728727200@winstondowns.org
SUMMARY:City Wide Trail Clean Up
DESCRIPTION:VOLUNTEERS NEEDED: Citywide Trail Cleanup \nDenver Parks and Recreation invites you to join the first annual citywide trail cleanup project. Volunteers are needed at 11 different locations across Denver to help with general trail cleanup tasks. Visit www.denvergov.org/trails and use the map to find cleanup locations. The first 100 volunteers to sign up will get a 30% off coupon for REI! \nWhen: Saturday\, October 12 | 8:00-10:00 a.m. \nWhere: 11 locations throughout Denver – Sign up!
URL:https://winstondowns.org/event/city-wide-trail-clean-up/
CATEGORIES:Community Action Day
END:VEVENT
BEGIN:VEVENT
DTSTART;TZID=America/Denver:20241010T190000
DTEND;TZID=America/Denver:20241010T203000
DTSTAMP:20260425T061743
CREATED:20241009T223552Z
LAST-MODIFIED:20241009T223807Z
UID:5877-1728586800-1728592200@winstondowns.org
SUMMARY:SPECIAL MEETING RE FORMER WATSON'S LAND
DESCRIPTION:The land at corner  of Quebec/Alameda across from Fairmount Cemetery and formerly known as Watson’s Headstones is the topic. [365 S Quebec St]  Zoning will change via the Near SE Area Plan for this and other parts of Winston Downs. \nEmailed links sent to those who signed up for email notifications.  Only residents may sign up.   info@winstondowns.org is the email to request and you must include your name\, address and email.
URL:https://winstondowns.org/event/special-meeting-re-former-watsons-land/
LOCATION:Via Zoom\, Denver
CATEGORIES:HOT TOPICS,Neighborhood Wide Meeting,Special notices and events
ORGANIZER;CN="WDCA":MAILTO:info@winstondowns.org
END:VEVENT
BEGIN:VEVENT
DTSTART;TZID=America/Denver:20241006T090000
DTEND;TZID=America/Denver:20241006T120000
DTSTAMP:20260425T061743
CREATED:20241006T192157Z
LAST-MODIFIED:20241006T192228Z
UID:5869-1728205200-1728216000@winstondowns.org
SUMMARY:Clean Up Day in Winston Downs
DESCRIPTION:Meet at Expo/Quebec. we have bags. Bring gloves
URL:https://winstondowns.org/event/clean-up-day-in-winston-downs/
CATEGORIES:Community Action Day
END:VEVENT
BEGIN:VEVENT
DTSTART;TZID=America/Denver:20240924T180000
DTEND;TZID=America/Denver:20240924T193000
DTSTAMP:20260425T061743
CREATED:20240724T221113Z
LAST-MODIFIED:20240724T221113Z
UID:5750-1727200800-1727206200@winstondowns.org
SUMMARY:E. Exposition from Quebec to Leetsdale Study - All invited to attend via Zoom September 24
DESCRIPTION:Exposition Traffic Study Virtual Recommendations Meeting in September \nThe recommendations meeting has been rescheduled for September 24\, 2024 at 6:00 P.M. via Zoom due to the Department of Transportation and Infrastructure needing to review additional traffic calming improvements to the corridor. \nOur office is working with the Winston Downs Community Association\, residents\, and Denver’s Department of Transportation and Infrastructure to improve Exposition Avenue from Leetsdale Drive to Quebec Street including the Monaco Parkway & Leetsdale Drive intersection. This study will identify opportunities to calm traffic on Exposition Avenue and to improve crossings for people walking and biking. \nYou are invited to a Zoom webinar. When: Sept 24\, 2024 06:00 PM Mountain Time (US and Canada) \nTopic: Exposition Traffic Study Community Meeting Register in advance for this webinar: https://bit.ly/ExpositionStudyAug
URL:https://winstondowns.org/event/e-exposition-from-quebec-to-leetsdale-study-all-invited-to-attend-via-zoom-september-24/
CATEGORIES:Safety & Traffic,Special notices and events
END:VEVENT
BEGIN:VEVENT
DTSTART;TZID=America/Denver:20240921T173000
DTEND;TZID=America/Denver:20240921T200000
DTSTAMP:20260425T061743
CREATED:20240719T211308Z
LAST-MODIFIED:20240719T211308Z
UID:5716-1726939800-1726948800@winstondowns.org
SUMMARY:Sprouts City Farms Annual Fundraiser
DESCRIPTION:Join Sprout City Farms on September 21st\, 2024 from 5:30-8pm\, for our annual farm-to-table fundraising event at Mountair Park Community Farm. The night will be full of farm-fresh passed appetizers\, drinks from local partners\, farm tours\, a silent auction and booze pull\, live music\, and community!  Buy tickets here today! \nWe hope to see you all at the farm soon!
URL:https://winstondowns.org/event/sprouts-city-farms-annual-fundraiser/
LOCATION:Mountair Park\, 5620 W 14th Ave\,\, Lakewood\,\, CO\, 80214
CATEGORIES:Special notices and events
END:VEVENT
BEGIN:VEVENT
DTSTART;TZID=America/Denver:20240917T190000
DTEND;TZID=America/Denver:20240917T203000
DTSTAMP:20260425T061743
CREATED:20240813T005804Z
LAST-MODIFIED:20240813T005804Z
UID:5849-1726599600-1726605000@winstondowns.org
SUMMARY:WDCA Board Meeting September
DESCRIPTION:Via Zoom. All residents may attend.  Please see eNews for Zoom links WDCA Board meeting is the third Tuesday of each month. Unless advised differently\, board meetings are via Zoom. Residents who sign up for eNews will be invited. Residents must advise address and name for verification when signing up for eNews.
URL:https://winstondowns.org/event/wdca-board-meeting-september/
LOCATION:Via Zoom\, Denver
CATEGORIES:WDCA Board Meetings
END:VEVENT
BEGIN:VEVENT
DTSTART;TZID=America/Denver:20240914T030000
DTEND;TZID=America/Denver:20240914T180000
DTSTAMP:20260425T061743
CREATED:20240805T200435Z
LAST-MODIFIED:20240805T200435Z
UID:5791-1726282800-1726336800@winstondowns.org
SUMMARY:AOA Seniors’ Prom (Ages 55+)
DESCRIPTION:AOA Seniors’ Prom (Ages 55+) \nDetails: Did you have a bad high school prom? You might relate to local Denverite\, Donna Smith. Read about her experience with DPR’s Seniors’ Prom and register for a magical night of your own. \nWhen: September 14 | 3:00 – 6:00 PM \nWhere: City Park Pavilion 2001 Steele St\, 80205
URL:https://winstondowns.org/event/aoa-seniors-prom-ages-55/
LOCATION:City Park Denver\, 2001 Colorado Blvd.\, Denver\, CO\, United States
CATEGORIES:Special notices and events
END:VEVENT
END:VCALENDAR