BEGIN:VCALENDAR
VERSION:2.0
PRODID:-//Winston Downs Community Association - ECPv6.15.20//NONSGML v1.0//EN
CALSCALE:GREGORIAN
METHOD:PUBLISH
X-WR-CALNAME:Winston Downs Community Association
X-ORIGINAL-URL:https://winstondowns.org
X-WR-CALDESC:Events for Winston Downs Community Association
REFRESH-INTERVAL;VALUE=DURATION:PT1H
X-Robots-Tag:noindex
X-PUBLISHED-TTL:PT1H
BEGIN:VTIMEZONE
TZID:America/Denver
BEGIN:DAYLIGHT
TZOFFSETFROM:-0700
TZOFFSETTO:-0600
TZNAME:MDT
DTSTART:20220313T090000
END:DAYLIGHT
BEGIN:STANDARD
TZOFFSETFROM:-0600
TZOFFSETTO:-0700
TZNAME:MST
DTSTART:20221106T080000
END:STANDARD
BEGIN:DAYLIGHT
TZOFFSETFROM:-0700
TZOFFSETTO:-0600
TZNAME:MDT
DTSTART:20230312T090000
END:DAYLIGHT
BEGIN:STANDARD
TZOFFSETFROM:-0600
TZOFFSETTO:-0700
TZNAME:MST
DTSTART:20231105T080000
END:STANDARD
BEGIN:DAYLIGHT
TZOFFSETFROM:-0700
TZOFFSETTO:-0600
TZNAME:MDT
DTSTART:20240310T090000
END:DAYLIGHT
BEGIN:STANDARD
TZOFFSETFROM:-0600
TZOFFSETTO:-0700
TZNAME:MST
DTSTART:20241103T080000
END:STANDARD
END:VTIMEZONE
BEGIN:VEVENT
DTSTART;TZID=America/Denver:20230926T170000
DTEND;TZID=America/Denver:20230926T193000
DTSTAMP:20260425T091602
CREATED:20230629T214538Z
LAST-MODIFIED:20230629T214538Z
UID:4222-1695747600-1695756600@winstondowns.org
SUMMARY:Cook Park Neighborhood Nights
DESCRIPTION:Cook Park Neighborhood Nights: Cook Park Neighborhood Nights are back! This event takes place every 4th Tuesday from May-September at the Cook Park parking lot located at 7100 Cherry Creek S. Drive. From 5:00 – 7:30 p.m. In partnership with Councilman Paul Kashmann’s Office and Hand to Mouth Events\, the CPNA will host a community gathering and food truck rally at Cook Park. Each night will highlight Denver’s tastiest food vendors. For more info click here. \nAddress: \n\n\n7100 Cherry Creek S Dr
URL:https://winstondowns.org/event/cook-park-neighborhood-nights-3/
CATEGORIES:Denver Area Events
END:VEVENT
BEGIN:VEVENT
DTSTART;TZID=America/Denver:20230923T110000
DTEND;TZID=America/Denver:20230923T150000
DTSTAMP:20260425T091602
CREATED:20230912T225738Z
LAST-MODIFIED:20230912T225738Z
UID:4365-1695466800-1695481200@winstondowns.org
SUMMARY:DOTI DAY at Ruby Hill Park
DESCRIPTION:
URL:https://winstondowns.org/event/doti-day-at-ruby-hill-park/
END:VEVENT
BEGIN:VEVENT
DTSTART;TZID=America/Denver:20230923T110000
DTEND;TZID=America/Denver:20230923T140000
DTSTAMP:20260425T091602
CREATED:20230921T194619Z
LAST-MODIFIED:20230921T194619Z
UID:4416-1695466800-1695477600@winstondowns.org
SUMMARY:Join Northeast Denver Discovery Day
DESCRIPTION:Saturday\, September 23 \n11:00 a.m. to 2:00 p.m. \nBlair-Caldwell African American Research Library (2401 Welton St) \nLearn about surprising and important discoveries made by the Discover Denver citywide building survey\, and come ready to share your own knowledge. We invite you to bring old photographs\, documents\, and memories of Northeast Denver (or\, other parts of the city!) to share with the project. The information you provide will help Discover Denver highlight the places that are important to the city’s residents and that make Northeast Denver special. Project staff and volunteers will be on site to scan documents and capture stories. \nDiscover Denver\, a partnership between Historic Denver\, Inc. and the City and County of Denver\, is a building survey focused on identifying buildings throughout the city that are historically\, architecturally\, or culturally significant. Learn more at discoverdenver.co.
URL:https://winstondowns.org/event/join-northeast-denver-discovery-day/
CATEGORIES:Denver Area Events
END:VEVENT
BEGIN:VEVENT
DTSTART;TZID=America/Denver:20230923T080000
DTEND;TZID=America/Denver:20230923T170000
DTSTAMP:20260425T091602
CREATED:20230921T192057Z
LAST-MODIFIED:20230921T192206Z
UID:4402-1695456000-1695488400@winstondowns.org
SUMMARY:Denver Police Basketball Camp
DESCRIPTION:Denver Police Basketball Camp/Hoops For Safety at MSU – Saturday September 23rd – Free event for youth ages 9 to 13. Registration required\, limited space. 
URL:https://winstondowns.org/event/denver-police-basketball-camp/
CATEGORIES:Denver Area Events
END:VEVENT
BEGIN:VEVENT
DTSTART;TZID=America/Denver:20230921T080000
DTEND;TZID=America/Denver:20230921T170000
DTSTAMP:20260425T091602
CREATED:20230921T200933Z
LAST-MODIFIED:20230921T200933Z
UID:4427-1695283200-1695315600@winstondowns.org
SUMMARY:Denver Green School Gardens Updates
DESCRIPTION:Chicken Coop Update! \n  \n \n  \nOur wonderful intern\, Maryann has finished painting the coop and Char has added a door!  We now have two of our chickens living at DGS!  Come check them out soon. \n  \nField Update \nOur signs are looking better than ever thanks to DGS students and community members who helped to translate and paint the signs!  Come take a walk around the farm to see the beautiful artwork. \n  \n \n  \nFarm Festival Potluck on September 6 \nOn September 6th we will have a Fall Festival Potluck at Denver Green School Community Farm!  We would like to invite CSA members\, their families\, DGS students\, staff\, families and community members to this event!  If you would like to bring a dish please use this form to sign up!  Please bring a bowl/plate\, cup\, and utensils to create less waste.  We will have extras if anyone forgets to bring their own!  We can’t wait to see you next week! Sign up for a dish! \n  \nSprout City Farms Farm Stand Now OPEN! \nOur farm stand at Denver Green School is now open!  Normally we are located in front of the school near Virginia Street\, but due to some changes in DGS dismissal\, traffic patterns\, and school hours changes we will now be located near the farm\, on the blacktop.  We will run 4-6pm every Wednesday until the end of October.  We take all forms of payment including EBT and SNAP benefits.  With your EBT card you get produce for 50% off thanks to Double Up Food Bucks.  We also have community members selling baked goods\, jams\, art\, and more!  Come see us each Wednesday and bring a friend! \n  \n \n \n  \nFood Access and Resources \n  \nDGS Food Pantry Update \nThe DGS Food Pantry will be closed during the month of August and will open Fridays starting September 8th. To find another food pantry near you please use the Pantry Locator from Food Bank of the Rockies. \n  \nDenver Farm Stands \nHere is a list of local farm stands and markets you can find this summer in the Denver Metro area sorted by day of the week! \n  \nDenver Farmers Markets
URL:https://winstondowns.org/event/denver-green-school-gardens-updates/
END:VEVENT
BEGIN:VEVENT
DTSTART;TZID=America/Denver:20230913T180000
DTEND;TZID=America/Denver:20230913T193000
DTSTAMP:20260425T091602
CREATED:20230814T224150Z
LAST-MODIFIED:20230814T224150Z
UID:4355-1694628000-1694633400@winstondowns.org
SUMMARY:Community Meeting with Commander Aragon (CAB)
DESCRIPTION:Wednesday\, September 13th at 6pm  at the District 3 Station 1625 S. University Blvd. Everyone is welcome and encouraged to participate! Community Resource Officers are available at 5pm to answer your questions prior to the meeting.  Hosted by Commander Aragon and our DPD District 3 Law Enforcement Leadership (CAB).  Learn about crime stats and trends that affect our local neighborhoods.  Questions and comments can be asked at the end of this meeting.  (2023 CAB schedule attached)  \n\nDenver Police Crisis Negotiations – How It Works (1 minute video) https://fb.watch/mibqVA1S0Y/?mibextid=Nif5oz \nCrime Map on Denvergov.org  \nhttps://www.arcgis.com/apps/dashboards/17dcc405627742ad8f48988310b5a4d0 (see attached tutorial instructions) 
URL:https://winstondowns.org/event/community-meeting-with-commander-aragon-cab/
LOCATION:District 3 Police\, 1625 S University Blvd\, Denver\, CO\, United States
CATEGORIES:Community Police Meeting
END:VEVENT
BEGIN:VEVENT
DTSTART;TZID=America/Denver:20230910T173000
DTEND;TZID=America/Denver:20230910T193000
DTSTAMP:20260425T091602
CREATED:20230505T042609Z
LAST-MODIFIED:20230505T042609Z
UID:4096-1694367000-1694374200@winstondowns.org
SUMMARY:Sunday Social Out Front
DESCRIPTION:Hosted by Helene & Paul Orsulak – see door hanger for location \nOpen to Winston Downs residents
URL:https://winstondowns.org/event/sunday-social-out-front-2/
CATEGORIES:Special Events
END:VEVENT
BEGIN:VEVENT
DTSTART;TZID=America/Denver:20230906T163000
DTEND;TZID=America/Denver:20230906T183000
DTSTAMP:20260425T091602
CREATED:20230811T180257Z
LAST-MODIFIED:20230811T180257Z
UID:4338-1694017800-1694025000@winstondowns.org
SUMMARY:Open House re Cherry Creek / Speer Blvd Vision Study
DESCRIPTION:On Wednesday\, September 6\, the City and County of Denver will be hosting a joint open house with the Auraria Higher Education Center for interested community members to learn more about the Cherry Creek and Speer Blvd. Vision Study\, along with the 2023 Auraria Campus Master Plan project. Mark your calendars! \nJoint Open House with Auraria Higher Education Center \nCherry Creek and Speer Boulevard Vision and Reconfiguration Feasibility Study & 2023 Auraria Campus Master Plan \n4:30 – 6:30 p.m.\, Wednesday\, September 6 \nCU Denver Building\, 2nd Floor \n1250 14th Street\, Denver \n\n\n\n\n\n\n\n\n\n\n\n\n\n\n\n\n\n\n\n\n\n\n\n\n\n\n\n\n\n\n\n\n\n\n\n\n\n\n\n\n\n\nVisit the project webpage for the latest updates
URL:https://winstondowns.org/event/open-house-re-cherry-creek-speer-blvd-vision-study/
CATEGORIES:Denver Area Events
END:VEVENT
BEGIN:VEVENT
DTSTART;TZID=America/Denver:20230827T130000
DTEND;TZID=America/Denver:20230827T170000
DTSTAMP:20260425T091602
CREATED:20230626T230627Z
LAST-MODIFIED:20230626T230627Z
UID:4178-1693141200-1693155600@winstondowns.org
SUMMARY:Winston Downs Block Party
DESCRIPTION:Winston Downs Community Association Sponsored Block Party for Winston Downs Residents \nSunday August 27 \nDetails soon and firm times to be announced
URL:https://winstondowns.org/event/winston-downs-block-party-2/
CATEGORIES:Neighborhood Wide Meeting
END:VEVENT
BEGIN:VEVENT
DTSTART;TZID=America/Denver:20230822T170000
DTEND;TZID=America/Denver:20230822T193000
DTSTAMP:20260425T091602
CREATED:20230629T214439Z
LAST-MODIFIED:20230629T214439Z
UID:4220-1692723600-1692732600@winstondowns.org
SUMMARY:Cook Park Neighborhood Nights
DESCRIPTION:Cook Park Neighborhood Nights: Cook Park Neighborhood Nights are back! This event takes place every 4th Tuesday from May-September at the Cook Park parking lot located at 7100 Cherry Creek S. Drive. From 5:00 – 7:30 p.m. In partnership with Councilman Paul Kashmann’s Office and Hand to Mouth Events\, the CPNA will host a community gathering and food truck rally at Cook Park. Each night will highlight Denver’s tastiest food vendors. For more info click here. \nAddress: \n\n\n7100 Cherry Creek S Dr
URL:https://winstondowns.org/event/cook-park-neighborhood-nights-2/
CATEGORIES:Denver Area Events
END:VEVENT
BEGIN:VEVENT
DTSTART;TZID=America/Denver:20230816T173000
DTEND;TZID=America/Denver:20230816T210000
DTSTAMP:20260425T091602
CREATED:20230629T213650Z
LAST-MODIFIED:20230629T213650Z
UID:4212-1692207000-1692219600@winstondowns.org
SUMMARY:Free Days Denver Museum of Nature & Science
DESCRIPTION:Free days and nights at the Denver Museum of Nature & Science: Visit the Denver Museum of Nature & Science for free  Tuesday\, August 16 (night). You can purchase tickets here.  2001 Colorado Blvd\, Denver\, CO 80205  Evening 530p-9p
URL:https://winstondowns.org/event/free-days-denver-museum-of-nature-science/
CATEGORIES:Denver Area Events
END:VEVENT
BEGIN:VEVENT
DTSTART;TZID=America/Denver:20230815T090000
DTEND;TZID=America/Denver:20230815T190000
DTSTAMP:20260425T091602
CREATED:20230629T214053Z
LAST-MODIFIED:20230629T214053Z
UID:4216-1692090000-1692126000@winstondowns.org
SUMMARY:Free Days Denver Botanic Gardens
DESCRIPTION:Free days at the Denver Botanic Gardens: Visit the Denver Botanic Gardens on \, Wednesday July 5 and Tuesday\, August 15 for free. Click here to get tickets. \nAddress: 1007 York St\, Denver\, CO 80206   open 9am
URL:https://winstondowns.org/event/free-days-denver-botanic-gardens/
CATEGORIES:Denver Area Events
END:VEVENT
BEGIN:VEVENT
DTSTART;TZID=America/Denver:20230815T080000
DTEND;TZID=America/Denver:20230815T090000
DTSTAMP:20260425T091602
CREATED:20230811T180928Z
LAST-MODIFIED:20230811T180928Z
UID:4342-1692086400-1692090000@winstondowns.org
SUMMARY:Discussion: How can Denver avoid becoming the next San Francisco in terms of Homelessness
DESCRIPTION:HOMELESSNESS: How can Denver avoid becoming the next San Francisco?\nMetro Denver’s homeless population has been growing in the last few years\, jumping by 32% in 2023. Tom Wolf\, a nationally renowned recovery advocate who once roamed the streets of San Francisco as a homeless person\, argues that his city’s policies have failed – but that the governments of metro Denver can still avoid those mistakes.\nSo\, what are his solutions? Join The Denver Gazette in a conversation with Mr. Wolf – it’s free to attend. Send in your questions in advance. \nTune in. It’s free to attend. Zoom registration required\n\n\n\n\n\n\n\n\n\n\n\n\n\n\nTuesday\, Aug. 15\, 2023 \n8-9 a.m. MST \nZoom Meeting \n\n\n\nRegister for Zoom
URL:https://winstondowns.org/event/discussion-how-can-denver-avoid-becoming-the-next-san-francisco-in-terms-of-homelessness/
LOCATION:Via Zoom\, Denver
CATEGORIES:HOT TOPICS
END:VEVENT
BEGIN:VEVENT
DTSTART;TZID=America/Denver:20230808T180000
DTEND;TZID=America/Denver:20230808T200000
DTSTAMP:20260425T091602
CREATED:20230801T211904Z
LAST-MODIFIED:20230801T215422Z
UID:4291-1691517600-1691524800@winstondowns.org
SUMMARY:KIDS IN THE CROSSFIRE: A TOWN HALL Exploring Solutions to Youth Violence in Denver
DESCRIPTION:Why have the violent deaths of 12- to 18-year- olds suddenly become “normalized” in metro Denver? Why has gunfire with young people pulling the trigger become so constant that at times it has seemed omnipresent in parts of the city? Join the Denver Gazette and 9News\, as they ask questions and the panel offers answers. The discussion follows a Denver Gazette series about youth violence in metro Denver\, what the community is doing about it and how children are navigating life in the era of school shootings and gang violence. It’s free to attend.\n\n\n\n\n\n\n\nRegistration online – see bottom of page \nThere is also a Zoom registration listed on the link above.
URL:https://winstondowns.org/event/kids-in-the-crossfire-a-town-hall-exploring-solutions-to-youth-violence-in-denver/
LOCATION:Anschutz Med Ctr Auditorium\, 13121 E. 17th Ave\, Aurora\, CO
CATEGORIES:HOT TOPICS,Special notices and events,Youth Events
END:VEVENT
BEGIN:VEVENT
DTSTART;TZID=America/Denver:20230808T153000
DTEND;TZID=America/Denver:20230808T173000
DTSTAMP:20260425T091602
CREATED:20230803T213140Z
LAST-MODIFIED:20230803T213205Z
UID:4314-1691508600-1691515800@winstondowns.org
SUMMARY:Mayor Johnston Town Hall re Homelessness Plan- GWHS
DESCRIPTION:Council District 5 in the Hilltop\, Washington Virginia Vale\, Windsor\, and Surrounding Neighborhoods \nThis Wednesday\, August 9th with doors opening at 3:30PM\, Town Hall starting at 4:00PM. \nLocation – George Washington High School 655 S Monaco St Pkwy\, Denver\, CO 80224
URL:https://winstondowns.org/event/mayor-johnston-town-hall-re-homelessness-plan-gwhs/
LOCATION:George Washington High School\, Monaco at E. Expo\, Denver\, CO
END:VEVENT
BEGIN:VEVENT
DTSTART;TZID=America/Denver:20230808T080000
DTEND;TZID=America/Denver:20230808T170000
DTSTAMP:20260425T091602
CREATED:20230629T213501Z
LAST-MODIFIED:20230629T213501Z
UID:4210-1691481600-1691514000@winstondowns.org
SUMMARY:Free Days Denver Art Museum
DESCRIPTION:Kids get free admission everyday to the Denver Art Museum: All visitors ages 18 and under receive free general admission to the Denver Art Museum every single day! The program extends free general admission to school field trips and other youth group visits\, too. The program also helps support a transportation fund for school bus trips and enables the museum to offer $5 youth pricing for all ticketed exhibitions. Learn more about the program at here. \nFree days at the Denver Art Museum: Visit the Denver Art Museum  Tuesday\, August 8 to enjoy free general admission. Free Day tickets may be reserved in advance here or at the front desk upon entry.
URL:https://winstondowns.org/event/free-days-denver-art-museum-3/
LOCATION:Denver Art Museum\, 100 W 14th Ave Pkwy\,\, Denver\, 80204\, United States
CATEGORIES:Denver Area Events
END:VEVENT
BEGIN:VEVENT
DTSTART;TZID=America/Denver:20230806T173000
DTEND;TZID=America/Denver:20230806T193000
DTSTAMP:20260425T091602
CREATED:20230505T042455Z
LAST-MODIFIED:20230716T220531Z
UID:4094-1691343000-1691350200@winstondowns.org
SUMMARY:Sunday Social - Out Front
DESCRIPTION:Marcus & Heather Oginsky will host \nSee ENews and event signage placed a few days before for address
URL:https://winstondowns.org/event/sunday-social-out-front/
CATEGORIES:Special Events
END:VEVENT
BEGIN:VEVENT
DTSTART;TZID=America/Denver:20230805T093000
DTEND;TZID=America/Denver:20230805T110000
DTSTAMP:20260425T091602
CREATED:20230803T213337Z
LAST-MODIFIED:20230803T213337Z
UID:4317-1691227800-1691233200@winstondowns.org
SUMMARY:Mayor Johnston Homelessness Town Hall - Montclair Rec Ctr
DESCRIPTION:Town Hall in District 5 set for this Saturday at the Montclair Recreational Center at 9:30AM
URL:https://winstondowns.org/event/mayor-johnston-homelessness-town-hall-montclair-rec-ctr/
LOCATION:Montclair Rec Center\, 729 Ulster Way\, Denver\, CO\, 80230\, United States
CATEGORIES:HOT TOPICS
END:VEVENT
BEGIN:VEVENT
DTSTART;TZID=America/Denver:20230803T173000
DTEND;TZID=America/Denver:20230803T200000
DTSTAMP:20260425T091602
CREATED:20230801T211548Z
LAST-MODIFIED:20230801T211548Z
UID:4288-1691083800-1691092800@winstondowns.org
SUMMARY:Homeless Town Hall
DESCRIPTION:Please join Mayor Johnston and members of City Council for this series of homelessness town halls\, where you can learn more about our plans to bring 1000 unsheltered individuals indoors by the end of the year\, give your feedback\, and learn how you can get involved. Additional Meetings in District 6 will be announced soon! \nWHO: Mayor Mike Johnston and Councilmember Paul Kashmann (District 6) \nWHERE: Most Precious Blood Catholic Parish\n2200 S Harrison St. I Denver\, CO 80210 \nWHEN: Thursday\, August 3rd at 6:00PM (Doors open at 5:30PM) \nFor more info: denvergov.org/house1000 \nIf you need a sign language interpreter or CART services\, please contact DeafHHservices@denvergov.org or calling (720) 913-8487 at least a three (3) business days’ notice. It is your right to request oral or written Language Assistance Services in your primary language if needed. Please contact languageaccessprogram@denvergov.org and these services will be provided to you free of charge. For other disability accommodations\, please contact the event sponsor at tran.wills@denvergov.org.
URL:https://winstondowns.org/event/homeless-town-hall/
LOCATION:Catholic Parish\, 2200 S Harrison St\, Denver\, CO\, 80210
CATEGORIES:Denver Area Events
END:VEVENT
BEGIN:VEVENT
DTSTART;TZID=America/Denver:20230730T080000
DTEND;TZID=America/Denver:20230730T170000
DTSTAMP:20260425T091602
CREATED:20230629T213402Z
LAST-MODIFIED:20230629T213402Z
UID:4208-1690704000-1690736400@winstondowns.org
SUMMARY:Free days Denver Art Museum
DESCRIPTION:Kids get free admission everyday to the Denver Art Museum: All visitors ages 18 and under receive free general admission to the Denver Art Museum every single day! The program extends free general admission to school field trips and other youth group visits\, too. The program also helps support a transportation fund for school bus trips and enables the museum to offer $5 youth pricing for all ticketed exhibitions. Learn more about the program at here. \nFree days at the Denver Art Museum: Visit the Denver Art Museum ; Sunday\, July 30; and Tuesday\, August 8 to enjoy free general admission. Free Day tickets may be reserved in advance here or at the front desk upon entry. \n 
URL:https://winstondowns.org/event/free-days-denver-art-museum-2/
LOCATION:Denver Art Museum\, 100 W 14th Ave Pkwy\,\, Denver\, 80204\, United States
CATEGORIES:Denver Area Events
END:VEVENT
BEGIN:VEVENT
DTSTART;TZID=America/Denver:20230727T180000
DTEND;TZID=America/Denver:20230727T213000
DTSTAMP:20260425T091602
CREATED:20230711T161202Z
LAST-MODIFIED:20230711T161356Z
UID:4231-1690480800-1690493400@winstondowns.org
SUMMARY:Community Crime Strategy Meeting with Chief Thomas & Commander Aragon
DESCRIPTION:THURSDAY\, JULY 27TH AT 6:00PM AT DU NEWMAN CENTER 2344 ILIFF AVE – –  \nInteractive and informative meeting to enhance safety plans in southeast Denver.  Philosophy: We can’t public safety without PUBLIC participation. \nEveryone is welcome and encouraged to attend.  This meeting includes Winston Downs into the area discussed. \nFree parking in Newman Center garage .   \n 
URL:https://winstondowns.org/event/community-crime-strategy-meeting-with-chief-thomas-commander-aragon/
LOCATION:Newman Center at DU\, 2344 ILIFF AVE\, Denver\, CO
CATEGORIES:Community Police Meeting
END:VEVENT
BEGIN:VEVENT
DTSTART;TZID=America/Denver:20230725T170000
DTEND;TZID=America/Denver:20230725T193000
DTSTAMP:20260425T091602
CREATED:20230629T214338Z
LAST-MODIFIED:20230629T214338Z
UID:4218-1690304400-1690313400@winstondowns.org
SUMMARY:Cook Park Neighborhood Nights
DESCRIPTION:Cook Park Neighborhood Nights: Cook Park Neighborhood Nights are back! This event takes place every 4th Tuesday from May-September at the Cook Park parking lot located at 7100 Cherry Creek S. Drive. From 5:00 – 7:30 p.m. In partnership with Councilman Paul Kashmann’s Office and Hand to Mouth Events\, the CPNA will host a community gathering and food truck rally at Cook Park. Each night will highlight Denver’s tastiest food vendors. For more info click here. \nAddress: \n\n\n7100 Cherry Creek S Dr
URL:https://winstondowns.org/event/cook-park-neighborhood-nights/
END:VEVENT
BEGIN:VEVENT
DTSTART;VALUE=DATE:20230723
DTEND;VALUE=DATE:20230724
DTSTAMP:20260425T091602
CREATED:20230716T220748Z
LAST-MODIFIED:20230716T220748Z
UID:4240-1690070400-1690156799@winstondowns.org
SUMMARY:Neighborhood Wide Yard Sale
DESCRIPTION:Saturday July 22 and Sunday July 23 \n830am to 230pm \nAll residents may participate. WDCA will publicize via social media
URL:https://winstondowns.org/event/neighborhood-wide-yard-sale/
END:VEVENT
BEGIN:VEVENT
DTSTART;VALUE=DATE:20230722
DTEND;VALUE=DATE:20230723
DTSTAMP:20260425T091602
CREATED:20230626T230426Z
LAST-MODIFIED:20230716T220703Z
UID:4176-1689984000-1690070399@winstondowns.org
SUMMARY:Winston Downs Neighborhood Wide Yard Sale
DESCRIPTION:Saturday July 22 and Sunday July 23 \n830am to 230pm \nAll residents may participate. WDCA will publicize via social media \n 
URL:https://winstondowns.org/event/winston-downs-neighborhood-wide-yard-sale/
CATEGORIES:Neighborhood Wide Meeting
END:VEVENT
BEGIN:VEVENT
DTSTART;TZID=America/Denver:20230721T173000
DTEND;TZID=America/Denver:20230721T193000
DTSTAMP:20260425T091602
CREATED:20230505T042143Z
LAST-MODIFIED:20230505T042143Z
UID:4089-1689960600-1689967800@winstondowns.org
SUMMARY:Friday out Front Social
DESCRIPTION:Hosted by Jan & Paul Hoskins.  See door hanger and eNews for location \n 
URL:https://winstondowns.org/event/friday-out-front-social/
LOCATION:Hoskins Home
CATEGORIES:Special Events
END:VEVENT
BEGIN:VEVENT
DTSTART;TZID=America/Denver:20230715T083000
DTEND;TZID=America/Denver:20230715T160000
DTSTAMP:20260425T091602
CREATED:20230531T181224Z
LAST-MODIFIED:20230531T182000Z
UID:4154-1689409800-1689436800@winstondowns.org
SUMMARY:Denver Police Youth Academy
DESCRIPTION:Saturday\, July 15th – Denver Police Youth Academy – Youth will learn about Denver Police’s SWAT\, Bomb Unit\, Police K-9’s\, Self Defense\, Motorcycles\, Mounted Patrol\, Police Helicopter\, Driving Education\, Crime Scene Investigation. \nContact; Zeonnia.Parrish@denvergov.org  or 720.913.6215 \n  \nMore info HERE
URL:https://winstondowns.org/event/denver-police-youth-academy/
LOCATION:Denver Police Academy\, 2155 N. Akron Way\, Denver\, CO
CATEGORIES:Special notices and events,Youth Events
END:VEVENT
BEGIN:VEVENT
DTSTART;TZID=America/Denver:20230711T080000
DTEND;TZID=America/Denver:20230711T170000
DTSTAMP:20260425T091602
CREATED:20230629T213202Z
LAST-MODIFIED:20230629T213202Z
UID:4205-1689062400-1689094800@winstondowns.org
SUMMARY:FREE DAYS - Denver Art Museum
DESCRIPTION:Kids get free admission everyday to the Denver Art Museum: All visitors ages 18 and under receive free general admission to the Denver Art Museum every single day! The program extends free general admission to school field trips and other youth group visits\, too. The program also helps support a transportation fund for school bus trips and enables the museum to offer $5 youth pricing for all ticketed exhibitions. Learn more about the program at here. \nFree days at the Denver Art Museum: Visit the Denver Art Museum Tuesday\, July 11; Sunday\, July 30; and Tuesday\, August 8 to enjoy free general admission. Free Day tickets may be reserved in advance here or at the front desk upon entry.
URL:https://winstondowns.org/event/free-days-denver-art-museum/
LOCATION:Denver Art Museum\, 100 W 14th Ave Pkwy\,\, Denver\, 80204\, United States
CATEGORIES:Denver Area Events
END:VEVENT
BEGIN:VEVENT
DTSTART;TZID=America/Denver:20230705T090000
DTEND;TZID=America/Denver:20230705T190000
DTSTAMP:20260425T091602
CREATED:20230629T214012Z
LAST-MODIFIED:20230629T214012Z
UID:4214-1688547600-1688583600@winstondowns.org
SUMMARY:Free Days at Botanic Gardens
DESCRIPTION:Free days at the Denver Botanic Gardens: Visit the Denver Botanic Gardens on \, Wednesday July 5 and Tuesday\, August 15 for free. Click here to get tickets. \nAddress: 1007 York St\, Denver\, CO 80206   open 9am
URL:https://winstondowns.org/event/free-days-at-botanic-gardens/
CATEGORIES:Denver Area Events
END:VEVENT
BEGIN:VEVENT
DTSTART;VALUE=DATE:20230628
DTEND;VALUE=DATE:20230629
DTSTAMP:20260425T091602
CREATED:20230417T000428Z
LAST-MODIFIED:20230417T000428Z
UID:3976-1687910400-1687996799@winstondowns.org
SUMMARY:Bike to Work Day
DESCRIPTION:Bike to Work Day is Wednesday June 28th\no Encouragement campaign to get folks out on their bikes\no Bike anywhere day for those who telecommute\, don’t work Wednesdays\no Encourage residents to ride\, pledge to ride and can win prizes\, gives indication of\npotential for bike commuters\no Host Bike to Work Day station\, register here https://biketoworkday.co/organizer
URL:https://winstondowns.org/event/bike-to-work-day/
CATEGORIES:Denver Area Events
END:VEVENT
BEGIN:VEVENT
DTSTART;TZID=America/Denver:20230623T173000
DTEND;TZID=America/Denver:20230623T193000
DTSTAMP:20260425T091602
CREATED:20230505T042314Z
LAST-MODIFIED:20230505T042314Z
UID:4092-1687541400-1687548600@winstondowns.org
SUMMARY:Friday out Front Social
DESCRIPTION:Hosted by Dave & Jean County – see door hanger for location \nFor Winston Downs residents
URL:https://winstondowns.org/event/friday-out-front-social-2/
CATEGORIES:Special Events
END:VEVENT
END:VCALENDAR